Catalyst-Model-DBIC-Schema v0.65 Perl 5 v5.31.9 amd64-netbsd
- Status
- Pass
- From
- Carlos Guevara
- Dist
-
Catalyst-Model-DBIC-Schema v0.65
- Platform
- Perl 5 v5.31.9 amd64-netbsd
- Date
- 2020-02-14 07:12:05
- ID
- 4e7066e2-4ef9-11ea-a4fb-d3be5c7f7fcd
This distribution has been tested as part of the CPAN Testers
project, supporting the Perl programming language. See
http://wiki.cpantesters.org/ for more information or email
questions to cpan-testers-discuss@perl.org
--
Dear Gareth Kirwan,
This is a computer-generated report for Catalyst-Model-DBIC-Schema-0.65
on perl 5.31.9, created by CPAN-Reporter-1.2018.
Thank you for uploading your work to CPAN. Congratulations!
All tests were successful.
Sections of this report:
* Tester comments
* Program output
* Prerequisites
* Environment and other context
------------------------------
TESTER COMMENTS
------------------------------
Additional comments from tester:
none provided
------------------------------
PROGRAM OUTPUT
------------------------------
Output from '/usr/bin/make test':
PERL_DL_NONLAZY=1 "/home/cpan/bin/perl-blead/bin/perl5.31.9" "-MExtUtils::Command::MM" "-MTest::Harness" "-e" "undef *Test::Harness::Switches; test_harness(0, 'inc', 'blib/lib', 'blib/arch')" t/01use.t t/02pod.t t/05testapp.t t/06c3_issues.t t/07connect_info.t t/08helper.t t/09schema_options.t t/10literal_sql_through_accessor.t
t/01use.t ........................... ok
t/02pod.t ........................... skipped: set TEST_POD to enable this test
t/05testapp.t ....................... skipped: Enable this optional test with $ENV{C_M_DBIC_SCHEMA_TESTAPP}
t/06c3_issues.t ..................... ok
t/07connect_info.t .................. ok
t/08helper.t ........................ skipped: Test requires module 'Catalyst::Helper' but it's not found
t/09schema_options.t ................ ok
t/10literal_sql_through_accessor.t .. ok
All tests successful.
Files=8, Tests=25, 7 wallclock secs ( 0.05 usr 0.04 sys + 5.68 cusr 1.25 csys = 7.02 CPU)
Result: PASS
------------------------------
PREREQUISITES
------------------------------
Prerequisite modules loaded:
requires:
Module Need Have
--------------------------------------- -------- --------
Carp::Clan 0 6.08
Catalyst::Component::InstancePerContext 0 0.001001
Catalyst::Runtime 5.80005 5.90126
CatalystX::Component::Traits 0.14 0.19
DBD::SQLite 0 1.64
DBIx::Class 0.08114 0.082841
DBIx::Class::Schema::Loader 0.04005 0.07049
Hash::Merge 0 0.300
List::MoreUtils 0 0.428
Module::Runtime 0.012 0.016
Moose 1.12 2.2012
MooseX::MarkAsMethods 0.13 0.15
MooseX::NonMoose 0.16 0.26
MooseX::Types 0 0.50
MooseX::Types::LoadableClass 0.009 0.015
namespace::autoclean 0.09 0.29
namespace::clean 0 0.27
perl 5.008001 5.031009
Storable 0 3.19
Test::Exception 0 0.43
Test::More 0.94 1.302171
Test::Requires 0 0.10
Tie::IxHash 0 1.23
Try::Tiny 0 0.30
build_requires:
Module Need Have
--------------------------------------- -------- --------
DBD::SQLite 0 1.64
ExtUtils::MakeMaker 6.59 7.44
Storable 0 3.19
Test::Exception 0 0.43
Test::More 0.94 1.302171
Test::Requires 0 0.10
configure_requires:
Module Need Have
--------------------------------------- -------- --------
ExtUtils::MakeMaker 6.59 7.44
------------------------------
ENVIRONMENT AND OTHER CONTEXT
------------------------------
Environment variables:
LC_ALL = C
NONINTERACTIVE_TESTING = 1
PATH = /home/cpan/bin/perl-blead/bin:/home/cpan/bin:/home/cpan/bin:/bin:/sbin:/usr/bin:/usr/sbin:/usr/X11R7/bin:/usr/pkg/bin:/usr/pkg/sbin:/usr/games:/usr/local/bin:/usr/local/sbin
PERL5LIB =
PERL5OPT =
PERL5_CPANPLUS_IS_RUNNING = 7380
PERL5_CPAN_IS_RUNNING = 7380
PERL_MM_USE_DEFAULT = 1
PERL_USE_UNSAFE_INC = 1
PERL_VERSION = blead
SHELL = /usr/pkg/bin/bash
TERM = screen
TMPDIR = /home/cpan/tmp
Perl special variables (and OS-specific diagnostics, for MSWin32):
$^X = /home/cpan/bin/perl-blead/bin/perl5.31.9
$UID/$EUID = 1001 / 1001
$GID = 100 100
$EGID = 100 100
Perl module toolchain versions installed:
Module Have
------------------- --------
CPAN 2.27
CPAN::Meta 2.150010
Cwd 3.78
ExtUtils::CBuilder 0.280234
ExtUtils::Command 7.44
ExtUtils::Install 2.14
ExtUtils::MakeMaker 7.44
ExtUtils::Manifest 1.72
ExtUtils::ParseXS 3.40
File::Spec 3.78
JSON 4.02
JSON::PP 4.04
Module::Build 0.4231
Module::Signature n/a
Parse::CPAN::Meta 2.150010
Test::Harness 3.42
Test::More 1.302171
YAML 1.30
YAML::Syck 1.32
version 0.9924
--
Summary of my perl5 (revision 5 version 31 subversion 9) configuration:
Commit id: 9258297b8309a1921f7c04b987d51e57a2509fc7
Platform:
osname=netbsd
osvers=8.1
archname=amd64-netbsd
uname='netbsd cjg-netbsd8 8.1 netbsd 8.1 (generic) #0: fri may 31 08:43:59 utc 2019 mkrepro@mkrepro.netbsd.org:usrsrcsysarchamd64compilegeneric amd64 '
config_args='-des -Dprefix=~/bin/perl-blead -Dscriptdir=~/bin/perl-blead/bin -Dusedevel -Duse64bitall'
hint=recommended
useposix=true
d_sigaction=define
useithreads=undef
usemultiplicity=undef
use64bitint=define
use64bitall=define
uselongdouble=undef
usemymalloc=n
default_inc_excludes_dot=define
bincompat5005=undef
Compiler:
cc='cc'
ccflags ='-fwrapv -fno-strict-aliasing -pipe -fstack-protector-strong -I/usr/pkg/include -D_FORTIFY_SOURCE=2'
optimize='-O'
cppflags='-fwrapv -fno-strict-aliasing -pipe -fstack-protector-strong -I/usr/pkg/include'
ccversion=''
gccversion='5.5.0'
gccosandvers=''
intsize=4
longsize=8
ptrsize=8
doublesize=8
byteorder=12345678
doublekind=3
d_longlong=define
longlongsize=8
d_longdbl=define
longdblsize=16
longdblkind=3
ivtype='long'
ivsize=8
nvtype='double'
nvsize=8
Off_t='off_t'
lseeksize=8
alignbytes=8
prototype=define
Linker and Libraries:
ld='cc'
ldflags =' -Wl,-rpath,/usr/pkg/lib -Wl,-rpath,/usr/local/lib -fstack-protector-strong -L/usr/pkg/lib'
libpth=/usr/include/gcc-5 /usr/lib /usr/pkg/lib /lib
libs=-lpthread -lm -lcrypt -lutil -lc -lposix
perllibs=-lpthread -lm -lcrypt -lutil -lc -lposix
libc=/lib/libc.so
so=so
useshrplib=false
libperl=libperl.a
gnulibc_version=''
Dynamic Linking:
dlsrc=dl_dlopen.xs
dlext=so
d_dlsymun=undef
ccdlflags='-Wl,-E '
cccdlflags='-DPIC -fPIC '
lddlflags='-shared -L/usr/pkg/lib -fstack-protector-strong'
Characteristics of this binary (from libperl):
Compile-time options:
HAS_TIMES
PERLIO_LAYERS
PERL_COPY_ON_WRITE
PERL_DONT_CREATE_GVSV
PERL_MALLOC_WRAP
PERL_OP_PARENT
PERL_PRESERVE_IVUV
PERL_USE_DEVEL
USE_64_BIT_ALL
USE_64_BIT_INT
USE_LARGE_FILES
USE_LOCALE
USE_LOCALE_COLLATE
USE_LOCALE_CTYPE
USE_LOCALE_NUMERIC
USE_LOCALE_TIME
USE_PERLIO
USE_PERL_ATOF
Built under netbsd
Compiled at Feb 13 2020 18:41:48
%ENV:
PERL5LIB=""
PERL5OPT=""
PERL5_CPANPLUS_IS_RUNNING="7380"
PERL5_CPAN_IS_RUNNING="7380"
PERL_MM_USE_DEFAULT="1"
PERL_USE_UNSAFE_INC="1"
PERL_VERSION="blead"
@INC:
/home/cpan/bin/perl-blead/lib/site_perl/5.31.9/amd64-netbsd
/home/cpan/bin/perl-blead/lib/site_perl/5.31.9
/home/cpan/bin/perl-blead/lib/5.31.9/amd64-netbsd
/home/cpan/bin/perl-blead/lib/5.31.9
.