Starman v0.4017 Perl 5 v5.18.1 amd64-freebsd-thread-multi

Status
Pass
From
Chris Williams (BINGOS)
Dist
Starman v0.4017
Platform
Perl 5 v5.18.1 amd64-freebsd-thread-multi
Date
2024-04-04 07:52:38
ID
4e77c584-f258-11ee-98b0-b3c3213a625c
This distribution has been tested as part of the CPAN Testers
project, supporting the Perl programming language.  See
http://wiki.cpantesters.org/ for more information or email
questions to cpan-testers-discuss@perl.org


--

Dear Tatsuhiko Miyagawa,

This is a computer-generated error report created automatically by
CPANPLUS, version 0.9914. Testers personal comments may appear
at the end of this report.


Thank you for uploading your work to CPAN.  Congratulations!
All tests were successful.

TEST RESULTS:

Below is the error stack from stage 'make test':

t/00_compile.t ........... ok
t/author-pod-syntax.t .... skipped: these tests are for testing by the author
2024/04/04-08:50:14 Starman::Server (type Net::Server::PreFork) starting! pid(66942)
Binding to TCP port 52341 on host 127.0.0.1 with IPv4
Setting gid to "1002 1002 1002"
2024/04/04-08:50:14 Server closing!
t/chunked_req.t .......... ok
t/chunked_termination.t .. ok
2024/04/04-08:50:15 Starman::Server (type Net::Server::PreFork) starting! pid(66950)
Binding to TCP port 52351 on host 127.0.0.1 with IPv4
Setting gid to "1002 1002 1002"
2024/04/04-08:50:15 Server closing!
t/chunked_zero_length.t .. ok
2024/04/04-08:50:16 Starman::Server (type Net::Server::PreFork) starting! pid(66957)
Binding to TCP port 52361 on host 127.0.0.1 with IPv4
Setting gid to "1002 1002 1002"
2024/04/04-08:50:16 Server closing!
t/early-hints.t .......... ok
2024/04/04-08:50:16 Starman::Server (type Net::Server::PreFork) starting! pid(66964)
Binding to TCP port 52369 on host 127.0.0.1 with IPv4
Setting gid to "1002 1002 1002"
2024/04/04-08:50:17 Server closing!
t/eintr.t ................ ok
2024/04/04-08:50:18 Starman::Server (type Net::Server::PreFork) starting! pid(66972)
Binding to TCP port 52376 on host 127.0.0.1 with IPv4
Setting gid to "1002 1002 1002"
2024/04/04-08:50:18 Server closing!
t/expect.t ............... ok
2024/04/04-08:50:18 Starman::Server (type Net::Server::PreFork) starting! pid(66979)
Binding to TCP port 52384 on host 127.0.0.1 with IPv4
Setting gid to "1002 1002 1002"
2024/04/04-08:50:19 Server closing!
2024/04/04-08:50:19 Starman::Server (type Net::Server::PreFork) starting! pid(66985)
Binding to TCP port 52416 on host 127.0.0.1 with IPv4
Setting gid to "1002 1002 1002"
2024/04/04-08:50:19 Server closing!
t/harakiri.t ............. ok
2024/04/04-08:50:20 Starman::Server (type Net::Server::PreFork) starting! pid(67015)
Binding to TCP port 52447 on host 127.0.0.1 with IPv4
Setting gid to "1002 1002 1002"
2024/04/04-08:50:20 Server closing!
t/lf_only_request.t ...... ok
2024/04/04-08:50:20 Starman::Server (type Net::Server::PreFork) starting! pid(67022)
Binding to TCP port 52457 on host 127.0.0.1 with IPv4
Setting gid to "1002 1002 1002"
2024/04/04-08:50:20 Server closing!
t/no_chunked_head.t ...... ok
t/release-findbin.t ...... skipped: these tests are for release candidate testing
t/release-rand.t ......... skipped: these tests are for release candidate testing
2024/04/04-08:50:21 Starman::Server (type Net::Server::PreFork) starting! pid(67031)
Binding to TCP port 52466 on host 127.0.0.1 with IPv4
Setting gid to "1002 1002 1002"
2024/04/04-08:50:21 Server closing!
t/single_zero.t .......... ok
t/ssl.t .................. skipped: Test requires module 'LWP::Protocol::https' but it's not found
t/ssl_largebody.t ........ skipped: Test requires module 'LWP::Protocol::https' but it's not found
2024/04/04-08:50:22 Starman::Server (type Net::Server::PreFork) starting! pid(67040)
Binding to TCP port 52475 on host 127.0.0.1 with IPv4
Setting gid to "1002 1002 1002"
2024/04/04-08:50:24 Server closing!
t/suite.t ................ ok
All tests successful.
Files=17, Tests=121, 12 wallclock secs ( 0.08 usr  0.10 sys +  4.05 cusr  2.74 csys =  6.98 CPU)
Result: PASS


PREREQUISITES:

Here is a list of prerequisites you specified and versions we
managed to load:

	  Module Name                        Have     Want
	  Data::Dump                         1.25        0
	  HTTP::Date                         6.06        0
	  HTTP::Parser::XS                   0.17        0
	  HTTP::Status                       6.45        0
	  LWP::UserAgent                     6.77        0
	  Net::Server                       2.014    2.007
	  Plack                            1.0051   0.9971
	  Test::More                     1.302198        0
	  Test::Requires                     0.11        0
	  Test::TCP                          2.22     2.00
	  parent                            0.225        0

Perl module toolchain versions installed:
	Module Name                        Have
	CPANPLUS                         0.9914
	CPANPLUS::Dist::Build              0.90
	Cwd                                3.75
	ExtUtils::CBuilder             0.280236
	ExtUtils::Command                  7.70
	ExtUtils::Install                  2.22
	ExtUtils::MakeMaker                7.70
	ExtUtils::Manifest                 1.75
	ExtUtils::ParseXS                  3.51
	File::Spec                         3.75
	Module::Build                    0.4234
	Pod::Parser                        1.60
	Pod::Simple                        3.28
	Test2                          1.302198
	Test::Harness                      3.48
	Test::More                     1.302198
	version                          0.9930

******************************** NOTE ********************************
The comments above are created mechanically, possibly without manual
checking by the sender.  As there are many people performing automatic
tests on each upload to CPAN, it is likely that you will receive
identical messages about the same problem.

If you believe that the message is mistaken, please reply to the first
one with correction and/or additional informations, and do not take
it personally.  We appreciate your patience. :)
**********************************************************************

Additional comments:


This report was machine-generated by CPANPLUS::Dist::YACSmoke 1.08.
Powered by minismokebox version 0.68

CPANPLUS is prefering Build.PL

------------------------------
ENVIRONMENT AND OTHER CONTEXT
------------------------------

Environment variables:

    AUTOMATED_TESTING = 1
    NONINTERACTIVE_TESTING = 1
    PATH = /usr/home/cpan/pit/thr/conf/perl-5.18.1/.cpanplus/5.18.1/build/aytIs2HEDv/Starman-0.4017/blib/script:/sbin:/bin:/usr/sbin:/usr/bin:/usr/local/sbin:/usr/local/bin:/home/cpan/bin
    PERL5LIB = /usr/home/cpan/pit/jail/lUBGnZpSrs/lib/perl5:/usr/home/cpan/pit/thr/conf/perl-5.18.1/.cpanplus/5.18.1/build/aytIs2HEDv/Starman-0.4017/blib/lib:/usr/home/cpan/pit/thr/conf/perl-5.18.1/.cpanplus/5.18.1/build/aytIs2HEDv/Starman-0.4017/blib/arch
    PERL5_CPANPLUS_IS_RUNNING = 56437
    PERL5_CPANPLUS_IS_VERSION = 0.9914
    PERL5_MINISMOKEBOX = 0.68
    PERL5_YACSMOKE_BASE = /usr/home/cpan/pit/thr/conf/perl-5.18.1
    PERL_EXTUTILS_AUTOINSTALL = --defaultdeps
    PERL_LOCAL_LIB_ROOT = /usr/home/cpan/pit/jail/lUBGnZpSrs
    PERL_MB_OPT = --install_base "/usr/home/cpan/pit/jail/lUBGnZpSrs"
    PERL_MM_OPT = INSTALL_BASE=/usr/home/cpan/pit/jail/lUBGnZpSrs
    PERL_MM_USE_DEFAULT = 1
    PERL_USE_UNSAFE_INC = 1
    SHELL = /usr/local/bin/bash
    TERM = screen

Perl special variables (and OS-specific diagnostics, for MSWin32):

    Perl: $^X = /usr/home/cpan/pit/thr/perl-5.18.1/bin/perl5.18.1
    UID:  $<  = 1002
    EUID: $>  = 1002
    GID:  $(  = 1002 1002
    EGID: $)  = 1002 1002


-------------------------------


--

Summary of my perl5 (revision 5 version 18 subversion 1) configuration:
   
  Platform:
    osname=freebsd, osvers=12.4-release-p1, archname=amd64-freebsd-thread-multi
    uname='freebsd fforc 12.4-release-p1 freebsd 12.4-release-p1 generic amd64 '
    config_args='-des -Dprefix=/usr/home/cpan/pit/thr/perl-5.18.1 -Dusethreads'
    hint=recommended, useposix=true, d_sigaction=define
    useithreads=define, usemultiplicity=define
    useperlio=define, d_sfio=undef, uselargefiles=define, usesocks=undef
    use64bitint=define, use64bitall=define, uselongdouble=undef
    usemymalloc=n, bincompat5005=undef
  Compiler:
    cc='cc', ccflags ='-DHAS_FPSETMASK -DHAS_FLOATINGPOINT_H -fno-strict-aliasing -pipe -fstack-protector -I/usr/local/include',
    optimize='-O2',
    cppflags='-DHAS_FPSETMASK -DHAS_FLOATINGPOINT_H -fno-strict-aliasing -pipe -fstack-protector -I/usr/local/include'
    ccversion='', gccversion='FreeBSD Clang 13.0.0 (git@github.com:llvm/llvm-project.git llvmorg-13.0.0-0-gd7b669b3a303)', gccosandvers=''
    intsize=4, longsize=8, ptrsize=8, doublesize=8, byteorder=12345678
    d_longlong=define, longlongsize=8, d_longdbl=define, longdblsize=16
    ivtype='long', ivsize=8, nvtype='double', nvsize=8, Off_t='off_t', lseeksize=8
    alignbytes=8, prototype=define
  Linker and Libraries:
    ld='cc', ldflags ='-pthread -Wl,-E  -fstack-protector -L/usr/local/lib'
    libpth=/usr/lib /usr/local/lib
    libs=-lgdbm -ldl -lm -lcrypt -lutil
    perllibs=-ldl -lm -lcrypt -lutil
    libc=, so=so, useshrplib=false, libperl=libperl.a
    gnulibc_version=''
  Dynamic Linking:
    dlsrc=dl_dlopen.xs, dlext=so, d_dlsymun=undef, ccdlflags=' '
    cccdlflags='-DPIC -fPIC', lddlflags='-shared  -L/usr/local/lib -fstack-protector'


Characteristics of this binary (from libperl): 
  Compile-time options: HAS_TIMES MULTIPLICITY PERLIO_LAYERS
                        PERL_DONT_CREATE_GVSV
                        PERL_HASH_FUNC_ONE_AT_A_TIME_HARD
                        PERL_IMPLICIT_CONTEXT PERL_MALLOC_WRAP
                        PERL_PRESERVE_IVUV PERL_SAWAMPERSAND USE_64_BIT_ALL
                        USE_64_BIT_INT USE_ITHREADS USE_LARGE_FILES
                        USE_LOCALE USE_LOCALE_COLLATE USE_LOCALE_CTYPE
                        USE_LOCALE_NUMERIC USE_PERLIO USE_PERL_ATOF
                        USE_REENTRANT_API
  Locally applied patches:
	Devel::PatchPerl 2.08
  Built under freebsd
  Compiled at Mar 30 2023 21:20:48
  %ENV:
    PERL5LIB="/usr/home/cpan/pit/jail/lUBGnZpSrs/lib/perl5:/usr/home/cpan/pit/thr/conf/perl-5.18.1/.cpanplus/5.18.1/build/aytIs2HEDv/Starman-0.4017/blib/lib:/usr/home/cpan/pit/thr/conf/perl-5.18.1/.cpanplus/5.18.1/build/aytIs2HEDv/Starman-0.4017/blib/arch"
    PERL5_CPANPLUS_IS_RUNNING="56437"
    PERL5_CPANPLUS_IS_VERSION="0.9914"
    PERL5_MINISMOKEBOX="0.68"
    PERL5_YACSMOKE_BASE="/usr/home/cpan/pit/thr/conf/perl-5.18.1"
    PERL_EXTUTILS_AUTOINSTALL="--defaultdeps"
    PERL_LOCAL_LIB_ROOT="/usr/home/cpan/pit/jail/lUBGnZpSrs"
    PERL_MB_OPT="--install_base "/usr/home/cpan/pit/jail/lUBGnZpSrs""
    PERL_MM_OPT="INSTALL_BASE=/usr/home/cpan/pit/jail/lUBGnZpSrs"
    PERL_MM_USE_DEFAULT="1"
    PERL_USE_UNSAFE_INC="1"
  @INC:
    /usr/home/cpan/pit/jail/lUBGnZpSrs/lib/perl5/5.18.1/amd64-freebsd-thread-multi
    /usr/home/cpan/pit/jail/lUBGnZpSrs/lib/perl5/5.18.1
    /usr/home/cpan/pit/jail/lUBGnZpSrs/lib/perl5/amd64-freebsd-thread-multi
    /usr/home/cpan/pit/jail/lUBGnZpSrs/lib/perl5
    /usr/home/cpan/pit/thr/conf/perl-5.18.1/.cpanplus/5.18.1/build/aytIs2HEDv/Starman-0.4017/blib/lib
    /usr/home/cpan/pit/thr/conf/perl-5.18.1/.cpanplus/5.18.1/build/aytIs2HEDv/Starman-0.4017/blib/arch
    /usr/home/cpan/pit/thr/perl-5.18.1/lib/site_perl/5.18.1/amd64-freebsd-thread-multi
    /usr/home/cpan/pit/thr/perl-5.18.1/lib/site_perl/5.18.1
    /usr/home/cpan/pit/thr/perl-5.18.1/lib/5.18.1/amd64-freebsd-thread-multi
    /usr/home/cpan/pit/thr/perl-5.18.1/lib/5.18.1
    .