Report for Web-Simple-0.032

Back
From: metabase:user:314402c4-2aae-11df-837a-5e0a49663a4f
Subject: PASS Web-Simple-0.032 v5.25.8 FreeBSD
Date: 2017-01-24T07:11:20Z

This distribution has been tested as part of the CPAN Testers
project, supporting the Perl programming language.  See
http://wiki.cpantesters.org/ for more information or email
questions to cpan-testers-discuss@perl.org


--
Dear Matt S Trout,

This is a computer-generated report for Web-Simple-0.032
on perl 5.25.8, created by CPAN-Reporter-1.2018.

Thank you for uploading your work to CPAN.  Congratulations!
All tests were successful.

Sections of this report:

    * Tester comments
    * Program output
    * Prerequisites
    * Environment and other context

------------------------------
TESTER COMMENTS
------------------------------

Additional comments from tester:

none provided

------------------------------
PROGRAM OUTPUT
------------------------------

Output from '/usr/bin/make test':

PERL_DL_NONLAZY=1 "/usr/perl5.25.8p/bin/perl5.25.8" "-MExtUtils::Command::MM" "-MTest::Harness" "-e" "undef *Test::Harness::Switches; test_harness(0, 'blib/lib', 'blib/arch')" t/*.t
t/bloggery.t ................. ok
t/css_declare.t .............. ok
t/dispatch_misc.t ............ ok
t/dispatch_parser.t .......... ok
t/env.t ...................... ok
t/leak.t ..................... skipped: No Devel::Cycle
t/match-home.t ............... ok
t/param_parser.t ............. ok
t/post.t ..................... ok
t/predicate_objects.t ........ ok
t/request_mode_heuristics.t .. ok
t/response-filter.t .......... ok
t/role.t ..................... ok
t/stream_test.t .............. skipped: No HTTP::Request::AsCGI
t/sub-dispatch-args.t ........ ok
t/sub-dispatch-env.t ......... ok
t/tags.t ..................... ok
t/test-request-basic-auth.t .. ok
t/underscore.t ............... ok
t/wd-http-methods.t .......... ok
All tests successful.
Files=20, Tests=336,  2 wallclock secs ( 0.01 usr  0.07 sys +  0.22 cusr  1.51 csys =  1.80 CPU)
Result: PASS

------------------------------
PREREQUISITES
------------------------------

Prerequisite modules loaded:

requires:

    Module                  Need     Have    
    ----------------------- -------- --------
    Encode                  0        2.88    
    Exporter                5.57     5.72    
    HTTP::Body              1.22     1.22    
    Moo                     0.009014 2.003000
    perl                    5.006    5.025008
    Plack                   0.9968   1.0042  
    Scalar::Util            0        1.46_02 
    strictures              1        2.000003
    Syntax::Keyword::Gather 1.001    1.003001
    warnings::illegalproto  0        0.001003

build_requires:

    Module                  Need     Have    
    ----------------------- -------- --------
    Data::Dumper::Concise   2.020    2.022   
    Test::More              0.88     1.302073

configure_requires:

    Module                  Need     Have    
    ----------------------- -------- --------
    ExtUtils::MakeMaker     0        7.24    


------------------------------
ENVIRONMENT AND OTHER CONTEXT
------------------------------

Environment variables:

    LC_ALL = de_DE.ISO8859-1
    PATH = /usr/local/bin:/usr/bin:/bin:/usr/local/sbin:/usr/sbin:/sbin:/home/cpansand/bin/freebsd10.3:/home/cpansand/bin/sh:/home/cpansand/bin:/usr/games:/home/cpansand/devel:/home/eserte/src/srezic-misc/scripts
    PERL5LIB = /home/cpansand/.cpan/build/2017012406/warnings-illegalproto-0.001003-1/blib/arch:/home/cpansand/.cpan/build/2017012406/warnings-illegalproto-0.001003-1/blib/lib:/home/cpansand/.cpan/build/2017012406/Syntax-Keyword-Gather-1.003001-1/blib/arch:/home/cpansand/.cpan/build/2017012406/Syntax-Keyword-Gather-1.003001-1/blib/lib:/home/cpansand/.cpan/build/2017012406/HTTP-Body-1.22-1/blib/arch:/home/cpansand/.cpan/build/2017012406/HTTP-Body-1.22-1/blib/lib
    PERL5OPT = 
    PERL5_CPANPLUS_IS_RUNNING = 42979
    PERL5_CPAN_IS_RUNNING = 42979
    PERL5_CPAN_IS_RUNNING_IN_RECURSION = 40125,42979
    PERLDOC = -MPod::Perldoc::ToTextOverstrike
    PERL_BATCH = yes
    PERL_CANARY_STABILITY_NOPROMPT = 1
    PERL_CPAN_REPORTER_CONFIG = /var/tmp/cpansmoker-1023/2017012406/cpanreporter_000_config.ini
    PERL_EXTUTILS_AUTOINSTALL = --defaultdeps
    SHELL = /usr/local/bin/zsh
    TERM = screen
    TMPDIR = /var/tmp/cpansmoker-1023/2017012406

Perl special variables (and OS-specific diagnostics, for MSWin32):

    $^X = /usr/perl5.25.8p/bin/perl5.25.8
    $UID/$EUID = 1023 / 1023
    $GID = 1023 1023
    $EGID = 1023 1023

Perl module toolchain versions installed:

    Module              Have      
    ------------------- ----------
    CPAN                2.14_01   
    CPAN::Meta          2.150010  
    Cwd                 3.66      
    ExtUtils::CBuilder  0.280225  
    ExtUtils::Command   7.24      
    ExtUtils::Install   2.04      
    ExtUtils::MakeMaker 7.24      
    ExtUtils::Manifest  1.70      
    ExtUtils::ParseXS   3.33      
    File::Spec          3.66      
    JSON                2.90      
    JSON::PP            2.27400_02
    Module::Build       0.4220    
    Module::Signature   n/a       
    Parse::CPAN::Meta   2.150010  
    Test::Harness       3.36_01   
    Test::More          1.302073  
    YAML                1.20      
    YAML::Syck          1.29      
    version             0.9917    


--

Summary of my perl5 (revision 5 version 25 subversion 8) configuration:
   
  Platform:
    osname=freebsd
    osvers=10.1-release
    archname=amd64-freebsd
    uname='freebsd cvrsnica-freebsd-101.herceg.de 10.1-release freebsd 10.1-release #0 r274401: tue nov 11 21:02:49 utc 2014 root@releng1.nyi.freebsd.org:usrobjusrsrcsysgeneric amd64 '
    config_args='-ds -e -Dprefix=/usr/perl5.25.8p -Dusedevel -Dusemallocwrap=no -Dcf_email=srezic@cpan.org -Doptimize=-O2 -pipe'
    hint=recommended
    useposix=true
    d_sigaction=define
    useithreads=undef
    usemultiplicity=undef
    use64bitint=define
    use64bitall=define
    uselongdouble=undef
    usemymalloc=n
    bincompat5005=undef
  Compiler:
    cc='cc'
    ccflags ='-DHAS_FPSETMASK -DHAS_FLOATINGPOINT_H -fno-strict-aliasing -pipe -fstack-protector -I/usr/local/include -D_FORTIFY_SOURCE=2'
    optimize='-O2 -pipe'
    cppflags='-DHAS_FPSETMASK -DHAS_FLOATINGPOINT_H -fno-strict-aliasing -pipe -fstack-protector -I/usr/local/include'
    ccversion=''
    gccversion='4.2.1 Compatible FreeBSD Clang 3.4.1 (tags/RELEASE_34/dot1-final 208032)'
    gccosandvers=''
    intsize=4
    longsize=8
    ptrsize=8
    doublesize=8
    byteorder=12345678
    doublekind=3
    d_longlong=define
    longlongsize=8
    d_longdbl=define
    longdblsize=16
    longdblkind=3
    ivtype='long'
    ivsize=8
    nvtype='double'
    nvsize=8
    Off_t='off_t'
    lseeksize=8
    alignbytes=8
    prototype=define
  Linker and Libraries:
    ld='cc'
    ldflags ='-pthread -Wl,-E  -fstack-protector -L/usr/local/lib'
    libpth=/usr/lib /usr/local/lib /usr/include/clang/3.4.1 /usr/lib
    libs=-lpthread -lgdbm -lm -lcrypt -lutil -lc
    perllibs=-lpthread -lm -lcrypt -lutil -lc
    libc=
    so=so
    useshrplib=false
    libperl=libperl.a
    gnulibc_version=''
  Dynamic Linking:
    dlsrc=dl_dlopen.xs
    dlext=so
    d_dlsymun=undef
    ccdlflags=' '
    cccdlflags='-DPIC -fPIC'
    lddlflags='-shared  -L/usr/local/lib -fstack-protector'


Characteristics of this binary (from libperl): 
  Compile-time options:
    HAS_TIMES
    PERLIO_LAYERS
    PERL_COPY_ON_WRITE
    PERL_DONT_CREATE_GVSV
    PERL_OP_PARENT
    PERL_PRESERVE_IVUV
    PERL_USE_DEVEL
    USE_64_BIT_ALL
    USE_64_BIT_INT
    USE_LARGE_FILES
    USE_LOCALE
    USE_LOCALE_COLLATE
    USE_LOCALE_CTYPE
    USE_LOCALE_NUMERIC
    USE_LOCALE_TIME
    USE_PERLIO
    USE_PERL_ATOF
  Built under freebsd
  Compiled at Dec 22 2016 00:19:16
  %ENV:
    PERL5LIB="/home/cpansand/.cpan/build/2017012406/warnings-illegalproto-0.001003-1/blib/arch:/home/cpansand/.cpan/build/2017012406/warnings-illegalproto-0.001003-1/blib/lib:/home/cpansand/.cpan/build/2017012406/Syntax-Keyword-Gather-1.003001-1/blib/arch:/home/cpansand/.cpan/build/2017012406/Syntax-Keyword-Gather-1.003001-1/blib/lib:/home/cpansand/.cpan/build/2017012406/HTTP-Body-1.22-1/blib/arch:/home/cpansand/.cpan/build/2017012406/HTTP-Body-1.22-1/blib/lib"
    PERL5OPT=""
    PERL5_CPANPLUS_IS_RUNNING="42979"
    PERL5_CPAN_IS_RUNNING="42979"
    PERL5_CPAN_IS_RUNNING_IN_RECURSION="40125,42979"
    PERLDOC="-MPod::Perldoc::ToTextOverstrike"
    PERL_BATCH="yes"
    PERL_CANARY_STABILITY_NOPROMPT="1"
    PERL_CPAN_REPORTER_CONFIG="/var/tmp/cpansmoker-1023/2017012406/cpanreporter_000_config.ini"
    PERL_EXTUTILS_AUTOINSTALL="--defaultdeps"
  @INC:
    /home/cpansand/.cpan/build/2017012406/warnings-illegalproto-0.001003-1/blib/arch
    /home/cpansand/.cpan/build/2017012406/warnings-illegalproto-0.001003-1/blib/lib
    /home/cpansand/.cpan/build/2017012406/Syntax-Keyword-Gather-1.003001-1/blib/arch
    /home/cpansand/.cpan/build/2017012406/Syntax-Keyword-Gather-1.003001-1/blib/lib
    /home/cpansand/.cpan/build/2017012406/HTTP-Body-1.22-1/blib/arch
    /home/cpansand/.cpan/build/2017012406/HTTP-Body-1.22-1/blib/lib
    /usr/perl5.25.8p/lib/site_perl/5.25.8/amd64-freebsd
    /usr/perl5.25.8p/lib/site_perl/5.25.8
    /usr/perl5.25.8p/lib/5.25.8/amd64-freebsd
    /usr/perl5.25.8p/lib/5.25.8
    .