Report for URL-Google-GURL-0.02

Back
From: metabase:user:d2c9f356-b46f-11df-9a90-20a83c0b7757
Subject: PASS URL-Google-GURL-0.02 v5.14.2 SunOS/Solaris
Date: 2011-12-21T12:42:56Z

This distribution has been tested as part of the CPAN Testers
project, supporting the Perl programming language.  See
http://wiki.cpantesters.org/ for more information or email
questions to cpan-testers-discuss@perl.org


--
Dear Michael Ellery,

This is a computer-generated report for URL-Google-GURL-0.02
on perl 5.14.2, created by CPAN-Reporter-1.2003.

Thank you for uploading your work to CPAN.  Congratulations!
All tests were successful.

Sections of this report:

    * Tester comments
    * Program output
    * Prerequisites
    * Environment and other context

------------------------------
TESTER COMMENTS
------------------------------

Additional comments from tester:

this report is from an automated smoke testing program
and was not reviewed by a human for accuracy

------------------------------
PROGRAM OUTPUT
------------------------------

Output from './Build test':

Generating main XS file...
gcc -I/export/home/cpant2/perl5/lib/5.14.2/i86pc-solaris-64int/CORE -DXS_VERSION="0.02" -DVERSION="0.02" -fPIC -xc++ -D_FILE_OFFSET_BITS=64 -I. -I.. -I./src/googleurl -I./src/googleurl/base -I./src/googleurl/src -Isrc -Ibuildtmp -c -DPTR_IS_LONG -fno-strict-aliasing -pipe -I/usr/local/include -D_LARGEFILE_SOURCE -D_FILE_OFFSET_BITS=64 -DPERL_USE_SAFE_PUTENV -O -o buildtmp/GURL.o buildtmp/GURL.c
buildtmp/GURL.c: In function `void XS_URL__Google__GURL_clone(CV*)':
buildtmp/GURL.c:284: warning: cast to pointer from integer of different size
buildtmp/GURL.c: In function `void XS_URL__Google__GURL_DESTROY(CV*)':
buildtmp/GURL.c:318: warning: cast to pointer from integer of different size
buildtmp/GURL.c: In function `void XS_URL__Google__GURL_is_valid(CV*)':
buildtmp/GURL.c:352: warning: cast to pointer from integer of different size
buildtmp/GURL.c: In function `void XS_URL__Google__GURL_is_empty(CV*)':
buildtmp/GURL.c:387: warning: cast to pointer from integer of different size
buildtmp/GURL.c: In function `void XS_URL__Google__GURL_spec(CV*)':
buildtmp/GURL.c:421: warning: cast to pointer from integer of different size
buildtmp/GURL.c: In function `void XS_URL__Google__GURL_possibly_invalid_spec(CV*)':
buildtmp/GURL.c:456: warning: cast to pointer from integer of different size
buildtmp/GURL.c: In function `void XS_URL__Google__GURL_resolve(CV*)':
buildtmp/GURL.c:493: warning: cast to pointer from integer of different size
buildtmp/GURL.c: In function `void XS_URL__Google__GURL_get_with_empty_path(CV*)':
buildtmp/GURL.c:528: warning: cast to pointer from integer of different size
buildtmp/GURL.c: In function `void XS_URL__Google__GURL_get_origin(CV*)':
buildtmp/GURL.c:563: warning: cast to pointer from integer of different size
buildtmp/GURL.c: In function `void XS_URL__Google__GURL_is_standard(CV*)':
buildtmp/GURL.c:599: warning: cast to pointer from integer of different size
buildtmp/GURL.c: In function `void XS_URL__Google__GURL_scheme_is(CV*)':
buildtmp/GURL.c:636: warning: cast to pointer from integer of different size
buildtmp/GURL.c: In function `void XS_URL__Google__GURL_scheme_is_file(CV*)':
buildtmp/GURL.c:671: warning: cast to pointer from integer of different size
buildtmp/GURL.c: In function `void XS_URL__Google__GURL_scheme_is_secure(CV*)':
buildtmp/GURL.c:706: warning: cast to pointer from integer of different size
buildtmp/GURL.c: In function `void XS_URL__Google__GURL_host_is_ip_address(CV*)':
buildtmp/GURL.c:741: warning: cast to pointer from integer of different size
buildtmp/GURL.c: In function `void XS_URL__Google__GURL_scheme(CV*)':
buildtmp/GURL.c:775: warning: cast to pointer from integer of different size
buildtmp/GURL.c: In function `void XS_URL__Google__GURL_username(CV*)':
buildtmp/GURL.c:810: warning: cast to pointer from integer of different size
buildtmp/GURL.c: In function `void XS_URL__Google__GURL_password(CV*)':
buildtmp/GURL.c:845: warning: cast to pointer from integer of different size
buildtmp/GURL.c: In function `void XS_URL__Google__GURL_host(CV*)':
buildtmp/GURL.c:880: warning: cast to pointer from integer of different size
buildtmp/GURL.c: In function `void XS_URL__Google__GURL_port(CV*)':
buildtmp/GURL.c:915: warning: cast to pointer from integer of different size
buildtmp/GURL.c: In function `void XS_URL__Google__GURL_path(CV*)':
buildtmp/GURL.c:950: warning: cast to pointer from integer of different size
buildtmp/GURL.c: In function `void XS_URL__Google__GURL_query(CV*)':
buildtmp/GURL.c:985: warning: cast to pointer from integer of different size
buildtmp/GURL.c: In function `void XS_URL__Google__GURL_ref(CV*)':
buildtmp/GURL.c:1020: warning: cast to pointer from integer of different size
buildtmp/GURL.c: In function `void XS_URL__Google__GURL_has_scheme(CV*)':
buildtmp/GURL.c:1056: warning: cast to pointer from integer of different size
buildtmp/GURL.c: In function `void XS_URL__Google__GURL_has_username(CV*)':
buildtmp/GURL.c:1091: warning: cast to pointer from integer of different size
buildtmp/GURL.c: In function `void XS_URL__Google__GURL_has_password(CV*)':
buildtmp/GURL.c:1126: warning: cast to pointer from integer of different size
buildtmp/GURL.c: In function `void XS_URL__Google__GURL_has_host(CV*)':
buildtmp/GURL.c:1161: warning: cast to pointer from integer of different size
buildtmp/GURL.c: In function `void XS_URL__Google__GURL_has_port(CV*)':
buildtmp/GURL.c:1196: warning: cast to pointer from integer of different size
buildtmp/GURL.c: In function `void XS_URL__Google__GURL_has_path(CV*)':
buildtmp/GURL.c:1231: warning: cast to pointer from integer of different size
buildtmp/GURL.c: In function `void XS_URL__Google__GURL_has_query(CV*)':
buildtmp/GURL.c:1266: warning: cast to pointer from integer of different size
buildtmp/GURL.c: In function `void XS_URL__Google__GURL_has_ref(CV*)':
buildtmp/GURL.c:1301: warning: cast to pointer from integer of different size
buildtmp/GURL.c: In function `void XS_URL__Google__GURL_int_port(CV*)':
buildtmp/GURL.c:1336: warning: cast to pointer from integer of different size
buildtmp/GURL.c: In function `void XS_URL__Google__GURL_effective_int_port(CV*)':
buildtmp/GURL.c:1371: warning: cast to pointer from integer of different size
buildtmp/GURL.c: In function `void XS_URL__Google__GURL_extract_file_name(CV*)':
buildtmp/GURL.c:1405: warning: cast to pointer from integer of different size
buildtmp/GURL.c: In function `void XS_URL__Google__GURL_path_for_request(CV*)':
buildtmp/GURL.c:1440: warning: cast to pointer from integer of different size
buildtmp/GURL.c: In function `void XS_URL__Google__GURL_host_no_brackets(CV*)':
buildtmp/GURL.c:1475: warning: cast to pointer from integer of different size
buildtmp/GURL.c: In function `void XS_URL__Google__GURL_domain_is(CV*)':
buildtmp/GURL.c:1513: warning: cast to pointer from integer of different size
ExtUtils::Mkbootstrap::Mkbootstrap('blib/arch/auto/URL/Google/GURL/GURL.bs')
gcc -G -L/usr/local/lib -o blib/arch/auto/URL/Google/GURL/GURL.so buildtmp/GURL.o src/googleurl/src/url_canon_query.o src/googleurl/src/url_canon_relative.o src/googleurl/src/url_canon_mailtourl.o src/googleurl/src/url_parse.o src/googleurl/src/url_parse_file.o src/googleurl/src/url_util.o src/googleurl/src/url_canon_host.o src/googleurl/src/gurl.o src/googleurl/src/url_canon_ip.o src/googleurl/base/string16.o src/googleurl/src/url_canon_stdurl.o src/googleurl/src/url_canon_etc.o src/googleurl/base/logging_noop.o src/googleurl/src/url_canon_internal.o src/googleurl/src/url_canon_pathurl.o src/googleurl/src/url_canon_path.o src/googleurl/src/url_canon_icu.o src/googleurl/src/url_canon_fileurl.o -lstdc++ -licuuc -licuio -licudata -licui18n -lpthread
Wide character in print at /export/home/cpant2/perl5/lib/5.14.2/Test/Builder.pm line 1759.
t/01-basic_spec.t ......... ok
t/02-basic_perf.t ......... ok
t/03-scheme_is.t .......... ok
t/04-google_gurl_tests.t .. ok
All tests successful.
Files=4, Tests=259,  1 wallclock secs ( 0.05 usr  0.01 sys +  0.57 cusr  0.01 csys =  0.64 CPU)
Result: PASS

------------------------------
PREREQUISITES
------------------------------

Prerequisite modules loaded:

build_requires:

    Module                      Need Have  
    --------------------------- ---- ------
    ExtUtils::Typemaps::Default 0.01 1.00  
    ExtUtils::XSpp              0.16 0.1602

configure_requires:

    Module                      Need Have  
    --------------------------- ---- ------
    Devel::CheckLib             0.01 0.95  
    ExtUtils::CppGuess          0.07 0.07  
    Module::Build               0.38 0.3800
    Module::Build::WithXSpp     0.01 0.10  


------------------------------
ENVIRONMENT AND OTHER CONTEXT
------------------------------

Environment variables:

    AUTOMATED_TESTING = 1
    LANG = C
    LD_LIBRARY_PATH = /usr/local/lib:
    PATH = /export/home/cpant2/perl5/bin:/usr/local/bin:/usr/bin
    PERL5LIB = /export/home/cpant2/.cpan/build/ExtUtils-Typemaps-Default-1.00-1amnEI/blib/arch:/export/home/cpant2/.cpan/build/ExtUtils-Typemaps-Default-1.00-1amnEI/blib/lib:/export/home/cpant2/.cpan/build/Devel-CheckLib-0.95-R6vIFj/blib/arch:/export/home/cpant2/.cpan/build/Devel-CheckLib-0.95-R6vIFj/blib/lib:/export/home/cpant2/.cpan/build/Module-Build-WithXSpp-0.10-dIC60e/blib/arch:/export/home/cpant2/.cpan/build/Module-Build-WithXSpp-0.10-dIC60e/blib/lib:/export/home/cpant2/.cpan/build/ExtUtils-CppGuess-0.07-qjkUhX/blib/arch:/export/home/cpant2/.cpan/build/ExtUtils-CppGuess-0.07-qjkUhX/blib/lib:/export/home/cpant2/.cpan/build/ExtUtils-XSpp-0.1602-QhOQTq/blib/arch:/export/home/cpant2/.cpan/build/ExtUtils-XSpp-0.1602-QhOQTq/blib/lib
    PERL5OPT = 
    PERL5_CPANPLUS_IS_RUNNING = 16955
    PERL5_CPAN_IS_RUNNING = 16955
    PERL5_CPAN_IS_RUNNING_IN_RECURSION = 17146,16955
    PERL_CR_SMOKER_CURRENT = URL-Google-GURL-0.02
    PERL_EXTUTILS_AUTOINSTALL = --defaultdeps
    PERL_MM_USE_DEFAULT = 1
    SHELL = /usr/bin/bash
    TERM = xterm

Perl special variables (and OS-specific diagnostics, for MSWin32):

    $^X = /export/home/cpant2/perl5/bin/perl5.14.2
    $UID/$EUID = 101 / 101
    $GID = 1 1
    $EGID = 1 1

Perl module toolchain versions installed:

    Module              Have    
    ------------------- --------
    CPAN                1.9800  
    CPAN::Meta          2.112621
    Cwd                 3.36    
    ExtUtils::CBuilder  0.280203
    ExtUtils::Command   1.17    
    ExtUtils::Install   1.56    
    ExtUtils::MakeMaker 6.62    
    ExtUtils::Manifest  1.60    
    ExtUtils::ParseXS   3.07    
    File::Spec          3.33    
    JSON                2.53    
    JSON::PP            2.27200 
    Module::Build       0.3800  
    Module::Signature   n/a     
    Parse::CPAN::Meta   1.4401  
    Test::Harness       3.23    
    Test::More          0.98    
    YAML                0.77    
    YAML::Syck          1.19    
    version             0.95    


--

Summary of my perl5 (revision 5 version 14 subversion 2) configuration:
   
  Platform:
    osname=solaris, osvers=2.10, archname=i86pc-solaris-64int
    uname='sunos vmrz0046 5.10 generic_141445-09 i86pc i386 i86pc solaris '
    config_args='-Dcc=gcc -Dprefix=~/perl5 -Duse64bitint -Dusedevel -d'
    hint=recommended, useposix=true, d_sigaction=define
    useithreads=undef, usemultiplicity=undef
    useperlio=define, d_sfio=undef, uselargefiles=define, usesocks=undef
    use64bitint=define, use64bitall=undef, uselongdouble=undef
    usemymalloc=n, bincompat5005=undef
  Compiler:
    cc='gcc', ccflags ='-DPTR_IS_LONG -fno-strict-aliasing -pipe -I/usr/local/include -D_LARGEFILE_SOURCE -D_FILE_OFFSET_BITS=64 -DPERL_USE_SAFE_PUTENV',
    optimize='-O',
    cppflags='-DPTR_IS_LONG -fno-strict-aliasing -pipe -I/usr/local/include'
    ccversion='', gccversion='3.4.6', gccosandvers='solaris2.10'
    intsize=4, longsize=4, ptrsize=4, doublesize=8, byteorder=12345678
    d_longlong=define, longlongsize=8, d_longdbl=define, longdblsize=12
    ivtype='long long', ivsize=8, nvtype='double', nvsize=8, Off_t='off_t', lseeksize=8
    alignbytes=4, prototype=define
  Linker and Libraries:
    ld='gcc', ldflags =' -L/usr/local/lib '
    libpth=/usr/local/lib /usr/lib /usr/ccs/lib
    libs=-lsocket -lnsl -lgdbm -ldl -lm -lc
    perllibs=-lsocket -lnsl -ldl -lm -lc
    libc=/lib/libc.so, so=so, useshrplib=false, libperl=libperl.a
    gnulibc_version=''
  Dynamic Linking:
    dlsrc=dl_dlopen.xs, dlext=so, d_dlsymun=undef, ccdlflags=' '
    cccdlflags='-fPIC', lddlflags='-G -L/usr/local/lib'


Characteristics of this binary (from libperl): 
  Compile-time options: PERL_DONT_CREATE_GVSV PERL_MALLOC_WRAP
                        PERL_PRESERVE_IVUV PERL_USE_DEVEL
                        PERL_USE_SAFE_PUTENV USE_64_BIT_INT USE_LARGE_FILES
                        USE_PERLIO USE_PERL_ATOF
  Built under solaris
  Compiled at Sep 30 2011 11:41:59
  %ENV:
    PERL5LIB="/export/home/cpant2/.cpan/build/ExtUtils-Typemaps-Default-1.00-1amnEI/blib/arch:/export/home/cpant2/.cpan/build/ExtUtils-Typemaps-Default-1.00-1amnEI/blib/lib:/export/home/cpant2/.cpan/build/Devel-CheckLib-0.95-R6vIFj/blib/arch:/export/home/cpant2/.cpan/build/Devel-CheckLib-0.95-R6vIFj/blib/lib:/export/home/cpant2/.cpan/build/Module-Build-WithXSpp-0.10-dIC60e/blib/arch:/export/home/cpant2/.cpan/build/Module-Build-WithXSpp-0.10-dIC60e/blib/lib:/export/home/cpant2/.cpan/build/ExtUtils-CppGuess-0.07-qjkUhX/blib/arch:/export/home/cpant2/.cpan/build/ExtUtils-CppGuess-0.07-qjkUhX/blib/lib:/export/home/cpant2/.cpan/build/ExtUtils-XSpp-0.1602-QhOQTq/blib/arch:/export/home/cpant2/.cpan/build/ExtUtils-XSpp-0.1602-QhOQTq/blib/lib"
    PERL5OPT=""
    PERL5_CPANPLUS_IS_RUNNING="16955"
    PERL5_CPAN_IS_RUNNING="16955"
    PERL5_CPAN_IS_RUNNING_IN_RECURSION="17146,16955"
    PERL_CR_SMOKER_CURRENT="URL-Google-GURL-0.02"
    PERL_EXTUTILS_AUTOINSTALL="--defaultdeps"
    PERL_MM_USE_DEFAULT="1"
  @INC:
    /export/home/cpant2/.cpan/build/ExtUtils-Typemaps-Default-1.00-1amnEI/blib/arch
    /export/home/cpant2/.cpan/build/ExtUtils-Typemaps-Default-1.00-1amnEI/blib/lib
    /export/home/cpant2/.cpan/build/Devel-CheckLib-0.95-R6vIFj/blib/arch
    /export/home/cpant2/.cpan/build/Devel-CheckLib-0.95-R6vIFj/blib/lib
    /export/home/cpant2/.cpan/build/Module-Build-WithXSpp-0.10-dIC60e/blib/arch
    /export/home/cpant2/.cpan/build/Module-Build-WithXSpp-0.10-dIC60e/blib/lib
    /export/home/cpant2/.cpan/build/ExtUtils-CppGuess-0.07-qjkUhX/blib/arch
    /export/home/cpant2/.cpan/build/ExtUtils-CppGuess-0.07-qjkUhX/blib/lib
    /export/home/cpant2/.cpan/build/ExtUtils-XSpp-0.1602-QhOQTq/blib/arch
    /export/home/cpant2/.cpan/build/ExtUtils-XSpp-0.1602-QhOQTq/blib/lib
    /export/home/cpant2/perl5/lib/site_perl/5.14.2/i86pc-solaris-64int
    /export/home/cpant2/perl5/lib/site_perl/5.14.2
    /export/home/cpant2/perl5/lib/5.14.2/i86pc-solaris-64int
    /export/home/cpant2/perl5/lib/5.14.2
    /export/home/cpant2/perl5/lib/site_perl
    .