Geo-Coder-List v0.28 Perl 5 v5.28.3 x86_64-linux
- Status
- Pass
- From
- David Cantrell (DCANTRELL)
- Dist
-
Geo-Coder-List v0.28
- Platform
- Perl 5 v5.28.3 x86_64-linux
- Date
- 2022-01-23 23:50:56
- ID
- 4e9de3d2-7ca7-11ec-b5fb-01f19c81e241
This distribution has been tested as part of the CPAN Testers
project, supporting the Perl programming language. See
http://wiki.cpantesters.org/ for more information or email
questions to cpan-testers-discuss@perl.org
--
Dear Nigel Horne,
This is a computer-generated report for Geo-Coder-List-0.28
on perl 5.28.3, created by CPAN-Reporter-1.2018.
Thank you for uploading your work to CPAN. Congratulations!
All tests were successful.
Sections of this report:
* Tester comments
* Program output
* Prerequisites
* Environment and other context
------------------------------
TESTER COMMENTS
------------------------------
Additional comments from tester:
this report is from an automated smoke testing program
and was not reviewed by a human for accuracy
------------------------------
PROGRAM OUTPUT
------------------------------
Output from '/usr/bin/make test':
PERL_DL_NONLAZY=1 "/home/david/cpantesting/perl-5.28.3/bin/perl" "-MExtUtils::Command::MM" "-MTest::Harness" "-e" "undef *Test::Harness::Switches; test_harness(0, 'blib/lib', 'blib/arch')" t/*.t
# Testing Geo::Coder::List 0.28, Perl 5.028003, /home/david/cpantesting/perl-5.28.3/bin/perl
t/00-load.t ........... ok
t/10-new.t ............ ok
# Geo::Coder::Bing not installed - skipping tests
t/bing.t .............. ok
t/boiler.t ............ ok
# Using Geo::Coder::CA 0.11
t/canada.t ............ ok
# Geo::Coder::US::Census not installed - skipping tests
t/census.t ............ ok
t/changes.t ........... skipped: Author tests not required for installation
t/comment-spelling.t .. skipped: Author tests not required for installation
t/coverage.t .......... ok
t/critic.t ............ skipped: Author tests not required for installation
t/cv.t ................ skipped: Author tests not required for installation
t/dist.t .............. skipped: Author tests not required for installation
t/eof.t ............... skipped: Author tests not required for installation
t/eol.t ............... skipped: Author tests not required for installation
# Geo::Coder::Free not installed - skipping tests
t/free.t .............. ok
# Geo::Coder::GeocodeFarm not installed - skipping tests
t/geofarm.t ........... ok
# Geo::GeoNames not installed - skipping tests
t/geonames.t .......... ok
# Geo::Coder::Google::V3 not installed - skipping tests
t/google.t ............ ok
# Geo::Coder::GooglePlaces::V3 not installed - skipping tests
t/googleplaces.t ...... ok
t/gv.t ................ skipped: Author tests not required for installation
t/kwalitee.t .......... skipped: Author tests not required for installation
t/links.t ............. skipped: Author tests not required for installation
t/list.t .............. ok
t/manifest.t .......... skipped: Author tests not required for installation
# Geo::Coder::Mapbox not installed - skipping tests
t/mapbox.t ............ ok
t/no404s.t ............ skipped: Author tests not required for installation
t/noplan.t ............ skipped: Author tests not required for installation
# Using Geo::Coder::OpenCage 0.33
# Set BMAP_KEY to enable more tests
t/opencage.t .......... ok
# Using Geo::Coder::OSM 0.03
t/osm.t ............... ok
t/ovi.t ............... ok
t/pod-cm.t ............ skipped: Test::Pod::Spelling::CommonMistakes required for testing POD spelling
t/pod-spelling.t ...... skipped: Author tests not required for installation
t/pod.t ............... skipped: Author tests not required for installation
# Using Geo::Coder::Postcodes 0.06
t/postcodes.t ......... ok
# Geo::Coder::RandMcnally not installed - skipping tests
t/rand.t .............. ok
t/snippets.t .......... skipped: Author tests not required for installation
t/unused.t ............ skipped: Author tests not required for installation
t/us.t ................ ok
t/used.t .............. skipped: Author tests not required for installation
t/vars.t .............. skipped: Author tests not required for installation
t/xyz.t ............... ok
All tests successful.
Test Summary Report
-------------------
t/boiler.t (Wstat: 0 Tests: 3 Failed: 0)
TODO passed: 1-3
Files=41, Tests=380, 76 wallclock secs ( 0.54 usr 0.17 sys + 20.66 cusr 2.41 csys = 23.78 CPU)
Result: PASS
------------------------------
PREREQUISITES
------------------------------
Prerequisite modules loaded:
requires:
Module Need Have
------------------------------ -------- --------
Carp 0 1.50
HTML::Entities 0 3.76
LWP::Protocol::https 0 6.10
perl 5.010001 5.028003
Time::HiRes 0 1.9759
build_requires:
Module Need Have
------------------------------ -------- --------
ExtUtils::MakeMaker 0 7.64
Geo::Coder::CA 0 0.11
Geo::Coder::DataScienceToolkit 0 0.02
! Geo::Coder::GeocodeFarm 0 n/a
Geo::Coder::OpenCage 0 0.33
Geo::Coder::OSM 0 0.03
Geo::Coder::Ovi 0 0.03
Geo::Coder::Postcodes 0 0.06
LWP::UserAgent::Throttled 0.04 0.08
Test::Carp 0 0.2
Test::Deep 0 1.130
Test::LWP::UserAgent 0 0.036
Test::Most 0 0.37
Test::NoWarnings 0 1.06
Test::Number::Delta 0 1.06
configure_requires:
Module Need Have
------------------------------ -------- --------
ExtUtils::MakeMaker 0 7.64
------------------------------
ENVIRONMENT AND OTHER CONTEXT
------------------------------
Environment variables:
AUTOMATED_TESTING = 1
LANG = en_GB.UTF-8
LANGUAGE = en_GB:en
LC_TERMINAL = iTerm2
LC_TERMINAL_VERSION = 3.4.14
NONINTERACTIVE_TESTING = 1
PATH = /home/david/perl5/perlbrew/bin:/home/david/perl5/perlbrew/perls/perl-5.30.2/bin:/home/david/bin:/usr/local/bin:/usr/bin:/bin:/usr/local/games:/usr/games
PERL = 5.28.3
PERL5LIB =
PERL5OPT =
PERL5_CPANPLUS_IS_RUNNING = 1509413
PERL5_CPAN_IS_RUNNING = 1509413
PERLBREW_HOME = /home/david/.perlbrew
PERLBREW_MANPATH = /home/david/perl5/perlbrew/perls/perl-5.30.2/man
PERLBREW_PATH = /home/david/perl5/perlbrew/bin:/home/david/perl5/perlbrew/perls/perl-5.30.2/bin
PERLBREW_PERL = perl-5.30.2
PERLBREW_ROOT = /home/david/perl5/perlbrew
PERLBREW_SHELLRC_VERSION = 0.89
PERLBREW_VERSION = 0.89
PERLVER = 5.28.3
PERL_INLINE_DIRECTORY = /home/david/.Inline-5.28.3
PERL_MM_USE_DEFAULT = 1
PERL_USE_UNSAFE_INC = 0
SHELL = /bin/bash
TERM = screen
Perl special variables (and OS-specific diagnostics, for MSWin32):
$^X = /home/david/cpantesting/perl-5.28.3/bin/perl
$UID/$EUID = 1000 / 1000
$GID = 1000 24 25 27 29 30 44 46 109 1000
$EGID = 1000 24 25 27 29 30 44 46 109 1000
Perl module toolchain versions installed:
Module Have
------------------- --------
CPAN 2.20
CPAN::Meta 2.150010
Cwd 3.74
ExtUtils::CBuilder 0.280230
ExtUtils::Command 7.64
ExtUtils::Install 2.14
ExtUtils::MakeMaker 7.64
ExtUtils::Manifest 1.70
ExtUtils::ParseXS 3.39
File::Spec 3.74
JSON 4.05
JSON::PP 2.97001
Module::Build 0.4231
Module::Signature n/a
Parse::CPAN::Meta 2.150010
Test::Harness 3.42
Test::More 1.302188
YAML n/a
YAML::Syck n/a
version 0.9923
--
Summary of my perl5 (revision 5 version 28 subversion 3) configuration:
Platform:
osname=linux
osvers=4.9.0-8-amd64
archname=x86_64-linux
uname='linux pigsty.barnyard.co.uk 4.9.0-8-amd64 #1 smp debian 4.9.144-3 (2019-02-02) x86_64 gnulinux '
config_args='-de -Dprefix=/home/david/cpantesting/perl-5.28.3'
hint=recommended
useposix=true
d_sigaction=define
useithreads=undef
usemultiplicity=undef
use64bitint=define
use64bitall=define
uselongdouble=undef
usemymalloc=n
default_inc_excludes_dot=define
bincompat5005=undef
Compiler:
cc='cc'
ccflags ='-fwrapv -fno-strict-aliasing -pipe -fstack-protector-strong -I/usr/local/include -D_LARGEFILE_SOURCE -D_FILE_OFFSET_BITS=64 -D_FORTIFY_SOURCE=2'
optimize='-O2'
cppflags='-fwrapv -fno-strict-aliasing -pipe -fstack-protector-strong -I/usr/local/include'
ccversion=''
gccversion='6.3.0 20170516'
gccosandvers=''
intsize=4
longsize=8
ptrsize=8
doublesize=8
byteorder=12345678
doublekind=3
d_longlong=define
longlongsize=8
d_longdbl=define
longdblsize=16
longdblkind=3
ivtype='long'
ivsize=8
nvtype='double'
nvsize=8
Off_t='off_t'
lseeksize=8
alignbytes=8
prototype=define
Linker and Libraries:
ld='cc'
ldflags =' -fstack-protector-strong -L/usr/local/lib'
libpth=/usr/local/lib /usr/lib/gcc/x86_64-linux-gnu/6/include-fixed /usr/include/x86_64-linux-gnu /usr/lib /lib/x86_64-linux-gnu /lib/../lib /usr/lib/x86_64-linux-gnu /usr/lib/../lib /lib
libs=-lpthread -lnsl -ldb -ldl -lm -lcrypt -lutil -lc
perllibs=-lpthread -lnsl -ldl -lm -lcrypt -lutil -lc
libc=libc-2.24.so
so=so
useshrplib=false
libperl=libperl.a
gnulibc_version='2.24'
Dynamic Linking:
dlsrc=dl_dlopen.xs
dlext=so
d_dlsymun=undef
ccdlflags='-Wl,-E'
cccdlflags='-fPIC'
lddlflags='-shared -O2 -L/usr/local/lib -fstack-protector-strong'
Characteristics of this binary (from libperl):
Compile-time options:
HAS_TIMES
PERLIO_LAYERS
PERL_COPY_ON_WRITE
PERL_DONT_CREATE_GVSV
PERL_MALLOC_WRAP
PERL_OP_PARENT
PERL_PRESERVE_IVUV
USE_64_BIT_ALL
USE_64_BIT_INT
USE_LARGE_FILES
USE_LOCALE
USE_LOCALE_COLLATE
USE_LOCALE_CTYPE
USE_LOCALE_NUMERIC
USE_LOCALE_TIME
USE_PERLIO
USE_PERL_ATOF
Built under linux
Compiled at Jun 4 2020 18:26:24
%ENV:
PERL="5.28.3"
PERL5LIB=""
PERL5OPT=""
PERL5_CPANPLUS_IS_RUNNING="1509413"
PERL5_CPAN_IS_RUNNING="1509413"
PERLBREW_HOME="/home/david/.perlbrew"
PERLBREW_MANPATH="/home/david/perl5/perlbrew/perls/perl-5.30.2/man"
PERLBREW_PATH="/home/david/perl5/perlbrew/bin:/home/david/perl5/perlbrew/perls/perl-5.30.2/bin"
PERLBREW_PERL="perl-5.30.2"
PERLBREW_ROOT="/home/david/perl5/perlbrew"
PERLBREW_SHELLRC_VERSION="0.89"
PERLBREW_VERSION="0.89"
PERLVER="5.28.3"
PERL_INLINE_DIRECTORY="/home/david/.Inline-5.28.3"
PERL_MM_USE_DEFAULT="1"
PERL_USE_UNSAFE_INC="0"
@INC:
/home/david/cpantesting/perl-5.28.3/lib/site_perl/5.28.3/x86_64-linux
/home/david/cpantesting/perl-5.28.3/lib/site_perl/5.28.3
/home/david/cpantesting/perl-5.28.3/lib/5.28.3/x86_64-linux
/home/david/cpantesting/perl-5.28.3/lib/5.28.3