Starman v0.4017 Perl 5 v5.39.8 x86_64-linux-multi-ld
- Status
- Pass
- From
- Andreas J. König (ANDK)
- Dist
-
Starman v0.4017
- Platform
- Perl 5 v5.39.8 x86_64-linux-multi-ld
- Date
- 2024-04-09 21:58:33
- ID
- 4eb9e064-f6bc-11ee-b4f4-7534d8e8b9d6
This distribution has been tested as part of the CPAN Testers
project, supporting the Perl programming language. See
http://wiki.cpantesters.org/ for more information or email
questions to cpan-testers-discuss@perl.org
--
Dear Tatsuhiko Miyagawa,
This is a computer-generated report for Starman-0.4017
on perl 5.39.8, created by CPAN-Reporter-1.2019.
Thank you for uploading your work to CPAN. Congratulations!
All tests were successful.
Sections of this report:
* Tester comments
* Program output
* Prerequisites
* Environment and other context
------------------------------
TESTER COMMENTS
------------------------------
Additional comments from tester:
this report is from an automated smoke testing program
and was not reviewed by a human for accuracy
------------------------------
PROGRAM OUTPUT
------------------------------
Output from './Build test':
t/00_compile.t ........... ok
t/author-pod-syntax.t .... skipped: these tests are for testing by the author
2024/04/09-23:58:10 Starman::Server (type Net::Server::PreFork) starting! pid(685292)
Binding to TCP port 41365 on host 127.0.0.1 with IPv4
Setting gid to "1005 1005 1005"
2024/04/09-23:58:10 Server closing!
t/chunked_req.t .......... ok
t/chunked_termination.t .. ok
2024/04/09-23:58:11 Starman::Server (type Net::Server::PreFork) starting! pid(685300)
Binding to TCP port 38311 on host 127.0.0.1 with IPv4
Setting gid to "1005 1005 1005"
2024/04/09-23:58:11 Server closing!
t/chunked_zero_length.t .. ok
2024/04/09-23:58:11 Starman::Server (type Net::Server::PreFork) starting! pid(685307)
Binding to TCP port 42525 on host 127.0.0.1 with IPv4
Setting gid to "1005 1005 1005"
2024/04/09-23:58:11 Server closing!
t/early-hints.t .......... ok
2024/04/09-23:58:11 Starman::Server (type Net::Server::PreFork) starting! pid(685314)
Binding to TCP port 38367 on host 127.0.0.1 with IPv4
Setting gid to "1005 1005 1005"
2024/04/09-23:58:12 Server closing!
t/eintr.t ................ ok
2024/04/09-23:58:13 Starman::Server (type Net::Server::PreFork) starting! pid(685324)
Binding to TCP port 33991 on host 127.0.0.1 with IPv4
Setting gid to "1005 1005 1005"
2024/04/09-23:58:13 Server closing!
t/expect.t ............... ok
2024/04/09-23:58:13 Starman::Server (type Net::Server::PreFork) starting! pid(685331)
Binding to TCP port 46445 on host 127.0.0.1 with IPv4
Setting gid to "1005 1005 1005"
2024/04/09-23:58:13 Server closing!
2024/04/09-23:58:13 Starman::Server (type Net::Server::PreFork) starting! pid(685337)
Binding to TCP port 44859 on host 127.0.0.1 with IPv4
Setting gid to "1005 1005 1005"
2024/04/09-23:58:13 Server closing!
t/harakiri.t ............. ok
2024/04/09-23:58:14 Starman::Server (type Net::Server::PreFork) starting! pid(685362)
Binding to TCP port 40973 on host 127.0.0.1 with IPv4
Setting gid to "1005 1005 1005"
2024/04/09-23:58:14 Server closing!
t/lf_only_request.t ...... ok
2024/04/09-23:58:14 Starman::Server (type Net::Server::PreFork) starting! pid(685369)
Binding to TCP port 38045 on host 127.0.0.1 with IPv4
Setting gid to "1005 1005 1005"
2024/04/09-23:58:14 Server closing!
t/no_chunked_head.t ...... ok
t/release-findbin.t ...... skipped: these tests are for release candidate testing
t/release-rand.t ......... skipped: these tests are for release candidate testing
2024/04/09-23:58:14 Starman::Server (type Net::Server::PreFork) starting! pid(685378)
Binding to TCP port 38843 on host 127.0.0.1 with IPv4
Setting gid to "1005 1005 1005"
2024/04/09-23:58:15 Server closing!
t/single_zero.t .......... ok
2024/04/09-23:58:16 Starman::Server (type Net::Server::PreFork) starting! pid(685385)
Resolved [localhost]:40395 to [::1]:40395, IPv6
Resolved [localhost]:40395 to [127.0.0.1]:40395, IPv4
Binding to SSL port 40395 on host ::1 with IPv6
Binding to SSL port 40395 on host 127.0.0.1 with IPv4
Setting gid to "1005 1005 1005"
Passed serialize value of none is incompatible with multiple ports - using default serialize
Could not finalize SSL connection with client handle (SSL accept attempt failed error:0A000126:SSL routines::unexpected eof while reading)
2024/04/09-23:58:16 Server closing!
t/ssl.t .................. ok
2024/04/09-23:58:17 Starman::Server (type Net::Server::PreFork) starting! pid(685393)
Resolved [localhost]:44499 to [::1]:44499, IPv6
Resolved [localhost]:44499 to [127.0.0.1]:44499, IPv4
Binding to SSL port 44499 on host ::1 with IPv6
Binding to SSL port 44499 on host 127.0.0.1 with IPv4
Setting gid to "1005 1005 1005"
Passed serialize value of none is incompatible with multiple ports - using default serialize
Could not finalize SSL connection with client handle (SSL accept attempt failed error:0A000126:SSL routines::unexpected eof while reading)
2024/04/09-23:58:17 Server closing!
t/ssl_largebody.t ........ ok
2024/04/09-23:58:18 Starman::Server (type Net::Server::PreFork) starting! pid(685401)
Binding to TCP port 44469 on host 127.0.0.1 with IPv4
Setting gid to "1005 1005 1005"
2024/04/09-23:58:18 Server closing!
t/suite.t ................ ok
All tests successful.
Files=17, Tests=125, 8 wallclock secs ( 0.07 usr 0.03 sys + 3.12 cusr 1.37 csys = 4.59 CPU)
Result: PASS
------------------------------
PREREQUISITES
------------------------------
Prerequisite modules loaded:
requires:
Module Need Have
------------------- -------- --------
Data::Dump 0 1.25
HTTP::Date 0 6.06
HTTP::Parser::XS 0 0.17
HTTP::Status 0 6.45
Net::Server 2.007 2.014
parent 0 0.241
perl 5.008001 5.039008
Plack 0.9971 1.0051
Test::TCP 2.00 2.22
build_requires:
Module Need Have
------------------- -------- --------
LWP::UserAgent 0 6.76
Test::More 0 1.302198
Test::Requires 0 0.11
configure_requires:
Module Need Have
------------------- -------- --------
Module::Build::Tiny 0.034 0.047
------------------------------
ENVIRONMENT AND OTHER CONTEXT
------------------------------
Environment variables:
AUTOMATED_TESTING = 1
LANG = en_US.UTF-8
LANGUAGE = en_US:en
PATH = /home/sand/bin:/usr/local/bin:/usr/bin:/bin:/usr/games:/usr/local/perl/bin:/usr/X11/bin:/sbin:/usr/sbin
PERL5LIB =
PERL5OPT =
PERL5_CPANPLUS_IS_RUNNING = 683298
PERL5_CPAN_IS_RUNNING = 683298
PERL_CANARY_STABILITY_NOPROMPT = 1
PERL_MM_USE_DEFAULT = 1
PERL_USE_UNSAFE_INC = 1
SHELL = /usr/bin/zsh
TERM = screen
Perl special variables (and OS-specific diagnostics, for MSWin32):
$^X = /home/sand/src/perl/repoperls/installed-perls/host/k93msid/v5.39.8/1d53/bin/perl
$UID/$EUID = 1005 / 1005
$GID = 1005 1005
$EGID = 1005 1005
Perl module toolchain versions installed:
Module Have
------------------- --------
CPAN 2.36
CPAN::Meta 2.150010
Cwd 3.90
ExtUtils::CBuilder 0.280240
ExtUtils::Command 7.70
ExtUtils::Install 2.22
ExtUtils::MakeMaker 7.70
ExtUtils::Manifest 1.75
ExtUtils::ParseXS 3.51
File::Spec 3.90
JSON 4.10
JSON::PP 4.16
Module::Build 0.4234
Module::Signature 0.88
Parse::CPAN::Meta 2.150010
Test2 1.302198
Test::Harness 3.48
Test::More 1.302198
YAML 1.31
YAML::Syck 1.34
version 0.9930
--
Summary of my perl5 (revision 5 version 39 subversion 8) configuration:
Commit id: 78455e6e7fa235411fb2b931eda9d816b5ea880f
Platform:
osname=linux
osvers=6.6.13-amd64
archname=x86_64-linux-multi-ld
uname='linux k93msid 6.6.13-amd64 #1 smp preempt_dynamic debian 6.6.13-1 (2024-01-20) x86_64 gnulinux '
config_args='-Dprefix=/home/sand/src/perl/repoperls/installed-perls/host/k93msid/v5.39.8/1d53 -Dmyhostname=k93msid -Dinstallusrbinperl=n -Uversiononly -Dusedevel -des -Ui_db -Dlibswanted=cl pthread socket inet nsl gdbm dbm malloc dl ld sun m crypt sec util c cposix posix ucb BSD gdbm_compat -Uuseithreads -Duselongdouble -DEBUGGING=both -Dusemultiplicity'
hint=recommended
useposix=true
d_sigaction=define
useithreads=undef
usemultiplicity=define
use64bitint=define
use64bitall=define
uselongdouble=define
usemymalloc=n
default_inc_excludes_dot=define
Compiler:
cc='cc'
ccflags ='-fwrapv -DDEBUGGING -fno-strict-aliasing -pipe -fstack-protector-strong -I/usr/local/include -D_LARGEFILE_SOURCE -D_FILE_OFFSET_BITS=64 -D_FORTIFY_SOURCE=2'
optimize='-O2 -g'
cppflags='-fwrapv -DDEBUGGING -fno-strict-aliasing -pipe -fstack-protector-strong -I/usr/local/include'
ccversion=''
gccversion='13.2.0'
gccosandvers=''
intsize=4
longsize=8
ptrsize=8
doublesize=8
byteorder=12345678
doublekind=3
d_longlong=define
longlongsize=8
d_longdbl=define
longdblsize=16
longdblkind=3
ivtype='long'
ivsize=8
nvtype='long double'
nvsize=16
Off_t='off_t'
lseeksize=8
alignbytes=16
prototype=define
Linker and Libraries:
ld='cc'
ldflags =' -fstack-protector-strong -L/usr/local/lib'
libpth=/usr/local/lib /usr/lib/x86_64-linux-gnu /usr/lib /usr/lib64
libs=-lpthread -lnsl -ldl -lm -lcrypt -lutil -lc
perllibs=-lpthread -lnsl -ldl -lm -lcrypt -lutil -lc
libc=/lib/x86_64-linux-gnu/libc.so.6
so=so
useshrplib=false
libperl=libperl.a
gnulibc_version='2.37'
Dynamic Linking:
dlsrc=dl_dlopen.xs
dlext=so
d_dlsymun=undef
ccdlflags='-Wl,-E'
cccdlflags='-fPIC'
lddlflags='-shared -O2 -g -L/usr/local/lib -fstack-protector-strong'
Characteristics of this binary (from libperl):
Compile-time options:
DEBUGGING
HAS_LONG_DOUBLE
HAS_STRTOLD
HAS_TIMES
MULTIPLICITY
PERLIO_LAYERS
PERL_COPY_ON_WRITE
PERL_DONT_CREATE_GVSV
PERL_HASH_FUNC_SIPHASH13
PERL_HASH_USE_SBOX32
PERL_MALLOC_WRAP
PERL_OP_PARENT
PERL_PRESERVE_IVUV
PERL_TRACK_MEMPOOL
PERL_USE_DEVEL
PERL_USE_SAFE_PUTENV
USE_64_BIT_ALL
USE_64_BIT_INT
USE_LARGE_FILES
USE_LOCALE
USE_LOCALE_COLLATE
USE_LOCALE_CTYPE
USE_LOCALE_NUMERIC
USE_LOCALE_TIME
USE_LONG_DOUBLE
USE_PERLIO
USE_PERL_ATOF
USE_REENTRANT_API
Built under linux
Compiled at Feb 24 2024 19:01:16
%ENV:
PERL5LIB=""
PERL5OPT=""
PERL5_CPANPLUS_IS_RUNNING="683298"
PERL5_CPAN_IS_RUNNING="683298"
PERL_CANARY_STABILITY_NOPROMPT="1"
PERL_MM_USE_DEFAULT="1"
PERL_USE_UNSAFE_INC="1"
@INC:
/home/sand/src/perl/repoperls/installed-perls/host/k93msid/v5.39.8/1d53/lib/site_perl/5.39.8/x86_64-linux-multi-ld
/home/sand/src/perl/repoperls/installed-perls/host/k93msid/v5.39.8/1d53/lib/site_perl/5.39.8
/home/sand/src/perl/repoperls/installed-perls/host/k93msid/v5.39.8/1d53/lib/5.39.8/x86_64-linux-multi-ld
/home/sand/src/perl/repoperls/installed-perls/host/k93msid/v5.39.8/1d53/lib/5.39.8
.