LibYAML-FFI vv0.0.1 Perl 5 v5.39.11 x86_64-linux-thread-multi
- Status
- Pass
- From
- Carlos Guevara
- Dist
-
LibYAML-FFI vv0.0.1
- Platform
- Perl 5 v5.39.11 x86_64-linux-thread-multi
- Date
- 2024-05-16 00:00:30
- ID
- 4edfe65c-1317-11ef-955c-a6988574977f
This distribution has been tested as part of the CPAN Testers
project, supporting the Perl programming language. See
http://wiki.cpantesters.org/ for more information or email
questions to cpan-testers-discuss@perl.org
--
Dear Tina Muller,
This is a computer-generated report for LibYAML-FFI-v0.0.1
on perl 5.39.11, created by CPAN-Reporter-1.2019.
Thank you for uploading your work to CPAN. Congratulations!
All tests were successful.
Sections of this report:
* Tester comments
* Program output
* Prerequisites
* Environment and other context
------------------------------
TESTER COMMENTS
------------------------------
Additional comments from tester:
this report is from an automated smoke testing program
and was not reviewed by a human for accuracy
------------------------------
PROGRAM OUTPUT
------------------------------
Output from '/usr/bin/make test':
"/home/cpan/bin/perl/bin/perl5.39.11" -MFFI::Build::MM=cmd -e fbx_build
"/home/cpan/bin/perl/bin/perl5.39.11" -MFFI::Build::MM=cmd -e fbx_test
PERL_DL_NONLAZY=1 "/home/cpan/bin/perl/bin/perl5.39.11" "-MExtUtils::Command::MM" "-MTest::Harness" "-e" "undef *Test::Harness::Switches; test_harness(0, 'blib/lib', 'blib/arch')" t/*.t
Subroutine LibYAML::FFI::Event::DESTROY redefined at /home/cpan/bin/perl/lib/site_perl/5.39.11/x86_64-linux-thread-multi/FFI/Platypus/Function.pm line 38.
Subroutine LibYAML::FFI::Parser::DESTROY redefined at /home/cpan/bin/perl/lib/site_perl/5.39.11/x86_64-linux-thread-multi/FFI/Platypus/Function.pm line 38.
Subroutine LibYAML::FFI::Event::DESTROY redefined at /home/cpan/bin/perl/lib/site_perl/5.39.11/x86_64-linux-thread-multi/FFI/Platypus/Function.pm line 38.
Subroutine LibYAML::FFI::Parser::DESTROY redefined at /home/cpan/bin/perl/lib/site_perl/5.39.11/x86_64-linux-thread-multi/FFI/Platypus/Function.pm line 38.
Subroutine LibYAML::FFI::Event::DESTROY redefined at /home/cpan/bin/perl/lib/site_perl/5.39.11/x86_64-linux-thread-multi/FFI/Platypus/Function.pm line 38.
Subroutine LibYAML::FFI::Parser::DESTROY redefined at /home/cpan/bin/perl/lib/site_perl/5.39.11/x86_64-linux-thread-multi/FFI/Platypus/Function.pm line 38.
t/00.compile.t ...... ok
Subroutine LibYAML::FFI::Event::DESTROY redefined at /home/cpan/bin/perl/lib/site_perl/5.39.11/x86_64-linux-thread-multi/FFI/Platypus/Function.pm line 38.
Subroutine LibYAML::FFI::Parser::DESTROY redefined at /home/cpan/bin/perl/lib/site_perl/5.39.11/x86_64-linux-thread-multi/FFI/Platypus/Function.pm line 38.
t/10.events.t ....... ok
Subroutine LibYAML::FFI::Event::DESTROY redefined at /home/cpan/bin/perl/lib/site_perl/5.39.11/x86_64-linux-thread-multi/FFI/Platypus/Function.pm line 38.
Subroutine LibYAML::FFI::Parser::DESTROY redefined at /home/cpan/bin/perl/lib/site_perl/5.39.11/x86_64-linux-thread-multi/FFI/Platypus/Function.pm line 38.
t/11.parser.t ....... ok
Subroutine LibYAML::FFI::Event::DESTROY redefined at /home/cpan/bin/perl/lib/site_perl/5.39.11/x86_64-linux-thread-multi/FFI/Platypus/Function.pm line 38.
Subroutine LibYAML::FFI::Parser::DESTROY redefined at /home/cpan/bin/perl/lib/site_perl/5.39.11/x86_64-linux-thread-multi/FFI/Platypus/Function.pm line 38.
# Event: ( 0):[L: 0 C: 0] ( 0):[L: 0 C: 0] ( 1) +STR
# Event: ( 0):[L: 0 C: 0] ( 0):[L: 0 C: 0] ( 3) +DOC
# Event: ( 0):[L: 0 C: 0] ( 0):[L: 0 C: 0] ( 9) +MAP
# Event: ( 0):[L: 0 C: 0] ( 3):[L: 0 C: 3] ( 6) =VAL >foo< (3) plain_implicit: 1
# Event: ( 5):[L: 0 C: 5] ( 6):[L: 0 C: 6] ( 7) +SEQ []
# Event: (11):[L: 1 C: 4] (21):[L: 1 C:14] ( 6) =VAL >bar< (3) plain_implicit: 1
# Event: (23):[L: 1 C:16] (29):[L: 1 C:22] ( 5) =ALI ALIAS
# Event: (32):[L: 2 C: 2] (33):[L: 2 C: 3] ( 8) -SEQ
# Event: (34):[L: 3 C: 0] (34):[L: 3 C: 0] (10) -MAP
# Event: (34):[L: 3 C: 0] (34):[L: 3 C: 0] ( 4) -DOC
# Event: (34):[L: 3 C: 0] (34):[L: 3 C: 0] ( 2) -STR
# end
t/12.parse.t ........ ok
Subroutine LibYAML::FFI::Event::DESTROY redefined at /home/cpan/bin/perl/lib/site_perl/5.39.11/x86_64-linux-thread-multi/FFI/Platypus/Function.pm line 38.
Subroutine LibYAML::FFI::Parser::DESTROY redefined at /home/cpan/bin/perl/lib/site_perl/5.39.11/x86_64-linux-thread-multi/FFI/Platypus/Function.pm line 38.
t/13.yamlpp-load.t .. ok
All tests successful.
Files=5, Tests=9, 1 wallclock secs ( 0.03 usr 0.00 sys + 0.62 cusr 0.11 csys = 0.76 CPU)
Result: PASS
------------------------------
PREREQUISITES
------------------------------
Prerequisite modules loaded:
requires:
Module Need Have
------------------- -------- --------
base 0 2.27
experimental 0 0.032
Exporter 0 5.78
FFI::C 0 0.15
FFI::Platypus 2.00 2.08
overload 0 1.37
perl 5.020000 5.039011
strict 0 1.13
warnings 0 1.69
YAML::PP 0 v0.38.0
YAML::PP::Common 0 v0.38.0
YAML::PP::Parser 0 v0.38.0
build_requires:
Module Need Have
------------------- -------- --------
ExtUtils::MakeMaker 0 7.70
File::Spec 0 3.90
FindBin 0 1.54
IO::Handle 0 1.55
IPC::Open3 0 1.22
Test2::V0 0 0.000162
Test::More 0.98 1.302199
configure_requires:
Module Need Have
------------------- -------- --------
ExtUtils::MakeMaker 0 7.70
FFI::Build::MM 0.83 2.08
------------------------------
ENVIRONMENT AND OTHER CONTEXT
------------------------------
Environment variables:
AUTOMATED_TESTING = 1
DATE_MANIP_TEST_DM5 = 1
LANG = en_US.UTF-8
LC_ALL = C
NONINTERACTIVE_TESTING = 1
NO_NETWORK_TESTING = 1
PATH = /home/cpan/bin/perl/bin:/home/cpan/bin:/usr/share/Modules/bin:/home/cpan/bin:/usr/local/bin:/usr/bin:/usr/local/sbin:/usr/sbin
PERL5LIB =
PERL5OPT =
PERL5_CPANPLUS_IS_RUNNING = 303791
PERL5_CPAN_IS_RUNNING = 303791
PERL_MM_USE_DEFAULT = 1
PERL_USE_UNSAFE_INC = 1
SHELL = /bin/bash
TERM = screen
TMPDIR = /home/cpan/tmp
Perl special variables (and OS-specific diagnostics, for MSWin32):
$^X = /home/cpan/bin/perl/bin/perl5.39.11
$UID/$EUID = 1001 / 1001
$GID = 1001 1001
$EGID = 1001 1001
Perl module toolchain versions installed:
Module Have
------------------- --------
CPAN 2.36
CPAN::Meta 2.150010
Cwd 3.90
ExtUtils::CBuilder 0.280240
ExtUtils::Command 7.70
ExtUtils::Install 2.22
ExtUtils::MakeMaker 7.70
ExtUtils::Manifest 1.75
ExtUtils::ParseXS 3.51
File::Spec 3.90
JSON 4.10
JSON::PP 4.16
Module::Build 0.4234
Module::Signature n/a
Parse::CPAN::Meta 2.150010
Test2 1.302199
Test::Harness 3.48
Test::More 1.302199
YAML 1.31
YAML::Syck 1.34
version 0.9930
--
Summary of my perl5 (revision 5 version 39 subversion 11) configuration:
Commit id: 2a2fbe60b3ca61da41a701fa082a961d493bc218
Platform:
osname=linux
osvers=5.14.0-427.16.1.el9_4.x86_64
archname=x86_64-linux-thread-multi
uname='linux cjg-rhel9 5.14.0-427.16.1.el9_4.x86_64 #1 smp preempt_dynamic fri apr 26 18:16:09 edt 2024 x86_64 x86_64 x86_64 gnulinux '
config_args='-des -Dprefix=/home/cpan/bin/perl -Dscriptdir=/home/cpan/bin/perl/bin -Dusedevel -Duse64bitall -Duseithreads'
hint=recommended
useposix=true
d_sigaction=define
useithreads=define
usemultiplicity=define
use64bitint=define
use64bitall=define
uselongdouble=undef
usemymalloc=n
default_inc_excludes_dot=define
Compiler:
cc='cc'
ccflags ='-D_REENTRANT -D_GNU_SOURCE -fwrapv -fno-strict-aliasing -pipe -fstack-protector-strong -I/usr/local/include -D_LARGEFILE_SOURCE -D_FILE_OFFSET_BITS=64 -D_FORTIFY_SOURCE=2'
optimize='-O2'
cppflags='-D_REENTRANT -D_GNU_SOURCE -fwrapv -fno-strict-aliasing -pipe -fstack-protector-strong -I/usr/local/include'
ccversion=''
gccversion='11.4.1 20231218 (Red Hat 11.4.1-3)'
gccosandvers=''
intsize=4
longsize=8
ptrsize=8
doublesize=8
byteorder=12345678
doublekind=3
d_longlong=define
longlongsize=8
d_longdbl=define
longdblsize=16
longdblkind=3
ivtype='long'
ivsize=8
nvtype='double'
nvsize=8
Off_t='off_t'
lseeksize=8
alignbytes=8
prototype=define
Linker and Libraries:
ld='cc'
ldflags =' -fstack-protector-strong -L/usr/local/lib'
libpth=/usr/local/lib /usr/lib /usr/lib64 /usr/local/lib64
libs=-lpthread -ldb -ldl -lm -lcrypt -lutil -lc
perllibs=-lpthread -ldl -lm -lcrypt -lutil -lc
libc=/lib/../lib64/libc.so.6
so=so
useshrplib=false
libperl=libperl.a
gnulibc_version='2.34'
Dynamic Linking:
dlsrc=dl_dlopen.xs
dlext=so
d_dlsymun=undef
ccdlflags='-Wl,-E'
cccdlflags='-fPIC'
lddlflags='-shared -O2 -L/usr/local/lib -fstack-protector-strong'
Characteristics of this binary (from libperl):
Compile-time options:
HAS_LONG_DOUBLE
HAS_STRTOLD
HAS_TIMES
MULTIPLICITY
PERLIO_LAYERS
PERL_COPY_ON_WRITE
PERL_DONT_CREATE_GVSV
PERL_HASH_FUNC_SIPHASH13
PERL_HASH_USE_SBOX32
PERL_MALLOC_WRAP
PERL_OP_PARENT
PERL_PRESERVE_IVUV
PERL_USE_DEVEL
PERL_USE_SAFE_PUTENV
USE_64_BIT_ALL
USE_64_BIT_INT
USE_ITHREADS
USE_LARGE_FILES
USE_LOCALE
USE_LOCALE_COLLATE
USE_LOCALE_CTYPE
USE_LOCALE_NUMERIC
USE_LOCALE_TIME
USE_PERLIO
USE_PERL_ATOF
USE_REENTRANT_API
USE_THREAD_SAFE_LOCALE
Built under linux
Compiled at May 15 2024 15:32:50
%ENV:
PERL5LIB=""
PERL5OPT=""
PERL5_CPANPLUS_IS_RUNNING="303791"
PERL5_CPAN_IS_RUNNING="303791"
PERL_MM_USE_DEFAULT="1"
PERL_USE_UNSAFE_INC="1"
@INC:
/home/cpan/bin/perl/lib/site_perl/5.39.11/x86_64-linux-thread-multi
/home/cpan/bin/perl/lib/site_perl/5.39.11
/home/cpan/bin/perl/lib/5.39.11/x86_64-linux-thread-multi
/home/cpan/bin/perl/lib/5.39.11
.