Report for XML-Debian-ENetInterfaces-0.07

Back
From: metabase:user:320bfe00-2aae-11df-837a-5e0a49663a4f
Subject: PASS XML-Debian-ENetInterfaces-0.07 v5.22.3 GNU/Linux
Date: 2017-06-04T11:52:39Z

This distribution has been tested as part of the CPAN Testers
project, supporting the Perl programming language.  See
http://wiki.cpantesters.org/ for more information or email
questions to cpan-testers-discuss@perl.org


--
Dear Mike Mestnik,

This is a computer-generated report for XML-Debian-ENetInterfaces-0.07
on perl 5.22.3, created by CPAN-Reporter-1.2018.

Thank you for uploading your work to CPAN.  Congratulations!
All tests were successful.

Sections of this report:

    * Tester comments
    * Program output
    * Prerequisites
    * Environment and other context

------------------------------
TESTER COMMENTS
------------------------------

Additional comments from tester:

this report is from an automated smoke testing program
and was not reviewed by a human for accuracy

------------------------------
PROGRAM OUTPUT
------------------------------

Output from '/usr/bin/make test':

PERL_DL_NONLAZY=1 "/home/sand/src/perl/repoperls/installed-perls/host/k93msid/v5.22.3/f11c/bin/perl" "-MExtUtils::Command::MM" "-MTest::Harness" "-e" "undef *Test::Harness::Switches; test_harness(0, 'blib/lib', 'blib/arch')" t/*.t
given is experimental at /tmp/loop_over_bdir-21298-KjjC66/XML-Debian-ENetInterfaces-0.07-0/blib/lib/XML/Debian/ENetInterfaces.pm line 119.
when is experimental at /tmp/loop_over_bdir-21298-KjjC66/XML-Debian-ENetInterfaces-0.07-0/blib/lib/XML/Debian/ENetInterfaces.pm line 120.
when is experimental at /tmp/loop_over_bdir-21298-KjjC66/XML-Debian-ENetInterfaces-0.07-0/blib/lib/XML/Debian/ENetInterfaces.pm line 121.
given is experimental at /tmp/loop_over_bdir-21298-KjjC66/XML-Debian-ENetInterfaces-0.07-0/blib/lib/XML/Debian/ENetInterfaces.pm line 250.
when is experimental at /tmp/loop_over_bdir-21298-KjjC66/XML-Debian-ENetInterfaces-0.07-0/blib/lib/XML/Debian/ENetInterfaces.pm line 251.
when is experimental at /tmp/loop_over_bdir-21298-KjjC66/XML-Debian-ENetInterfaces-0.07-0/blib/lib/XML/Debian/ENetInterfaces.pm line 257.
when is experimental at /tmp/loop_over_bdir-21298-KjjC66/XML-Debian-ENetInterfaces-0.07-0/blib/lib/XML/Debian/ENetInterfaces.pm line 263.
given is experimental at /tmp/loop_over_bdir-21298-KjjC66/XML-Debian-ENetInterfaces-0.07-0/blib/lib/XML/Debian/ENetInterfaces.pm line 281.
when is experimental at /tmp/loop_over_bdir-21298-KjjC66/XML-Debian-ENetInterfaces-0.07-0/blib/lib/XML/Debian/ENetInterfaces.pm line 282.
when is experimental at /tmp/loop_over_bdir-21298-KjjC66/XML-Debian-ENetInterfaces-0.07-0/blib/lib/XML/Debian/ENetInterfaces.pm line 292.
when is experimental at /tmp/loop_over_bdir-21298-KjjC66/XML-Debian-ENetInterfaces-0.07-0/blib/lib/XML/Debian/ENetInterfaces.pm line 299.
given is experimental at /tmp/loop_over_bdir-21298-KjjC66/XML-Debian-ENetInterfaces-0.07-0/blib/lib/XML/Debian/ENetInterfaces.pm line 379.
when is experimental at /tmp/loop_over_bdir-21298-KjjC66/XML-Debian-ENetInterfaces-0.07-0/blib/lib/XML/Debian/ENetInterfaces.pm line 380.
when is experimental at /tmp/loop_over_bdir-21298-KjjC66/XML-Debian-ENetInterfaces-0.07-0/blib/lib/XML/Debian/ENetInterfaces.pm line 381.
when is experimental at /tmp/loop_over_bdir-21298-KjjC66/XML-Debian-ENetInterfaces-0.07-0/blib/lib/XML/Debian/ENetInterfaces.pm line 382.
given is experimental at /tmp/loop_over_bdir-21298-KjjC66/XML-Debian-ENetInterfaces-0.07-0/blib/lib/XML/Debian/ENetInterfaces.pm line 405.
when is experimental at /tmp/loop_over_bdir-21298-KjjC66/XML-Debian-ENetInterfaces-0.07-0/blib/lib/XML/Debian/ENetInterfaces.pm line 406.
when is experimental at /tmp/loop_over_bdir-21298-KjjC66/XML-Debian-ENetInterfaces-0.07-0/blib/lib/XML/Debian/ENetInterfaces.pm line 410.
given is experimental at /tmp/loop_over_bdir-21298-KjjC66/XML-Debian-ENetInterfaces-0.07-0/blib/lib/XML/Debian/ENetInterfaces.pm line 423.
when is experimental at /tmp/loop_over_bdir-21298-KjjC66/XML-Debian-ENetInterfaces-0.07-0/blib/lib/XML/Debian/ENetInterfaces.pm line 424.
when is experimental at /tmp/loop_over_bdir-21298-KjjC66/XML-Debian-ENetInterfaces-0.07-0/blib/lib/XML/Debian/ENetInterfaces.pm line 425.
when is experimental at /tmp/loop_over_bdir-21298-KjjC66/XML-Debian-ENetInterfaces-0.07-0/blib/lib/XML/Debian/ENetInterfaces.pm line 426.
when is experimental at /tmp/loop_over_bdir-21298-KjjC66/XML-Debian-ENetInterfaces-0.07-0/blib/lib/XML/Debian/ENetInterfaces.pm line 427.
when is experimental at /tmp/loop_over_bdir-21298-KjjC66/XML-Debian-ENetInterfaces-0.07-0/blib/lib/XML/Debian/ENetInterfaces.pm line 428.
# Testing XML::Debian::ENetInterfaces 0.07, Perl 5.022003, /home/sand/src/perl/repoperls/installed-perls/host/k93msid/v5.22.3/f11c/bin/perl
t/00-load.t ....... ok
Smartmatch is experimental at t/05-perl.t line 10.
Smartmatch is experimental at t/05-perl.t line 11.
Smartmatch is experimental at t/05-perl.t line 13.
Smartmatch is experimental at t/05-perl.t line 15.
Smartmatch is experimental at t/05-perl.t line 16.
Smartmatch is experimental at t/05-perl.t line 17.
Smartmatch is experimental at t/05-perl.t line 18.
Smartmatch is experimental at t/05-perl.t line 19.
Smartmatch is experimental at t/05-perl.t line 21.
Smartmatch is experimental at t/05-perl.t line 23.
Smartmatch is experimental at t/05-perl.t line 24.
Smartmatch is experimental at t/05-perl.t line 25.
Smartmatch is experimental at t/05-perl.t line 26.
Smartmatch is experimental at t/05-perl.t line 27.
Smartmatch is experimental at t/05-perl.t line 28.
Smartmatch is experimental at t/05-perl.t line 29.
Smartmatch is experimental at t/05-perl.t line 30.
Smartmatch is experimental at t/05-perl.t line 31.
given is experimental at t/05-perl.t line 42.
when is experimental at t/05-perl.t line 42.
given is experimental at t/05-perl.t line 44.
when is experimental at t/05-perl.t line 44.
given is experimental at t/05-perl.t line 46.
when is experimental at t/05-perl.t line 46.
given is experimental at t/05-perl.t line 48.
when is experimental at t/05-perl.t line 48.
given is experimental at t/05-perl.t line 50.
when is experimental at t/05-perl.t line 50.
given is experimental at t/05-perl.t line 52.
when is experimental at t/05-perl.t line 52.
given is experimental at t/05-perl.t line 54.
when is experimental at t/05-perl.t line 54.
given is experimental at t/05-perl.t line 57.
when is experimental at t/05-perl.t line 57.
given is experimental at t/05-perl.t line 59.
when is experimental at t/05-perl.t line 59.
given is experimental at t/05-perl.t line 62.
when is experimental at t/05-perl.t line 62.
given is experimental at t/05-perl.t line 64.
when is experimental at t/05-perl.t line 64.
given is experimental at t/05-perl.t line 66.
when is experimental at t/05-perl.t line 66.
given is experimental at t/05-perl.t line 68.
when is experimental at t/05-perl.t line 68.
given is experimental at t/05-perl.t line 71.
when is experimental at t/05-perl.t line 71.
given is experimental at t/05-perl.t line 73.
when is experimental at t/05-perl.t line 73.
given is experimental at t/05-perl.t line 75.
when is experimental at t/05-perl.t line 75.
given is experimental at t/05-perl.t line 77.
when is experimental at t/05-perl.t line 77.
given is experimental at t/05-perl.t line 83.
when is experimental at t/05-perl.t line 84.
when is experimental at t/05-perl.t line 85.
when is experimental at t/05-perl.t line 86.
given is experimental at t/05-perl.t line 111.
when is experimental at t/05-perl.t line 112.
when is experimental at t/05-perl.t line 113.
when is experimental at t/05-perl.t line 114.
when is experimental at t/05-perl.t line 115.
given is experimental at t/05-perl.t line 137.
when is experimental at t/05-perl.t line 138.
when is experimental at t/05-perl.t line 139.
when is experimental at t/05-perl.t line 140.
when is experimental at t/05-perl.t line 141.
given is experimental at t/05-perl.t line 166.
when is experimental at t/05-perl.t line 167.
when is experimental at t/05-perl.t line 168.
when is experimental at t/05-perl.t line 169.
when is experimental at t/05-perl.t line 170.
when is experimental at t/05-perl.t line 171.
t/05-perl.t ....... ok
given is experimental at /tmp/loop_over_bdir-21298-KjjC66/XML-Debian-ENetInterfaces-0.07-0/blib/lib/XML/Debian/ENetInterfaces.pm line 119.
when is experimental at /tmp/loop_over_bdir-21298-KjjC66/XML-Debian-ENetInterfaces-0.07-0/blib/lib/XML/Debian/ENetInterfaces.pm line 120.
when is experimental at /tmp/loop_over_bdir-21298-KjjC66/XML-Debian-ENetInterfaces-0.07-0/blib/lib/XML/Debian/ENetInterfaces.pm line 121.
given is experimental at /tmp/loop_over_bdir-21298-KjjC66/XML-Debian-ENetInterfaces-0.07-0/blib/lib/XML/Debian/ENetInterfaces.pm line 250.
when is experimental at /tmp/loop_over_bdir-21298-KjjC66/XML-Debian-ENetInterfaces-0.07-0/blib/lib/XML/Debian/ENetInterfaces.pm line 251.
when is experimental at /tmp/loop_over_bdir-21298-KjjC66/XML-Debian-ENetInterfaces-0.07-0/blib/lib/XML/Debian/ENetInterfaces.pm line 257.
when is experimental at /tmp/loop_over_bdir-21298-KjjC66/XML-Debian-ENetInterfaces-0.07-0/blib/lib/XML/Debian/ENetInterfaces.pm line 263.
given is experimental at /tmp/loop_over_bdir-21298-KjjC66/XML-Debian-ENetInterfaces-0.07-0/blib/lib/XML/Debian/ENetInterfaces.pm line 281.
when is experimental at /tmp/loop_over_bdir-21298-KjjC66/XML-Debian-ENetInterfaces-0.07-0/blib/lib/XML/Debian/ENetInterfaces.pm line 282.
when is experimental at /tmp/loop_over_bdir-21298-KjjC66/XML-Debian-ENetInterfaces-0.07-0/blib/lib/XML/Debian/ENetInterfaces.pm line 292.
when is experimental at /tmp/loop_over_bdir-21298-KjjC66/XML-Debian-ENetInterfaces-0.07-0/blib/lib/XML/Debian/ENetInterfaces.pm line 299.
given is experimental at /tmp/loop_over_bdir-21298-KjjC66/XML-Debian-ENetInterfaces-0.07-0/blib/lib/XML/Debian/ENetInterfaces.pm line 379.
when is experimental at /tmp/loop_over_bdir-21298-KjjC66/XML-Debian-ENetInterfaces-0.07-0/blib/lib/XML/Debian/ENetInterfaces.pm line 380.
when is experimental at /tmp/loop_over_bdir-21298-KjjC66/XML-Debian-ENetInterfaces-0.07-0/blib/lib/XML/Debian/ENetInterfaces.pm line 381.
when is experimental at /tmp/loop_over_bdir-21298-KjjC66/XML-Debian-ENetInterfaces-0.07-0/blib/lib/XML/Debian/ENetInterfaces.pm line 382.
given is experimental at /tmp/loop_over_bdir-21298-KjjC66/XML-Debian-ENetInterfaces-0.07-0/blib/lib/XML/Debian/ENetInterfaces.pm line 405.
when is experimental at /tmp/loop_over_bdir-21298-KjjC66/XML-Debian-ENetInterfaces-0.07-0/blib/lib/XML/Debian/ENetInterfaces.pm line 406.
when is experimental at /tmp/loop_over_bdir-21298-KjjC66/XML-Debian-ENetInterfaces-0.07-0/blib/lib/XML/Debian/ENetInterfaces.pm line 410.
given is experimental at /tmp/loop_over_bdir-21298-KjjC66/XML-Debian-ENetInterfaces-0.07-0/blib/lib/XML/Debian/ENetInterfaces.pm line 423.
when is experimental at /tmp/loop_over_bdir-21298-KjjC66/XML-Debian-ENetInterfaces-0.07-0/blib/lib/XML/Debian/ENetInterfaces.pm line 424.
when is experimental at /tmp/loop_over_bdir-21298-KjjC66/XML-Debian-ENetInterfaces-0.07-0/blib/lib/XML/Debian/ENetInterfaces.pm line 425.
when is experimental at /tmp/loop_over_bdir-21298-KjjC66/XML-Debian-ENetInterfaces-0.07-0/blib/lib/XML/Debian/ENetInterfaces.pm line 426.
when is experimental at /tmp/loop_over_bdir-21298-KjjC66/XML-Debian-ENetInterfaces-0.07-0/blib/lib/XML/Debian/ENetInterfaces.pm line 427.
when is experimental at /tmp/loop_over_bdir-21298-KjjC66/XML-Debian-ENetInterfaces-0.07-0/blib/lib/XML/Debian/ENetInterfaces.pm line 428.
t/10-run.t ........ ok
t/manifest.t ...... skipped: Author tests not required for installation
given is experimental at /tmp/loop_over_bdir-21298-KjjC66/XML-Debian-ENetInterfaces-0.07-0/blib/lib/XML/Debian/ENetInterfaces.pm line 119.
when is experimental at /tmp/loop_over_bdir-21298-KjjC66/XML-Debian-ENetInterfaces-0.07-0/blib/lib/XML/Debian/ENetInterfaces.pm line 120.
when is experimental at /tmp/loop_over_bdir-21298-KjjC66/XML-Debian-ENetInterfaces-0.07-0/blib/lib/XML/Debian/ENetInterfaces.pm line 121.
given is experimental at /tmp/loop_over_bdir-21298-KjjC66/XML-Debian-ENetInterfaces-0.07-0/blib/lib/XML/Debian/ENetInterfaces.pm line 250.
when is experimental at /tmp/loop_over_bdir-21298-KjjC66/XML-Debian-ENetInterfaces-0.07-0/blib/lib/XML/Debian/ENetInterfaces.pm line 251.
when is experimental at /tmp/loop_over_bdir-21298-KjjC66/XML-Debian-ENetInterfaces-0.07-0/blib/lib/XML/Debian/ENetInterfaces.pm line 257.
when is experimental at /tmp/loop_over_bdir-21298-KjjC66/XML-Debian-ENetInterfaces-0.07-0/blib/lib/XML/Debian/ENetInterfaces.pm line 263.
given is experimental at /tmp/loop_over_bdir-21298-KjjC66/XML-Debian-ENetInterfaces-0.07-0/blib/lib/XML/Debian/ENetInterfaces.pm line 281.
when is experimental at /tmp/loop_over_bdir-21298-KjjC66/XML-Debian-ENetInterfaces-0.07-0/blib/lib/XML/Debian/ENetInterfaces.pm line 282.
when is experimental at /tmp/loop_over_bdir-21298-KjjC66/XML-Debian-ENetInterfaces-0.07-0/blib/lib/XML/Debian/ENetInterfaces.pm line 292.
when is experimental at /tmp/loop_over_bdir-21298-KjjC66/XML-Debian-ENetInterfaces-0.07-0/blib/lib/XML/Debian/ENetInterfaces.pm line 299.
given is experimental at /tmp/loop_over_bdir-21298-KjjC66/XML-Debian-ENetInterfaces-0.07-0/blib/lib/XML/Debian/ENetInterfaces.pm line 379.
when is experimental at /tmp/loop_over_bdir-21298-KjjC66/XML-Debian-ENetInterfaces-0.07-0/blib/lib/XML/Debian/ENetInterfaces.pm line 380.
when is experimental at /tmp/loop_over_bdir-21298-KjjC66/XML-Debian-ENetInterfaces-0.07-0/blib/lib/XML/Debian/ENetInterfaces.pm line 381.
when is experimental at /tmp/loop_over_bdir-21298-KjjC66/XML-Debian-ENetInterfaces-0.07-0/blib/lib/XML/Debian/ENetInterfaces.pm line 382.
given is experimental at /tmp/loop_over_bdir-21298-KjjC66/XML-Debian-ENetInterfaces-0.07-0/blib/lib/XML/Debian/ENetInterfaces.pm line 405.
when is experimental at /tmp/loop_over_bdir-21298-KjjC66/XML-Debian-ENetInterfaces-0.07-0/blib/lib/XML/Debian/ENetInterfaces.pm line 406.
when is experimental at /tmp/loop_over_bdir-21298-KjjC66/XML-Debian-ENetInterfaces-0.07-0/blib/lib/XML/Debian/ENetInterfaces.pm line 410.
given is experimental at /tmp/loop_over_bdir-21298-KjjC66/XML-Debian-ENetInterfaces-0.07-0/blib/lib/XML/Debian/ENetInterfaces.pm line 423.
when is experimental at /tmp/loop_over_bdir-21298-KjjC66/XML-Debian-ENetInterfaces-0.07-0/blib/lib/XML/Debian/ENetInterfaces.pm line 424.
when is experimental at /tmp/loop_over_bdir-21298-KjjC66/XML-Debian-ENetInterfaces-0.07-0/blib/lib/XML/Debian/ENetInterfaces.pm line 425.
when is experimental at /tmp/loop_over_bdir-21298-KjjC66/XML-Debian-ENetInterfaces-0.07-0/blib/lib/XML/Debian/ENetInterfaces.pm line 426.
when is experimental at /tmp/loop_over_bdir-21298-KjjC66/XML-Debian-ENetInterfaces-0.07-0/blib/lib/XML/Debian/ENetInterfaces.pm line 427.
when is experimental at /tmp/loop_over_bdir-21298-KjjC66/XML-Debian-ENetInterfaces-0.07-0/blib/lib/XML/Debian/ENetInterfaces.pm line 428.
t/pod-coverage.t .. ok
t/pod.t ........... ok
All tests successful.
Files=6, Tests=101,  4 wallclock secs ( 0.04 usr  0.04 sys +  0.63 cusr  0.10 csys =  0.81 CPU)
Result: PASS

------------------------------
PREREQUISITES
------------------------------

Prerequisite modules loaded:

requires:

    Module               Need     Have    
    -------------------- -------- --------
    perl                 5.010000 5.022003
    Test::More           0        1.302085
    XML::LibXML          0        2.0129  
    XML::Parser::PerlSAX 0        0.08    

build_requires:

    Module               Need     Have    
    -------------------- -------- --------
    ExtUtils::MakeMaker  0        7.24    

configure_requires:

    Module               Need     Have    
    -------------------- -------- --------
    ExtUtils::MakeMaker  0        7.24    


------------------------------
ENVIRONMENT AND OTHER CONTEXT
------------------------------

Environment variables:

    AUTOMATED_TESTING = 1
    LANG = en_US.UTF-8
    PATH = /home/sand/bin:/usr/local/bin:/usr/bin:/bin:/usr/games:/usr/local/perl/bin:/usr/X11/bin:/sbin:/usr/sbin
    PERL5LIB = 
    PERL5OPT = 
    PERL5_CPANPLUS_IS_RUNNING = 21301
    PERL5_CPAN_IS_RUNNING = 21301
    PERL_CANARY_STABILITY_NOPROMPT = 1
    PERL_MM_USE_DEFAULT = 1
    PERL_USE_UNSAFE_INC = 1
    SHELL = /usr/bin/zsh
    TERM = screen

Perl special variables (and OS-specific diagnostics, for MSWin32):

    $^X = /home/sand/src/perl/repoperls/installed-perls/host/k93msid/v5.22.3/f11c/bin/perl
    $UID/$EUID = 1005 / 1005
    $GID = 1005 1005
    $EGID = 1005 1005

Perl module toolchain versions installed:

    Module              Have    
    ------------------- --------
    CPAN                2.18    
    CPAN::Meta          2.150010
    Cwd                 3.62    
    ExtUtils::CBuilder  0.280224
    ExtUtils::Command   7.24    
    ExtUtils::Install   2.12    
    ExtUtils::MakeMaker 7.24    
    ExtUtils::Manifest  1.70    
    ExtUtils::ParseXS   3.28    
    File::Spec          3.62    
    JSON                2.93    
    JSON::PP            2.93    
    Module::Build       0.4222  
    Module::Signature   0.81    
    Parse::CPAN::Meta   2.150010
    Test::Harness       3.39    
    Test::More          1.302085
    YAML                1.23    
    YAML::Syck          1.30    
    version             0.9918  


--

Summary of my perl5 (revision 5 version 22 subversion 3) configuration:
  Derived from: 16b638b0a20de774856b3a21a75a5e373af5262c
  Platform:
    osname=linux, osvers=4.9.0-2-amd64, archname=x86_64-linux-thread-multi
    uname='linux k93msid 4.9.0-2-amd64 #1 smp debian 4.9.18-1 (2017-03-30) x86_64 gnulinux '
    config_args='-Dprefix=/home/sand/src/perl/repoperls/installed-perls/host/k93msid/v5.22.3/f11c -Dmyhostname=k93msid -Dinstallusrbinperl=n -Uversiononly -Dusedevel -des -Ui_db -Dlibswanted=cl pthread socket inet nsl gdbm dbm malloc dl ld sun m crypt sec util c cposix posix ucb BSD gdbm_compat -Duseithreads -Uuselongdouble -DDEBUGGING=-g'
    hint=recommended, useposix=true, d_sigaction=define
    useithreads=define, usemultiplicity=define
    use64bitint=define, use64bitall=define, uselongdouble=undef
    usemymalloc=n, bincompat5005=undef
  Compiler:
    cc='cc', ccflags ='-D_REENTRANT -D_GNU_SOURCE -fwrapv -fno-strict-aliasing -pipe -fstack-protector-strong -I/usr/local/include -D_LARGEFILE_SOURCE -D_FILE_OFFSET_BITS=64',
    optimize='-O2 -g',
    cppflags='-D_REENTRANT -D_GNU_SOURCE -fwrapv -fno-strict-aliasing -pipe -fstack-protector-strong -I/usr/local/include'
    ccversion='', gccversion='6.3.0 20170406', gccosandvers=''
    intsize=4, longsize=8, ptrsize=8, doublesize=8, byteorder=12345678, doublekind=3
    d_longlong=define, longlongsize=8, d_longdbl=define, longdblsize=16, longdblkind=3
    ivtype='long', ivsize=8, nvtype='double', nvsize=8, Off_t='off_t', lseeksize=8
    alignbytes=8, prototype=define
  Linker and Libraries:
    ld='cc', ldflags =' -fstack-protector-strong -L/usr/local/lib'
    libpth=/usr/local/lib /usr/lib/gcc/x86_64-linux-gnu/6/include-fixed /usr/include/x86_64-linux-gnu /usr/lib /lib/x86_64-linux-gnu /lib/../lib /usr/lib/x86_64-linux-gnu /usr/lib/../lib /lib
    libs=-lpthread -lnsl -ldl -lm -lcrypt -lutil -lc
    perllibs=-lpthread -lnsl -ldl -lm -lcrypt -lutil -lc
    libc=libc-2.24.so, so=so, useshrplib=false, libperl=libperl.a
    gnulibc_version='2.24'
  Dynamic Linking:
    dlsrc=dl_dlopen.xs, dlext=so, d_dlsymun=undef, ccdlflags='-Wl,-E'
    cccdlflags='-fPIC', lddlflags='-shared -O2 -g -L/usr/local/lib -fstack-protector-strong'


Characteristics of this binary (from libperl): 
  Compile-time options: HAS_TIMES MULTIPLICITY PERLIO_LAYERS
                        PERL_DONT_CREATE_GVSV
                        PERL_HASH_FUNC_ONE_AT_A_TIME_HARD
                        PERL_IMPLICIT_CONTEXT PERL_MALLOC_WRAP
                        PERL_NEW_COPY_ON_WRITE PERL_PRESERVE_IVUV
                        PERL_USE_DEVEL USE_64_BIT_ALL USE_64_BIT_INT
                        USE_ITHREADS USE_LARGE_FILES USE_LOCALE
                        USE_LOCALE_COLLATE USE_LOCALE_CTYPE
                        USE_LOCALE_NUMERIC USE_LOCALE_TIME USE_PERLIO
                        USE_PERL_ATOF USE_REENTRANT_API
  Locally applied patches:
	uncommitted-changes
  Built under linux
  Compiled at Apr 14 2017 09:29:50
  %ENV:
    PERL5LIB=""
    PERL5OPT=""
    PERL5_CPANPLUS_IS_RUNNING="21301"
    PERL5_CPAN_IS_RUNNING="21301"
    PERL_CANARY_STABILITY_NOPROMPT="1"
    PERL_MM_USE_DEFAULT="1"
    PERL_USE_UNSAFE_INC="1"
  @INC:
    /home/sand/src/perl/repoperls/installed-perls/host/k93msid/v5.22.3/f11c/lib/site_perl/5.22.3/x86_64-linux-thread-multi
    /home/sand/src/perl/repoperls/installed-perls/host/k93msid/v5.22.3/f11c/lib/site_perl/5.22.3
    /home/sand/src/perl/repoperls/installed-perls/host/k93msid/v5.22.3/f11c/lib/5.22.3/x86_64-linux-thread-multi
    /home/sand/src/perl/repoperls/installed-perls/host/k93msid/v5.22.3/f11c/lib/5.22.3
    .