Dist-Zilla-PluginBundle-MARCEL v1.161760 Perl 5 v5.37.10 x86_64-linux-thread-multi-ld
- Status
- Pass
- From
- Andreas J. König (ANDK)
- Dist
-
Dist-Zilla-PluginBundle-MARCEL v1.161760
- Platform
- Perl 5 v5.37.10 x86_64-linux-thread-multi-ld
- Date
- 2023-03-25 13:59:50
- ID
- 4f34eb70-cb15-11ed-b23e-36dcee7f54a7
This distribution has been tested as part of the CPAN Testers
project, supporting the Perl programming language. See
http://wiki.cpantesters.org/ for more information or email
questions to cpan-testers-discuss@perl.org
--
Dear Olivier Mengue,
This is a computer-generated report for Dist-Zilla-PluginBundle-MARCEL-1.161760
on perl 5.37.10, created by CPAN-Reporter-1.2018.
Thank you for uploading your work to CPAN. Congratulations!
All tests were successful.
Sections of this report:
* Tester comments
* Program output
* Prerequisites
* Environment and other context
------------------------------
TESTER COMMENTS
------------------------------
Additional comments from tester:
this report is from an automated smoke testing program
and was not reviewed by a human for accuracy
------------------------------
PROGRAM OUTPUT
------------------------------
Output from '/usr/bin/make test':
PERL_DL_NONLAZY=1 "/tmp/basesmoker-reloperl-bnnx/bin/perl" "-MExtUtils::Command::MM" "-MTest::Harness" "-e" "undef *Test::Harness::Switches; test_harness(0, 'blib/lib', 'blib/arch')" t/*.t
Smartmatch is deprecated at (eval 175) line 8.
Smartmatch is deprecated at (eval 175) line 15.
Smartmatch is deprecated at (eval 176) line 8.
Smartmatch is deprecated at (eval 176) line 15.
Smartmatch is deprecated at (eval 177) line 8.
Smartmatch is deprecated at (eval 177) line 15.
Smartmatch is deprecated at (eval 178) line 11.
Smartmatch is deprecated at (eval 178) line 21.
t/00-compile.t ............... ok
#
# Versions for all modules listed in MYMETA.json (including optional ones):
#
# === Configure Requires ===
#
# Module Want Have
# ------------------- ---- ----
# ExtUtils::MakeMaker any 7.68
#
# === Build Requires ===
#
# Module Want Have
# ------------------- ---- ----
# ExtUtils::MakeMaker any 7.68
#
# === Test Requires ===
#
# Module Want Have
# ------------------- ---- --------
# ExtUtils::MakeMaker any 7.68
# File::Spec any 3.88
# IO::Handle any 1.51
# IPC::Open3 any 1.22
# Test::More any 1.302194
# blib 1.01 1.07
#
# === Test Recommends ===
#
# Module Want Have
# ---------- -------- --------
# CPAN::Meta 2.120900 2.150010
#
# === Runtime Requires ===
#
# Module Want Have
# ----------------------------------------------- -------- --------
# Dist::Zilla::Plugin::AutoPrereqs any 6.030
# Dist::Zilla::Plugin::AutoVersion any 6.030
# Dist::Zilla::Plugin::Bugtracker any 1.111080
# Dist::Zilla::Plugin::CheckChangeLog any 0.05
# Dist::Zilla::Plugin::CopyFilesFromBuild any 0.170880
# Dist::Zilla::Plugin::ExecDir any 6.030
# Dist::Zilla::Plugin::ExtraTests any 6.030
# Dist::Zilla::Plugin::GatherDir any 6.030
# Dist::Zilla::Plugin::Git::Check any 2.048
# Dist::Zilla::Plugin::Git::Commit any 2.048
# Dist::Zilla::Plugin::Git::Push any 2.048
# Dist::Zilla::Plugin::Git::Tag any 2.048
# Dist::Zilla::Plugin::HasVersionTests any 1.101420
# Dist::Zilla::Plugin::Homepage any 1.101420
# Dist::Zilla::Plugin::InlineFiles any 6.030
# Dist::Zilla::Plugin::InstallGuide any 1.200014
# Dist::Zilla::Plugin::License any 6.030
# Dist::Zilla::Plugin::MakeMaker any 6.030
# Dist::Zilla::Plugin::Manifest any 6.030
# Dist::Zilla::Plugin::ManifestSkip any 6.030
# Dist::Zilla::Plugin::MetaJSON any 6.030
# Dist::Zilla::Plugin::MetaProvides::Package any 2.004003
# Dist::Zilla::Plugin::MetaTests any 6.030
# Dist::Zilla::Plugin::MetaYAML any 6.030
# Dist::Zilla::Plugin::NextRelease any 6.030
# Dist::Zilla::Plugin::PkgVersion any 6.030
# Dist::Zilla::Plugin::Pod2Readme any 0.004
# Dist::Zilla::Plugin::PodCoverageTests any 6.030
# Dist::Zilla::Plugin::PodSyntaxTests any 6.030
# Dist::Zilla::Plugin::PodWeaver any 4.010
# Dist::Zilla::Plugin::PruneCruft any 6.030
# Dist::Zilla::Plugin::PruneFiles any 6.030
# Dist::Zilla::Plugin::Repository any 0.24
# Dist::Zilla::Plugin::ShareDir any 6.030
# Dist::Zilla::Plugin::Test::CheckChanges any missing
# Dist::Zilla::Plugin::Test::Compile 1.100220 2.058
# Dist::Zilla::Plugin::Test::DistManifest any 2.000006
# Dist::Zilla::Plugin::Test::EOL any 0.19
# Dist::Zilla::Plugin::Test::Kwalitee any 2.12
# Dist::Zilla::Plugin::Test::MinimumVersion any 2.000010
# Dist::Zilla::Plugin::Test::NoTabs any 0.15
# Dist::Zilla::Plugin::Test::Perl::Critic any 3.001
# Dist::Zilla::Plugin::Test::PodSpelling any 2.007005
# Dist::Zilla::Plugin::Test::Portability any 2.001001
# Dist::Zilla::Plugin::Test::ReportPrereqs any 0.029
# Dist::Zilla::Plugin::Test::Synopsis any 2.000007
# Dist::Zilla::Plugin::Test::UnusedVars any missing
# Dist::Zilla::Plugin::UploadToCPAN any 6.030
# Dist::Zilla::PluginBundle::Git any 2.048
# Dist::Zilla::Role::BundleDeps any 0.002005
# Dist::Zilla::Role::PluginBundle any 6.030
# Dist::Zilla::Role::PluginBundle::Config::Slicer any 0.202
# Dist::Zilla::Role::PluginBundle::PluginRemover any 0.105
# Moose any 2.2203
# Moose::Autobox any 0.16
# Pod::Weaver::PluginBundle::MARCEL any 1.102460
# Test::Synopsis any 0.17
# strict any 1.12
# warnings any 1.63
#
#
# *** WARNING WARNING WARNING WARNING WARNING WARNING WARNING WARNING ***
#
# The following REQUIRED prerequisites were not satisfied:
#
# Dist::Zilla::Plugin::Test::CheckChanges is not installed (any version required)
# Dist::Zilla::Plugin::Test::UnusedVars is not installed (any version required)
#
t/00-report-prereqs.t ........ ok
t/author-critic.t ............ skipped: these tests are for testing by the author
t/author-eol.t ............... skipped: these tests are for testing by the author
t/author-no-tabs.t ........... skipped: these tests are for testing by the author
t/author-pod-coverage.t ...... skipped: these tests are for testing by the author
t/author-pod-spell.t ......... skipped: these tests are for testing by the author
t/author-pod-syntax.t ........ skipped: these tests are for testing by the author
t/release-check-changes.t .... skipped: these tests are for release candidate testing
t/release-dist-manifest.t .... skipped: these tests are for release candidate testing
t/release-distmeta.t ......... skipped: these tests are for release candidate testing
t/release-has-version.t ...... skipped: these tests are for release candidate testing
t/release-kwalitee.t ......... skipped: these tests are for release candidate testing
t/release-minimum-version.t .. skipped: these tests are for release candidate testing
t/release-portability.t ...... skipped: these tests are for release candidate testing
t/release-synopsis.t ......... skipped: these tests are for release candidate testing
t/release-unused-vars.t ...... skipped: these tests are for release candidate testing
All tests successful.
Files=17, Tests=3, 20 wallclock secs ( 0.04 usr 0.07 sys + 2.38 cusr 2.21 csys = 4.70 CPU)
Result: PASS
------------------------------
PREREQUISITES
------------------------------
Prerequisite modules loaded:
requires:
Module Need Have
----------------------------------------------- -------- --------
Dist::Zilla::Plugin::AutoPrereqs 0 6.030
Dist::Zilla::Plugin::AutoVersion 0 6.030
Dist::Zilla::Plugin::Bugtracker 0 1.111080
Dist::Zilla::Plugin::CheckChangeLog 0 0.05
Dist::Zilla::Plugin::CopyFilesFromBuild 0 0.170880
Dist::Zilla::Plugin::ExecDir 0 6.030
Dist::Zilla::Plugin::ExtraTests 0 6.030
Dist::Zilla::Plugin::GatherDir 0 6.030
Dist::Zilla::Plugin::Git::Check 0 2.048
Dist::Zilla::Plugin::Git::Commit 0 2.048
Dist::Zilla::Plugin::Git::Push 0 2.048
Dist::Zilla::Plugin::Git::Tag 0 2.048
Dist::Zilla::Plugin::HasVersionTests 0 1.101420
Dist::Zilla::Plugin::Homepage 0 1.101420
Dist::Zilla::Plugin::InlineFiles 0 6.030
Dist::Zilla::Plugin::InstallGuide 0 1.200014
Dist::Zilla::Plugin::License 0 6.030
Dist::Zilla::Plugin::MakeMaker 0 6.030
Dist::Zilla::Plugin::Manifest 0 6.030
Dist::Zilla::Plugin::ManifestSkip 0 6.030
Dist::Zilla::Plugin::MetaJSON 0 6.030
Dist::Zilla::Plugin::MetaProvides::Package 0 2.004003
Dist::Zilla::Plugin::MetaTests 0 6.030
Dist::Zilla::Plugin::MetaYAML 0 6.030
Dist::Zilla::Plugin::NextRelease 0 6.030
Dist::Zilla::Plugin::PkgVersion 0 6.030
Dist::Zilla::Plugin::Pod2Readme 0 0.004
Dist::Zilla::Plugin::PodCoverageTests 0 6.030
Dist::Zilla::Plugin::PodSyntaxTests 0 6.030
Dist::Zilla::Plugin::PodWeaver 0 4.010
Dist::Zilla::Plugin::PruneCruft 0 6.030
Dist::Zilla::Plugin::PruneFiles 0 6.030
Dist::Zilla::Plugin::Repository 0 0.24
Dist::Zilla::Plugin::ShareDir 0 6.030
! Dist::Zilla::Plugin::Test::CheckChanges 0 n/a
Dist::Zilla::Plugin::Test::Compile 1.100220 2.058
Dist::Zilla::Plugin::Test::DistManifest 0 2.000006
Dist::Zilla::Plugin::Test::EOL 0 0.19
Dist::Zilla::Plugin::Test::Kwalitee 0 2.12
Dist::Zilla::Plugin::Test::MinimumVersion 0 2.000010
Dist::Zilla::Plugin::Test::NoTabs 0 0.15
Dist::Zilla::Plugin::Test::Perl::Critic 0 3.001
Dist::Zilla::Plugin::Test::PodSpelling 0 2.007005
Dist::Zilla::Plugin::Test::Portability 0 2.001001
Dist::Zilla::Plugin::Test::ReportPrereqs 0 0.029
Dist::Zilla::Plugin::Test::Synopsis 0 2.000007
! Dist::Zilla::Plugin::Test::UnusedVars 0 n/a
Dist::Zilla::Plugin::UploadToCPAN 0 6.030
Dist::Zilla::PluginBundle::Git 0 2.048
Dist::Zilla::Role::BundleDeps 0 0.002005
Dist::Zilla::Role::PluginBundle 0 6.030
Dist::Zilla::Role::PluginBundle::Config::Slicer 0 0.202
Dist::Zilla::Role::PluginBundle::PluginRemover 0 0.105
Moose 0 2.2203
Moose::Autobox 0 0.16
perl 5.008 5.037010
Pod::Weaver::PluginBundle::MARCEL 0 1.102460
strict 0 1.12
Test::Synopsis 0 0.17
warnings 0 1.63
build_requires:
Module Need Have
----------------------------------------------- -------- --------
blib 1.01 1.07
ExtUtils::MakeMaker 0 7.68
File::Spec 0 3.88
IO::Handle 0 1.51
IPC::Open3 0 1.22
Test::More 0 1.302194
configure_requires:
Module Need Have
----------------------------------------------- -------- --------
ExtUtils::MakeMaker 0 7.68
------------------------------
ENVIRONMENT AND OTHER CONTEXT
------------------------------
Environment variables:
AUTOMATED_TESTING = 1
LANG = en_US.UTF-8
PATH = /home/sand/bin:/usr/local/bin:/usr/local/sbin:/usr/sbin:/usr/bin:/sbin:/bin:/usr/games:/usr/local/games:/snap/bin:/usr/local/perl/bin:/usr/X11/bin
PERL5LIB = /tmp/loop_over_bdir-1704316-ivMNMI/App-rmcd-0.280-0/blib/arch:/tmp/loop_over_bdir-1704316-ivMNMI/App-rmcd-0.280-0/blib/lib:/tmp/loop_over_bdir-1704316-ivMNMI/Dpkg-1.21.19-0/blib/arch:/tmp/loop_over_bdir-1704316-ivMNMI/Dpkg-1.21.19-0/blib/lib:/tmp/loop_over_bdir-1704316-ivMNMI/Devel-Required-0.16-0/blib/arch:/tmp/loop_over_bdir-1704316-ivMNMI/Devel-Required-0.16-0/blib/lib
PERL5OPT =
PERL5_CPANPLUS_IS_RUNNING = 1704324
PERL5_CPAN_IS_RUNNING = 1704324
PERL_CANARY_STABILITY_NOPROMPT = 1
PERL_MM_USE_DEFAULT = 1
PERL_USE_UNSAFE_INC = 1
SHELL = /usr/bin/zsh
TERM = screen
Perl special variables (and OS-specific diagnostics, for MSWin32):
$^X = /tmp/basesmoker-reloperl-bnnx/bin/perl
$UID/$EUID = 1005 / 1005
$GID = 1005 1005
$EGID = 1005 1005
Perl module toolchain versions installed:
Module Have
------------------- --------
CPAN 2.34
CPAN::Meta 2.150010
Cwd 3.89
ExtUtils::CBuilder 0.280238
ExtUtils::Command 7.68
ExtUtils::Install 2.22
ExtUtils::MakeMaker 7.68
ExtUtils::Manifest 1.73
ExtUtils::ParseXS 3.49
File::Spec 3.88
JSON 4.10
JSON::PP 4.16
Module::Build 0.4232
Module::Signature 0.88
Parse::CPAN::Meta 2.150010
Test::Harness 3.44
Test::More 1.302194
YAML 1.30
YAML::Syck 1.34
version 0.9929
--
Summary of my perl5 (revision 5 version 37 subversion 10) configuration:
Commit id: d62f5d9eddd273f5a82c0dbad932a8f4d18f9488
Platform:
osname=linux
osvers=5.4.0-144-generic
archname=x86_64-linux-thread-multi-ld
uname='linux k93focal 5.4.0-144-generic #161-ubuntu smp fri feb 3 14:49:04 utc 2023 x86_64 x86_64 x86_64 gnulinux '
config_args='-Dprefix=/home/sand/src/perl/repoperls/installed-perls/host/k93focal/v5.37.10/e463 -Dmyhostname=k93focal -Dinstallusrbinperl=n -Uversiononly -Dusedevel -des -Ui_db -Dlibswanted=cl pthread socket inet nsl gdbm dbm malloc dl ld sun m crypt sec util c cposix posix ucb BSD gdbm_compat -Duseithreads -Duselongdouble -DEBUGGING=both'
hint=recommended
useposix=true
d_sigaction=define
useithreads=define
usemultiplicity=define
use64bitint=define
use64bitall=define
uselongdouble=define
usemymalloc=n
default_inc_excludes_dot=define
Compiler:
cc='cc'
ccflags ='-D_REENTRANT -D_GNU_SOURCE -fwrapv -DDEBUGGING -fno-strict-aliasing -pipe -fstack-protector-strong -I/usr/local/include -D_LARGEFILE_SOURCE -D_FILE_OFFSET_BITS=64'
optimize='-O2 -g'
cppflags='-D_REENTRANT -D_GNU_SOURCE -fwrapv -DDEBUGGING -fno-strict-aliasing -pipe -fstack-protector-strong -I/usr/local/include'
ccversion=''
gccversion='9.4.0'
gccosandvers=''
intsize=4
longsize=8
ptrsize=8
doublesize=8
byteorder=12345678
doublekind=3
d_longlong=define
longlongsize=8
d_longdbl=define
longdblsize=16
longdblkind=3
ivtype='long'
ivsize=8
nvtype='long double'
nvsize=16
Off_t='off_t'
lseeksize=8
alignbytes=16
prototype=define
Linker and Libraries:
ld='cc'
ldflags =' -fstack-protector-strong -L/usr/local/lib'
libpth=/usr/local/lib /usr/lib/x86_64-linux-gnu /usr/lib /usr/lib64
libs=-lpthread -lnsl -ldl -lm -lcrypt -lutil -lc
perllibs=-lpthread -lnsl -ldl -lm -lcrypt -lutil -lc
libc=libc-2.31.so
so=so
useshrplib=false
libperl=libperl.a
gnulibc_version='2.31'
Dynamic Linking:
dlsrc=dl_dlopen.xs
dlext=so
d_dlsymun=undef
ccdlflags='-Wl,-E'
cccdlflags='-fPIC'
lddlflags='-shared -O2 -g -L/usr/local/lib -fstack-protector-strong'
Characteristics of this binary (from libperl):
Compile-time options:
DEBUGGING
HAS_TIMES
MULTIPLICITY
PERLIO_LAYERS
PERL_COPY_ON_WRITE
PERL_DONT_CREATE_GVSV
PERL_HASH_FUNC_SIPHASH13
PERL_HASH_USE_SBOX32
PERL_MALLOC_WRAP
PERL_OP_PARENT
PERL_PRESERVE_IVUV
PERL_TRACK_MEMPOOL
PERL_USE_DEVEL
PERL_USE_SAFE_PUTENV
USE_64_BIT_ALL
USE_64_BIT_INT
USE_ITHREADS
USE_LARGE_FILES
USE_LOCALE
USE_LOCALE_COLLATE
USE_LOCALE_CTYPE
USE_LOCALE_NUMERIC
USE_LOCALE_TIME
USE_LONG_DOUBLE
USE_PERLIO
USE_PERL_ATOF
USE_REENTRANT_API
USE_THREAD_SAFE_LOCALE
Built under linux
Compiled at Mar 21 2023 11:43:40
%ENV:
PERL5LIB="/tmp/loop_over_bdir-1704316-ivMNMI/App-rmcd-0.280-0/blib/arch:/tmp/loop_over_bdir-1704316-ivMNMI/App-rmcd-0.280-0/blib/lib:/tmp/loop_over_bdir-1704316-ivMNMI/Dpkg-1.21.19-0/blib/arch:/tmp/loop_over_bdir-1704316-ivMNMI/Dpkg-1.21.19-0/blib/lib:/tmp/loop_over_bdir-1704316-ivMNMI/Devel-Required-0.16-0/blib/arch:/tmp/loop_over_bdir-1704316-ivMNMI/Devel-Required-0.16-0/blib/lib"
PERL5OPT=""
PERL5_CPANPLUS_IS_RUNNING="1704324"
PERL5_CPAN_IS_RUNNING="1704324"
PERL_CANARY_STABILITY_NOPROMPT="1"
PERL_MM_USE_DEFAULT="1"
PERL_USE_UNSAFE_INC="1"
@INC:
/tmp/loop_over_bdir-1704316-ivMNMI/App-rmcd-0.280-0/blib/arch
/tmp/loop_over_bdir-1704316-ivMNMI/App-rmcd-0.280-0/blib/lib
/tmp/loop_over_bdir-1704316-ivMNMI/Dpkg-1.21.19-0/blib/arch
/tmp/loop_over_bdir-1704316-ivMNMI/Dpkg-1.21.19-0/blib/lib
/tmp/loop_over_bdir-1704316-ivMNMI/Devel-Required-0.16-0/blib/arch
/tmp/loop_over_bdir-1704316-ivMNMI/Devel-Required-0.16-0/blib/lib
/home/sand/src/perl/repoperls/installed-perls/host/k93focal/v5.37.10/e463/lib/site_perl/5.37.10/x86_64-linux-thread-multi-ld
/home/sand/src/perl/repoperls/installed-perls/host/k93focal/v5.37.10/e463/lib/site_perl/5.37.10
/home/sand/src/perl/repoperls/installed-perls/host/k93focal/v5.37.10/e463/lib/5.37.10/x86_64-linux-thread-multi-ld
/home/sand/src/perl/repoperls/installed-perls/host/k93focal/v5.37.10/e463/lib/5.37.10
.