Perl-MinimumVersion v1.40 Perl 5 v5.39.2 x86_64-linux-ld
- Status
- Pass
- From
- Andreas J. König (ANDK)
- Dist
-
Perl-MinimumVersion v1.40
- Platform
- Perl 5 v5.39.2 x86_64-linux-ld
- Date
- 2023-08-21 22:37:28
- ID
- 4f39adee-4073-11ee-ab3e-ece9eee94e4e
This distribution has been tested as part of the CPAN Testers
project, supporting the Perl programming language. See
http://wiki.cpantesters.org/ for more information or email
questions to cpan-testers-discuss@perl.org
--
Dear Dan Book,
This is a computer-generated report for Perl-MinimumVersion-1.40
on perl 5.39.2, created by CPAN-Reporter-1.2019.
Thank you for uploading your work to CPAN. Congratulations!
All tests were successful.
Sections of this report:
* Tester comments
* Program output
* Prerequisites
* Environment and other context
------------------------------
TESTER COMMENTS
------------------------------
Additional comments from tester:
this report is from an automated smoke testing program
and was not reviewed by a human for accuracy
------------------------------
PROGRAM OUTPUT
------------------------------
Output from '/usr/bin/make test':
PERL_DL_NONLAZY=1 "/tmp/basesmoker-reloperl-ZzvO/bin/perl" "-MExtUtils::Command::MM" "-MTest::Harness" "-e" "undef *Test::Harness::Switches; test_harness(0, 'blib/lib', 'blib/arch')" t/*.t
#
# Versions for all modules listed in MYMETA.json (including optional ones):
#
# === Configure Requires ===
#
# Module Want Have
# ------------------- ---- ----
# ExtUtils::MakeMaker any 7.70
#
# === Configure Suggests ===
#
# Module Want Have
# -------- ------- ----
# JSON::PP 2.27300 4.16
#
# === Build Requires ===
#
# Module Want Have
# ------------------- ---- ----
# ExtUtils::MakeMaker any 7.70
#
# === Test Requires ===
#
# Module Want Have
# --------------------- ---- --------
# ExtUtils::MakeMaker any 7.70
# File::Spec any 3.90
# File::Spec::Functions any 3.90
# Test::More 0.47 1.302195
#
# === Test Recommends ===
#
# Module Want Have
# ---------- -------- --------
# CPAN::Meta 2.120900 2.150010
#
# === Runtime Requires ===
#
# Module Want Have
# ---------------------- ----- ------
# Carp any 1.54
# Exporter any 5.77
# File::Find::Rule any 0.34
# File::Find::Rule::Perl any 1.16
# File::Spec any 3.90
# Getopt::Long any 2.54
# List::Util 1.20 1.63
# PPI 1.215 1.276
# PPI::Util any 1.276
# PPIx::Regexp 0.033 0.088
# PPIx::Utils any 0.003
# Params::Util 0.25 1.102
# strict any 1.13
# vars any 1.05
# version 0.76 0.9929
# warnings any 1.67
#
t/00-report-prereqs.t .... ok
t/02_main.t .............. ok
t/03_open_3arg.t ......... ok
t/04_substr.t ............ ok
t/05_foreach.t ........... ok
t/06_weaken.t ............ ok
t/07_splice.t ............ ok
t/08_mkdir.t ............. ok
t/09_pkg_name_version.t .. ok
t/10_yada_yada_yada.t .... ok
t/11_feature_bundle.t .... ok
t/12_double_colon.t ...... ok
t/13_perl_510.t .......... ok
t/14_regex.t ............. ok
t/15_each.t .............. ok
t/16_binmode.t ........... ok
t/17_when.t .............. ok
t/18_exists_subr.t ....... ok
t/19_opentemp.t .......... ok
t/20_sort_subref.t ....... ok
t/21_openscalar.t ........ ok
t/22_while_readdir.t ..... ok
t/23_internals.t ......... ok
t/24_state.t ............. ok
t/25_scheduled_blocks.t .. ok
t/26_stacked_labels.t .... ok
t/28_experimental.t ...... ok
All tests successful.
Files=27, Tests=350, 6 wallclock secs ( 0.10 usr 0.02 sys + 4.66 cusr 0.75 csys = 5.53 CPU)
Result: PASS
------------------------------
PREREQUISITES
------------------------------
Prerequisite modules loaded:
requires:
Module Need Have
---------------------- ----- --------
Carp 0 1.54
Exporter 0 5.77
File::Find::Rule 0 0.34
File::Find::Rule::Perl 0 1.16
File::Spec 0 3.90
Getopt::Long 0 2.54
List::Util 1.20 1.63
Params::Util 0.25 1.102
perl 5.006 5.039002
PPI 1.215 1.276
PPI::Util 0 1.276
PPIx::Regexp 0.033 0.088
PPIx::Utils 0 0.003
strict 0 1.13
vars 0 1.05
version 0.76 0.9929
warnings 0 1.67
build_requires:
Module Need Have
---------------------- ----- --------
ExtUtils::MakeMaker 0 7.70
File::Spec 0 3.90
File::Spec::Functions 0 3.90
Test::More 0.47 1.302195
configure_requires:
Module Need Have
---------------------- ----- --------
ExtUtils::MakeMaker 0 7.70
------------------------------
ENVIRONMENT AND OTHER CONTEXT
------------------------------
Environment variables:
AUTOMATED_TESTING = 1
LANG = en_US.UTF-8
PATH = /home/sand/bin:/usr/local/bin:/usr/local/sbin:/usr/sbin:/usr/bin:/sbin:/bin:/usr/games:/usr/local/games:/snap/bin:/usr/local/perl/bin:/usr/X11/bin
PERL5LIB = /tmp/loop_over_bdir-2358-8yd2Gf/App-nrun-v1.1.2-0/blib/arch:/tmp/loop_over_bdir-2358-8yd2Gf/App-nrun-v1.1.2-0/blib/lib
PERL5OPT =
PERL5_CPANPLUS_IS_RUNNING = 2366
PERL5_CPAN_IS_RUNNING = 2366
PERL_CANARY_STABILITY_NOPROMPT = 1
PERL_MM_USE_DEFAULT = 1
PERL_USE_UNSAFE_INC = 1
SHELL = /usr/bin/zsh
TERM = screen
Perl special variables (and OS-specific diagnostics, for MSWin32):
$^X = /tmp/basesmoker-reloperl-ZzvO/bin/perl
$UID/$EUID = 1005 / 1005
$GID = 1005 1005
$EGID = 1005 1005
Perl module toolchain versions installed:
Module Have
------------------- --------
CPAN 2.36
CPAN::Meta 2.150010
Cwd 3.90
ExtUtils::CBuilder 0.280239
ExtUtils::Command 7.70
ExtUtils::Install 2.22
ExtUtils::MakeMaker 7.70
ExtUtils::Manifest 1.75
ExtUtils::ParseXS 3.51
File::Spec 3.90
JSON 4.10
JSON::PP 4.16
Module::Build 0.4234
Module::Signature 0.88
Parse::CPAN::Meta 2.150010
Test2 1.302195
Test::Harness 3.47
Test::More 1.302195
YAML 1.30
YAML::Syck 1.34
version 0.9929
--
Summary of my perl5 (revision 5 version 39 subversion 2) configuration:
Commit id: e246fd63c3ad4034efc21113d44231047f6b2909
Platform:
osname=linux
osvers=5.4.0-155-generic
archname=x86_64-linux-ld
uname='linux k93focal 5.4.0-155-generic #172-ubuntu smp fri jul 7 16:10:02 utc 2023 x86_64 x86_64 x86_64 gnulinux '
config_args='-Dprefix=/home/sand/src/perl/repoperls/installed-perls/host/k93focal/v5.39.2/d3e4 -Dmyhostname=k93focal -Dinstallusrbinperl=n -Uversiononly -Dusedevel -des -Ui_db -Dlibswanted=cl pthread socket inet nsl gdbm dbm malloc dl ld sun m crypt sec util c cposix posix ucb BSD gdbm_compat -Uuseithreads -Duselongdouble -DEBUGGING=both'
hint=recommended
useposix=true
d_sigaction=define
useithreads=undef
usemultiplicity=undef
use64bitint=define
use64bitall=define
uselongdouble=define
usemymalloc=n
default_inc_excludes_dot=define
Compiler:
cc='cc'
ccflags ='-fwrapv -DDEBUGGING -fno-strict-aliasing -pipe -fstack-protector-strong -I/usr/local/include -D_LARGEFILE_SOURCE -D_FILE_OFFSET_BITS=64'
optimize='-O2 -g'
cppflags='-fwrapv -DDEBUGGING -fno-strict-aliasing -pipe -fstack-protector-strong -I/usr/local/include'
ccversion=''
gccversion='9.4.0'
gccosandvers=''
intsize=4
longsize=8
ptrsize=8
doublesize=8
byteorder=12345678
doublekind=3
d_longlong=define
longlongsize=8
d_longdbl=define
longdblsize=16
longdblkind=3
ivtype='long'
ivsize=8
nvtype='long double'
nvsize=16
Off_t='off_t'
lseeksize=8
alignbytes=16
prototype=define
Linker and Libraries:
ld='cc'
ldflags =' -fstack-protector-strong -L/usr/local/lib'
libpth=/usr/local/lib /usr/lib/x86_64-linux-gnu /usr/lib /usr/lib64
libs=-lpthread -lnsl -ldl -lm -lcrypt -lutil -lc
perllibs=-lpthread -lnsl -ldl -lm -lcrypt -lutil -lc
libc=libc-2.31.so
so=so
useshrplib=false
libperl=libperl.a
gnulibc_version='2.31'
Dynamic Linking:
dlsrc=dl_dlopen.xs
dlext=so
d_dlsymun=undef
ccdlflags='-Wl,-E'
cccdlflags='-fPIC'
lddlflags='-shared -O2 -g -L/usr/local/lib -fstack-protector-strong'
Characteristics of this binary (from libperl):
Compile-time options:
DEBUGGING
HAS_LONG_DOUBLE
HAS_STRTOLD
HAS_TIMES
PERLIO_LAYERS
PERL_COPY_ON_WRITE
PERL_DONT_CREATE_GVSV
PERL_HASH_FUNC_SIPHASH13
PERL_HASH_USE_SBOX32
PERL_MALLOC_WRAP
PERL_OP_PARENT
PERL_PRESERVE_IVUV
PERL_USE_DEVEL
PERL_USE_SAFE_PUTENV
USE_64_BIT_ALL
USE_64_BIT_INT
USE_LARGE_FILES
USE_LOCALE
USE_LOCALE_COLLATE
USE_LOCALE_CTYPE
USE_LOCALE_NUMERIC
USE_LOCALE_TIME
USE_LONG_DOUBLE
USE_PERLIO
USE_PERL_ATOF
Built under linux
Compiled at Aug 21 2023 03:23:06
%ENV:
PERL5LIB="/tmp/loop_over_bdir-2358-8yd2Gf/App-nrun-v1.1.2-0/blib/arch:/tmp/loop_over_bdir-2358-8yd2Gf/App-nrun-v1.1.2-0/blib/lib"
PERL5OPT=""
PERL5_CPANPLUS_IS_RUNNING="2366"
PERL5_CPAN_IS_RUNNING="2366"
PERL_CANARY_STABILITY_NOPROMPT="1"
PERL_MM_USE_DEFAULT="1"
PERL_USE_UNSAFE_INC="1"
@INC:
/tmp/loop_over_bdir-2358-8yd2Gf/App-nrun-v1.1.2-0/blib/arch
/tmp/loop_over_bdir-2358-8yd2Gf/App-nrun-v1.1.2-0/blib/lib
/home/sand/src/perl/repoperls/installed-perls/host/k93focal/v5.39.2/d3e4/lib/site_perl/5.39.2/x86_64-linux-ld
/home/sand/src/perl/repoperls/installed-perls/host/k93focal/v5.39.2/d3e4/lib/site_perl/5.39.2
/home/sand/src/perl/repoperls/installed-perls/host/k93focal/v5.39.2/d3e4/lib/5.39.2/x86_64-linux-ld
/home/sand/src/perl/repoperls/installed-perls/host/k93focal/v5.39.2/d3e4/lib/5.39.2
.