Algorithm-AM v3.11 Perl 5 v5.14.3 i686-linux-thread-multi

Status
Pass
From
Nigel Horne
Dist
Algorithm-AM v3.11
Platform
Perl 5 v5.14.3 i686-linux-thread-multi
Date
2017-11-15 11:08:29
ID
4f40a78e-c9f5-11e7-b8bd-809199b835e7
This distribution has been tested as part of the CPAN Testers
project, supporting the Perl programming language.  See
http://wiki.cpantesters.org/ for more information or email
questions to cpan-testers-discuss@perl.org


--
Dear Nathan Gary Glenn,

This is a computer-generated report for Algorithm-AM-3.11
on perl 5.14.3, created by CPAN-Reporter-1.2017.

Thank you for uploading your work to CPAN.  Congratulations!
All tests were successful.

Sections of this report:

    * Tester comments
    * Program output
    * Prerequisites
    * Environment and other context

------------------------------
TESTER COMMENTS
------------------------------

Additional comments from tester:

this report is from an automated smoke testing program
and was not reviewed by a human for accuracy

------------------------------
PROGRAM OUTPUT
------------------------------

Output from '/usr/bin/make test':

"/home/njh/perl5/perlbrew/perls/perl-5.14.3/bin/perl" -MExtUtils::Command::MM -e 'cp_nonempty' -- AM.bs blib/arch/auto/Algorithm/AM/AM.bs 644
PERL_DL_NONLAZY=1 "/home/njh/perl5/perlbrew/perls/perl-5.14.3/bin/perl" "-MExtUtils::Command::MM" "-MTest::Harness" "-e" "undef *Test::Harness::Switches; test_harness(0, 'blib/lib', 'blib/arch')" t/*.t
t/0-use_AM.t ........... ok
t/0-use_Batch.t ........ ok
t/01-Item.t ............ ok
# 
# Versions for all modules listed in MYMETA.json (including optional ones):
# 
# === Configure Requires ===
# 
#     Module              Want Have
#     ------------------- ---- ----
#     ExtUtils::MakeMaker 6.17 7.18
# 
# === Build Requires ===
# 
#     Module              Want Have
#     ------------------- ---- ----
#     ExtUtils::MakeMaker  any 7.18
# 
# === Test Requires ===
# 
#     Module              Want     Have
#     ------------------- ---- --------
#     ExtUtils::MakeMaker  any     7.18
#     File::Spec           any     3.60
#     FindBin              any     1.50
#     Test::Deep           any    1.120
#     Test::Exception      any     0.43
#     Test::LongString     any     0.17
#     Test::More          0.88 1.001014
#     Test::NoWarnings     any     1.04
# 
# === Test Recommends ===
# 
#     Module         Want     Have
#     ---------- -------- --------
#     CPAN::Meta 2.120900 2.150005
# 
# === Runtime Requires ===
# 
#     Module            Want     Have
#     ----------------- ---- --------
#     Carp               any     1.38
#     Class::Tiny        any    1.006
#     Exporter::Easy     any     0.18
#     Getopt::Long      2.13     2.48
#     Import::Into       any 1.002005
#     Log::Any           any    1.701
#     Log::Any::Adapter  any    1.701
#     Path::Tiny         any    0.104
#     Pod::Usage         any     1.67
#     Text::Table        any    1.133
#     XSLoader           any     0.16
#     feature            any     1.20
#     integer            any     1.00
#     strict             any     1.04
#     warnings           any     1.12
# 
t/00-report-prereqs.t .. ok
t/02-DataSet.t ......... ok
t/03-AM.t .............. ok
t/05-Bigint.t .......... ok
t/04-Result.t .......... ok
t/06-Batch.t ........... ok
t/07-Batch_hooks.t ..... ok
t/09-soybean.t ......... ok
t/08-finnverb.t ........ ok
All tests successful.
Files=12, Tests=143,  3 wallclock secs ( 0.08 usr  0.02 sys +  2.92 cusr  0.11 csys =  3.13 CPU)
Result: PASS

------------------------------
PREREQUISITES
------------------------------

Prerequisite modules loaded:

requires:

    Module              Need     Have    
    ------------------- -------- --------
    Carp                0        1.38    
    Class::Tiny         0        1.006   
    Exporter::Easy      0        0.18    
    feature             0        1.20    
    Getopt::Long        2.13     2.48    
    Import::Into        0        1.002005
    integer             0        1.00    
    Log::Any            0        1.701   
    Log::Any::Adapter   0        1.701   
    Path::Tiny          0        0.104   
    perl                5.010000 5.014003
    Pod::Usage          0        1.67    
    strict              0        1.04    
    Text::Table         0        1.133   
    warnings            0        1.12    
    XSLoader            0        0.16    

build_requires:

    Module              Need     Have    
    ------------------- -------- --------
    ExtUtils::MakeMaker 0        7.18    
    File::Spec          0        3.60    
    FindBin             0        1.50    
    Test::Deep          0        1.120   
    Test::Exception     0        0.43    
    Test::LongString    0        0.17    
    Test::More          0.88     1.001014
    Test::NoWarnings    0        1.04    

configure_requires:

    Module              Need     Have    
    ------------------- -------- --------
    ExtUtils::MakeMaker 6.17     7.18    
    perl                5.010    5.014003


------------------------------
ENVIRONMENT AND OTHER CONTEXT
------------------------------

Environment variables:

    AUTOMATED_TESTING = 1
    HARNESS_OPTIONS = j2
    LANG = en_US.UTF-8
    PATH = /home/njh/perl5/perlbrew/bin:/home/njh/perl5/perlbrew/perls/perl-5.14.3/bin:/home/njh/perl5/perlbrew/bin:/usr/bin:/bin
    PERL5LIB = /home/njh/.cpan/build/Text-Table-1.133-6/blib/arch:/home/njh/.cpan/build/Text-Table-1.133-6/blib/lib:/home/njh/.cpan/build/Text-Aligner-0.13-6/blib/arch:/home/njh/.cpan/build/Text-Aligner-0.13-6/blib/lib:/home/njh/.cpan/build/Test-LongString-0.17-8/blib/arch:/home/njh/.cpan/build/Test-LongString-0.17-8/blib/lib:/home/njh/.cpan/build/Test-Exception-0.43-4/blib/arch:/home/njh/.cpan/build/Test-Exception-0.43-4/blib/lib:/home/njh/.cpan/build/Path-Tiny-0.104-5/blib/arch:/home/njh/.cpan/build/Path-Tiny-0.104-5/blib/lib:/home/njh/.cpan/build/Log-Any-1.701-4/blib/arch:/home/njh/.cpan/build/Log-Any-1.701-4/blib/lib:/home/njh/.cpan/build/Import-Into-1.002005-6/blib/arch:/home/njh/.cpan/build/Import-Into-1.002005-6/blib/lib:/home/njh/.cpan/build/Module-Runtime-0.016-10/blib/arch:/home/njh/.cpan/build/Module-Runtime-0.016-10/blib/lib:/home/njh/.cpan/build/Exporter-Easy-0.18-6/blib/arch:/home/njh/.cpan/build/Exporter-Easy-0.18-6/blib/lib:/home/njh/.cpan/build/Class-Tiny-1.006-7/blib/arch:/home/njh/.cpan/build/Class-Tiny-1.006-7/blib/lib
    PERL5OPT = 
    PERL5_CPANPLUS_IS_RUNNING = 20551
    PERL5_CPAN_IS_RUNNING = 20551
    PERLBREW_BASHRC_VERSION = 0.73
    PERLBREW_HOME = /home/njh/.perlbrew
    PERLBREW_LIB = 
    PERLBREW_MANPATH = /home/njh/perl5/perlbrew/perls/perl-5.14.3/man
    PERLBREW_PATH = /home/njh/perl5/perlbrew/bin:/home/njh/perl5/perlbrew/perls/perl-5.14.3/bin
    PERLBREW_PERL = perl-5.14.3
    PERLBREW_ROOT = /home/njh/perl5/perlbrew
    PERLBREW_VERSION = 0.73
    PERL_LOCAL_LIB_ROOT = 
    SHELL = /bin/sh

Perl special variables (and OS-specific diagnostics, for MSWin32):

    $^X = /home/njh/perl5/perlbrew/perls/perl-5.14.3/bin/perl
    $UID/$EUID = 1000 / 1000
    $GID = 1000 4 24 25 29 30 44 46 108 1000
    $EGID = 1000 4 24 25 29 30 44 46 108 1000

Perl module toolchain versions installed:

    Module              Have    
    ------------------- --------
    CPAN                2.16    
    CPAN::Meta          2.150005
    Cwd                 3.60    
    ExtUtils::CBuilder  0.280224
    ExtUtils::Command   7.18    
    ExtUtils::Install   2.04    
    ExtUtils::MakeMaker 7.18    
    ExtUtils::Manifest  1.70    
    ExtUtils::ParseXS   3.30    
    File::Spec          3.60    
    JSON                n/a     
    JSON::PP            2.27300 
    Module::Build       0.4214  
    Module::Signature   n/a     
    Parse::CPAN::Meta   1.4417  
    Test::Harness       3.35    
    Test::More          1.001014
    YAML                1.23    
    YAML::Syck          1.30    
    version             0.9912  


--

Summary of my perl5 (revision 5 version 14 subversion 3) configuration:
   
  Platform:
    osname=linux, osvers=4.2.0-1-686-pae, archname=i686-linux-thread-multi
    uname='linux zack 4.2.0-1-686-pae #1 smp debian 4.2.6-1 (2015-11-10) i686 gnulinux '
    config_args='-de -Dprefix=/home/njh/perl5/perlbrew/perls/perl-5.14.3 -Duseithreads -Dusemultiplicity -Dusedevel -Accflags= -Aeval:scriptdir=/home/njh/perl5/perlbrew/perls/perl-5.14.3/bin'
    hint=recommended, useposix=true, d_sigaction=define
    useithreads=define, usemultiplicity=define
    useperlio=define, d_sfio=undef, uselargefiles=define, usesocks=undef
    use64bitint=undef, use64bitall=undef, uselongdouble=undef
    usemymalloc=n, bincompat5005=undef
  Compiler:
    cc='cc', ccflags ='-D_REENTRANT -D_GNU_SOURCE -fno-strict-aliasing -pipe -fstack-protector -I/usr/local/include -D_LARGEFILE_SOURCE -D_FILE_OFFSET_BITS=64',
    optimize='-O2',
    cppflags='-D_REENTRANT -D_GNU_SOURCE -fno-strict-aliasing -pipe -fstack-protector -I/usr/local/include'
    ccversion='', gccversion='5.2.1 20151121', gccosandvers=''
    intsize=4, longsize=4, ptrsize=4, doublesize=8, byteorder=1234
    d_longlong=define, longlongsize=8, d_longdbl=define, longdblsize=12
    ivtype='long', ivsize=4, nvtype='double', nvsize=8, Off_t='off_t', lseeksize=8
    alignbytes=4, prototype=define
  Linker and Libraries:
    ld='cc', ldflags =' -fstack-protector -L/usr/local/lib'
    libpth=/usr/local/lib /lib/i386-linux-gnu /lib/../lib /usr/lib/i386-linux-gnu /usr/lib/../lib /lib /usr/lib
    libs=-lnsl -lgdbm -ldb -ldl -lm -lcrypt -lutil -lpthread -lc -lgdbm_compat
    perllibs=-lnsl -ldl -lm -lcrypt -lutil -lpthread -lc
    libc=libc-2.19.so, so=so, useshrplib=false, libperl=libperl.a
    gnulibc_version='2.19'
  Dynamic Linking:
    dlsrc=dl_dlopen.xs, dlext=so, d_dlsymun=undef, ccdlflags='-Wl,-E'
    cccdlflags='-fPIC', lddlflags='-shared -O2 -L/usr/local/lib -fstack-protector'


Characteristics of this binary (from libperl): 
  Compile-time options: MULTIPLICITY PERL_DONT_CREATE_GVSV
                        PERL_IMPLICIT_CONTEXT PERL_MALLOC_WRAP
                        PERL_PRESERVE_IVUV PERL_USE_DEVEL USE_ITHREADS
                        USE_LARGE_FILES USE_PERLIO USE_PERL_ATOF
                        USE_REENTRANT_API
  Locally applied patches:
	Devel::PatchPerl 1.38
  Built under linux
  Compiled at Nov 24 2015 06:17:24
  %ENV:
    PERL5LIB="/home/njh/.cpan/build/Text-Table-1.133-6/blib/arch:/home/njh/.cpan/build/Text-Table-1.133-6/blib/lib:/home/njh/.cpan/build/Text-Aligner-0.13-6/blib/arch:/home/njh/.cpan/build/Text-Aligner-0.13-6/blib/lib:/home/njh/.cpan/build/Test-LongString-0.17-8/blib/arch:/home/njh/.cpan/build/Test-LongString-0.17-8/blib/lib:/home/njh/.cpan/build/Test-Exception-0.43-4/blib/arch:/home/njh/.cpan/build/Test-Exception-0.43-4/blib/lib:/home/njh/.cpan/build/Path-Tiny-0.104-5/blib/arch:/home/njh/.cpan/build/Path-Tiny-0.104-5/blib/lib:/home/njh/.cpan/build/Log-Any-1.701-4/blib/arch:/home/njh/.cpan/build/Log-Any-1.701-4/blib/lib:/home/njh/.cpan/build/Import-Into-1.002005-6/blib/arch:/home/njh/.cpan/build/Import-Into-1.002005-6/blib/lib:/home/njh/.cpan/build/Module-Runtime-0.016-10/blib/arch:/home/njh/.cpan/build/Module-Runtime-0.016-10/blib/lib:/home/njh/.cpan/build/Exporter-Easy-0.18-6/blib/arch:/home/njh/.cpan/build/Exporter-Easy-0.18-6/blib/lib:/home/njh/.cpan/build/Class-Tiny-1.006-7/blib/arch:/home/njh/.cpan/build/Class-Tiny-1.006-7/blib/lib"
    PERL5OPT=""
    PERL5_CPANPLUS_IS_RUNNING="20551"
    PERL5_CPAN_IS_RUNNING="20551"
    PERLBREW_BASHRC_VERSION="0.73"
    PERLBREW_HOME="/home/njh/.perlbrew"
    PERLBREW_LIB=""
    PERLBREW_MANPATH="/home/njh/perl5/perlbrew/perls/perl-5.14.3/man"
    PERLBREW_PATH="/home/njh/perl5/perlbrew/bin:/home/njh/perl5/perlbrew/perls/perl-5.14.3/bin"
    PERLBREW_PERL="perl-5.14.3"
    PERLBREW_ROOT="/home/njh/perl5/perlbrew"
    PERLBREW_VERSION="0.73"
    PERL_LOCAL_LIB_ROOT=""
  @INC:
    /home/njh/.cpan/build/Text-Table-1.133-6/blib/arch
    /home/njh/.cpan/build/Text-Table-1.133-6/blib/lib
    /home/njh/.cpan/build/Text-Aligner-0.13-6/blib/arch
    /home/njh/.cpan/build/Text-Aligner-0.13-6/blib/lib
    /home/njh/.cpan/build/Test-LongString-0.17-8/blib/arch
    /home/njh/.cpan/build/Test-LongString-0.17-8/blib/lib
    /home/njh/.cpan/build/Test-Exception-0.43-4/blib/arch
    /home/njh/.cpan/build/Test-Exception-0.43-4/blib/lib
    /home/njh/.cpan/build/Path-Tiny-0.104-5/blib/arch
    /home/njh/.cpan/build/Path-Tiny-0.104-5/blib/lib
    /home/njh/.cpan/build/Log-Any-1.701-4/blib/arch
    /home/njh/.cpan/build/Log-Any-1.701-4/blib/lib
    /home/njh/.cpan/build/Import-Into-1.002005-6/blib/arch
    /home/njh/.cpan/build/Import-Into-1.002005-6/blib/lib
    /home/njh/.cpan/build/Module-Runtime-0.016-10/blib/arch
    /home/njh/.cpan/build/Module-Runtime-0.016-10/blib/lib
    /home/njh/.cpan/build/Exporter-Easy-0.18-6/blib/arch
    /home/njh/.cpan/build/Exporter-Easy-0.18-6/blib/lib
    /home/njh/.cpan/build/Class-Tiny-1.006-7/blib/arch
    /home/njh/.cpan/build/Class-Tiny-1.006-7/blib/lib
    /home/njh/perl5/perlbrew/perls/perl-5.14.3/lib/site_perl/5.14.3/i686-linux-thread-multi
    /home/njh/perl5/perlbrew/perls/perl-5.14.3/lib/site_perl/5.14.3
    /home/njh/perl5/perlbrew/perls/perl-5.14.3/lib/5.14.3/i686-linux-thread-multi
    /home/njh/perl5/perlbrew/perls/perl-5.14.3/lib/5.14.3
    .