WebNano-Controller-CRUD v0.007 Perl 5 v5.37.5 x86_64-linux-thread-multi

Status
Pass
From
Andreas J. König (ANDK)
Dist
WebNano-Controller-CRUD v0.007
Platform
Perl 5 v5.37.5 x86_64-linux-thread-multi
Date
2022-11-03 22:17:31
ID
4f42cb88-5bc5-11ed-ac0e-b0422107ad2d
This distribution has been tested as part of the CPAN Testers
project, supporting the Perl programming language.  See
http://wiki.cpantesters.org/ for more information or email
questions to cpan-testers-discuss@perl.org


--
Dear Zbigniew Lukasiak,

This is a computer-generated report for WebNano-Controller-CRUD-0.007
on perl 5.37.5, created by CPAN-Reporter-1.2018.

Thank you for uploading your work to CPAN.  Congratulations!
All tests were successful.

Sections of this report:

    * Tester comments
    * Program output
    * Prerequisites
    * Environment and other context

------------------------------
TESTER COMMENTS
------------------------------

Additional comments from tester:

this report is from an automated smoke testing program
and was not reviewed by a human for accuracy

------------------------------
PROGRAM OUTPUT
------------------------------

Output from '/usr/bin/make test':

PERL_DL_NONLAZY=1 "/tmp/basesmoker-reloperl-JkzD/bin/perl" "-MExtUtils::Command::MM" "-MTest::Harness" "-e" "undef *Test::Harness::Switches; test_harness(0, 'blib/lib', 'blib/arch')" t/*.t
Class::MOP::load_class is deprecated at /home/sand/src/perl/repoperls/installed-perls/host/k93focal/v5.37.4-160-g0649414847/d119/lib/site_perl/5.37.5/x86_64-linux-thread-multi/Class/MOP.pm line 69.
	Class::MOP::load_class("MyApp::Controller::Form") called at /tmp/loop_over_bdir-3856-pzNxzy/WebNano-Controller-CRUD-0.007-0/blib/lib/WebNano/Controller/CRUD.pm line 154
	WebNano::Controller::CRUD::edit(MyApp::Controller::DvdWithBaseCRUD=HASH(0x564c11a26158), MyApp::DBSchema::Result::Dvd=HASH(0x564c1129b008), undef, "edit") called at /tmp/loop_over_bdir-3856-pzNxzy/WebNano-Controller-CRUD-0.007-0/blib/lib/WebNano/Controller/CRUD.pm line 89
	Class::MOP::Class:::around(CODE(0x564c0ff67e90), MyApp::Controller::DvdWithBaseCRUD=HASH(0x564c11a26158)) called at /home/sand/src/perl/repoperls/installed-perls/host/k93focal/v5.37.4-160-g0649414847/d119/lib/site_perl/5.37.5/x86_64-linux-thread-multi/Class/MOP/Method/Wrapped.pm line 166
	WebNano::Controller::CRUD::_wrapped_local_dispatch(MyApp::Controller::DvdWithBaseCRUD=HASH(0x564c11a26158)) called at /home/sand/src/perl/repoperls/installed-perls/host/k93focal/v5.37.4-160-g0649414847/d119/lib/site_perl/5.37.5/x86_64-linux-thread-multi/Class/MOP/Method/Wrapped.pm line 97
	WebNano::Controller::CRUD::local_dispatch(MyApp::Controller::DvdWithBaseCRUD=HASH(0x564c11a26158)) called at /home/sand/src/perl/repoperls/installed-perls/host/k93focal/v5.37.4-160-g0649414847/d119/lib/site_perl/5.37.5/WebNano/Controller.pm line 90
	WebNano::Controller::handle("MyApp::Controller::DvdWithBaseCRUD", "path", ARRAY(0x564c1123bf40), "app", MyApp=HASH(0x564c0fa66fd0), "self_url", "/DvdWithBaseCRUD/", "env", ...) called at /home/sand/src/perl/repoperls/installed-perls/host/k93focal/v5.37.4-160-g0649414847/d119/lib/site_perl/5.37.5/WebNano/Controller.pm line 82
	WebNano::Controller::dispatch_to_class(MyApp::Controller=HASH(0x564c112d8438), "DvdWithBaseCRUD") called at /home/sand/src/perl/repoperls/installed-perls/host/k93focal/v5.37.4-160-g0649414847/d119/lib/site_perl/5.37.5/WebNano/Controller.pm line 93
	WebNano::Controller::handle("MyApp::Controller", "path", ARRAY(0x564c1123bf40), "app", MyApp=HASH(0x564c0fa66fd0), "env", HASH(0x564c1104a2d0), "self_url", ...) called at /home/sand/src/perl/repoperls/installed-perls/host/k93focal/v5.37.4-160-g0649414847/d119/lib/site_perl/5.37.5/WebNano.pm line 44
	WebNano::handle(MyApp=HASH(0x564c0fa66fd0), HASH(0x564c1104a2d0)) called at /home/sand/src/perl/repoperls/installed-perls/host/k93focal/v5.37.4-160-g0649414847/d119/lib/site_perl/5.37.5/WebNano.pm line 31
	WebNano::__ANON__(HASH(0x564c1104a2d0)) called at /home/sand/src/perl/repoperls/installed-perls/host/k93focal/v5.37.4-160-g0649414847/d119/lib/site_perl/5.37.5/Plack/Test/MockHTTP.pm line 24
	Plack::Test::MockHTTP::try {...} () called at /home/sand/src/perl/repoperls/installed-perls/host/k93focal/v5.37.4-160-g0649414847/d119/lib/site_perl/5.37.5/Try/Tiny.pm line 100
	eval {...} called at /home/sand/src/perl/repoperls/installed-perls/host/k93focal/v5.37.4-160-g0649414847/d119/lib/site_perl/5.37.5/Try/Tiny.pm line 93
	Try::Tiny::try(CODE(0x564c111c49e8), Try::Tiny::Catch=REF(0x564c10f91ae8)) called at /home/sand/src/perl/repoperls/installed-perls/host/k93focal/v5.37.4-160-g0649414847/d119/lib/site_perl/5.37.5/Plack/Test/MockHTTP.pm line 27
	Plack::Test::MockHTTP::request(Plack::Test::MockHTTP=HASH(0x564c0f9a16c0), HTTP::Request=HASH(0x564c0ff77690)) called at /home/sand/src/perl/repoperls/installed-perls/host/k93focal/v5.37.4-160-g0649414847/d119/lib/site_perl/5.37.5/Plack/Test.pm line 38
	Plack::Test::__ANON__(HTTP::Request=HASH(0x564c0ff77690)) called at t/crud_base_controller.t line 23
	main::__ANON__(CODE(0x564c0fb07d18)) called at /home/sand/src/perl/repoperls/installed-perls/host/k93focal/v5.37.4-160-g0649414847/d119/lib/site_perl/5.37.5/Plack/Test.pm line 38
	Plack::Test::test_psgi("app", CODE(0x564c0fa5d948), "client", CODE(0x564c0faea1c8)) called at t/crud_base_controller.t line 42
DBIx::Class::Storage::DBI::insert(): Missing value for primary key column 'id' on Dvd - perhaps you forgot to set its 'is_auto_increment' attribute during add_columns()? Treating 'id' implicitly as an autoinc, and attempting value retrieval at /home/sand/src/perl/repoperls/installed-perls/host/k93focal/v5.37.4-160-g0649414847/d119/lib/site_perl/5.37.5/HTML/FormHandler/TraitFor/Model/DBIC.pm line 85
t/crud_base_controller.t .. ok
t/release-kwalitee.t ...... skipped: these tests are for release candidate testing
t/release-pod-coverage.t .. skipped: these tests are for release candidate testing
t/release-pod-syntax.t .... skipped: these tests are for release candidate testing
All tests successful.
Files=4, Tests=20,  3 wallclock secs ( 0.03 usr  0.03 sys +  2.60 cusr  0.22 csys =  2.88 CPU)
Result: PASS

------------------------------
PREREQUISITES
------------------------------

Prerequisite modules loaded:

requires:

    Module                            Need  Have    
    --------------------------------- ----- --------
    Class::MOP                        0     2.2201  
    Config::General                   0     2.65    
    Cwd                               0     3.86    
    DateTime::Format::SQLite          0     0.11    
    DBIx::Class                       0     0.082843
    File::Spec::Functions             0     3.86    
    HTML::FormHandler::Model::DBIC    0     0.29    
    HTML::FormHandler::Moose          0     0.40068 
    Moose                             0     2.2201  
    MooseX::NonMoose                  0     0.26    
    WebNano                           0.007 0.007   
    WebNano::Controller               0     0.007   
    WebNano::Renderer::TT             0     0.002   

build_requires:

    Module                            Need  Have    
    --------------------------------- ----- --------
    base                              0     2.27    
    Config::Any                       0     0.32    
    DateTime                          0     1.59    
    DBIx::Class                       0     0.082843
    DBIx::Class::Schema               0     0       
    File::Copy                        0     2.40    
    HTML::FormHandler::Model::DBIC    0     0.29    
    HTML::FormHandler::Moose          0     0.40068 
    HTML::FormHandler::Render::Simple 0     0.40068 
    HTTP::Request::Common             0     6.44    
    overload                          0     1.35    
    Plack::Test                       0     0       
    strict                            0     1.12    
    Test::More                        0     1.302191
    warnings                          0     1.59    
    WebNano                           0     0.007   
    WebNano::Renderer::TT             0     0.002   

configure_requires:

    Module                            Need  Have    
    --------------------------------- ----- --------
    ExtUtils::MakeMaker               6.30  7.64    


------------------------------
ENVIRONMENT AND OTHER CONTEXT
------------------------------

Environment variables:

    AUTOMATED_TESTING = 1
    LANG = en_US.UTF-8
    PATH = /home/sand/bin:/usr/local/bin:/usr/local/sbin:/usr/sbin:/usr/bin:/sbin:/bin:/usr/games:/usr/local/games:/snap/bin:/usr/local/perl/bin:/usr/X11/bin
    PERL5LIB = /tmp/loop_over_bdir-3856-pzNxzy/AllKnowingDNS-1.7-0/blib/arch:/tmp/loop_over_bdir-3856-pzNxzy/AllKnowingDNS-1.7-0/blib/lib:/tmp/loop_over_bdir-3856-pzNxzy/Net-ISP-Balance-1.31-0/blib/arch:/tmp/loop_over_bdir-3856-pzNxzy/Net-ISP-Balance-1.31-0/blib/lib:/tmp/loop_over_bdir-3856-pzNxzy/downsexta-0/blib/arch:/tmp/loop_over_bdir-3856-pzNxzy/downsexta-0/blib/lib:/tmp/loop_over_bdir-3856-pzNxzy/Net-OpenVPN-DDNS-0.1-0/blib/arch:/tmp/loop_over_bdir-3856-pzNxzy/Net-OpenVPN-DDNS-0.1-0/blib/lib:/tmp/loop_over_bdir-3856-pzNxzy/CORBA-Python-2.66-0/blib/arch:/tmp/loop_over_bdir-3856-pzNxzy/CORBA-Python-2.66-0/blib/lib:/tmp/loop_over_bdir-3856-pzNxzy/Devel-Required-0.16-0/blib/arch:/tmp/loop_over_bdir-3856-pzNxzy/Devel-Required-0.16-0/blib/lib:/tmp/loop_over_bdir-3856-pzNxzy/App-oo_modulino_zsh_completion_helper-0.04-0/blib/arch:/tmp/loop_over_bdir-3856-pzNxzy/App-oo_modulino_zsh_completion_helper-0.04-0/blib/lib:/tmp/loop_over_bdir-3856-pzNxzy/Debian-Packages-0.03-0/blib/arch:/tmp/loop_over_bdir-3856-pzNxzy/Debian-Packages-0.03-0/blib/lib:/tmp/loop_over_bdir-3856-pzNxzy/Dpkg-1.21.9-0/blib/arch:/tmp/loop_over_bdir-3856-pzNxzy/Dpkg-1.21.9-0/blib/lib:/tmp/loop_over_bdir-3856-pzNxzy/shishi-0.0.1-0/blib/arch:/tmp/loop_over_bdir-3856-pzNxzy/shishi-0.0.1-0/blib/lib:/tmp/loop_over_bdir-3856-pzNxzy/mmds-1.902-0/blib/arch:/tmp/loop_over_bdir-3856-pzNxzy/mmds-1.902-0/blib/lib:/tmp/loop_over_bdir-3856-pzNxzy/HTML-Menu-TreeView-1.22-0/blib/arch:/tmp/loop_over_bdir-3856-pzNxzy/HTML-Menu-TreeView-1.22-0/blib/lib
    PERL5OPT = 
    PERL5_CPANPLUS_IS_RUNNING = 3865
    PERL5_CPAN_IS_RUNNING = 3865
    PERL_CANARY_STABILITY_NOPROMPT = 1
    PERL_MM_USE_DEFAULT = 1
    PERL_USE_UNSAFE_INC = 1
    SHELL = /usr/bin/zsh
    TERM = screen

Perl special variables (and OS-specific diagnostics, for MSWin32):

    $^X = /tmp/basesmoker-reloperl-JkzD/bin/perl
    $UID/$EUID = 1005 / 1005
    $GID = 1005 1005
    $EGID = 1005 1005

Perl module toolchain versions installed:

    Module              Have    
    ------------------- --------
    CPAN                2.34    
    CPAN::Meta          2.150010
    Cwd                 3.86    
    ExtUtils::CBuilder  0.280237
    ExtUtils::Command   7.64    
    ExtUtils::Install   2.20    
    ExtUtils::MakeMaker 7.64    
    ExtUtils::Manifest  1.73    
    ExtUtils::ParseXS   3.46    
    File::Spec          3.87    
    JSON                4.10    
    JSON::PP            4.12    
    Module::Build       0.4231  
    Module::Signature   0.88    
    Parse::CPAN::Meta   2.150010
    Test::Harness       3.44    
    Test::More          1.302191
    YAML                1.30    
    YAML::Syck          1.34    
    version             0.9929  


--

Summary of my perl5 (revision 5 version 37 subversion 5) configuration:
  Commit id: 064941484781d9099db0bbe7d6ea22a826df1e15
  Platform:
    osname=linux
    osvers=5.4.0-125-generic
    archname=x86_64-linux-thread-multi
    uname='linux k93focal 5.4.0-125-generic #141-ubuntu smp wed aug 10 13:42:03 utc 2022 x86_64 x86_64 x86_64 gnulinux '
    config_args='-Dprefix=/home/sand/src/perl/repoperls/installed-perls/host/k93focal/v5.37.4-160-g0649414847/d119 -Dmyhostname=k93focal -Dinstallusrbinperl=n -Uversiononly -Dusedevel -des -Ui_db -Dlibswanted=cl pthread socket inet nsl gdbm dbm malloc dl ld sun m crypt sec util c cposix posix ucb BSD gdbm_compat -Duseithreads -Uuselongdouble -DEBUGGING=both'
    hint=recommended
    useposix=true
    d_sigaction=define
    useithreads=define
    usemultiplicity=define
    use64bitint=define
    use64bitall=define
    uselongdouble=undef
    usemymalloc=n
    default_inc_excludes_dot=define
  Compiler:
    cc='cc'
    ccflags ='-D_REENTRANT -D_GNU_SOURCE -fwrapv -DDEBUGGING -fno-strict-aliasing -pipe -fstack-protector-strong -I/usr/local/include -D_LARGEFILE_SOURCE -D_FILE_OFFSET_BITS=64'
    optimize='-O2 -g'
    cppflags='-D_REENTRANT -D_GNU_SOURCE -fwrapv -DDEBUGGING -fno-strict-aliasing -pipe -fstack-protector-strong -I/usr/local/include'
    ccversion=''
    gccversion='9.4.0'
    gccosandvers=''
    intsize=4
    longsize=8
    ptrsize=8
    doublesize=8
    byteorder=12345678
    doublekind=3
    d_longlong=define
    longlongsize=8
    d_longdbl=define
    longdblsize=16
    longdblkind=3
    ivtype='long'
    ivsize=8
    nvtype='double'
    nvsize=8
    Off_t='off_t'
    lseeksize=8
    alignbytes=8
    prototype=define
  Linker and Libraries:
    ld='cc'
    ldflags =' -fstack-protector-strong -L/usr/local/lib'
    libpth=/usr/local/lib /usr/lib/x86_64-linux-gnu /usr/lib /usr/lib64
    libs=-lpthread -lnsl -ldl -lm -lcrypt -lutil -lc
    perllibs=-lpthread -lnsl -ldl -lm -lcrypt -lutil -lc
    libc=libc-2.31.so
    so=so
    useshrplib=false
    libperl=libperl.a
    gnulibc_version='2.31'
  Dynamic Linking:
    dlsrc=dl_dlopen.xs
    dlext=so
    d_dlsymun=undef
    ccdlflags='-Wl,-E'
    cccdlflags='-fPIC'
    lddlflags='-shared -O2 -g -L/usr/local/lib -fstack-protector-strong'


Characteristics of this binary (from libperl): 
  Compile-time options:
    DEBUGGING
    HAS_TIMES
    MULTIPLICITY
    PERLIO_LAYERS
    PERL_COPY_ON_WRITE
    PERL_DONT_CREATE_GVSV
    PERL_HASH_FUNC_SIPHASH13
    PERL_HASH_USE_SBOX32
    PERL_MALLOC_WRAP
    PERL_OP_PARENT
    PERL_PRESERVE_IVUV
    PERL_TRACK_MEMPOOL
    PERL_USE_DEVEL
    PERL_USE_SAFE_PUTENV
    USE_64_BIT_ALL
    USE_64_BIT_INT
    USE_ITHREADS
    USE_LARGE_FILES
    USE_LOCALE
    USE_LOCALE_COLLATE
    USE_LOCALE_CTYPE
    USE_LOCALE_NUMERIC
    USE_LOCALE_TIME
    USE_PERLIO
    USE_PERL_ATOF
    USE_REENTRANT_API
    USE_THREAD_SAFE_LOCALE
  Built under linux
  Compiled at Oct 29 2022 16:55:13
  %ENV:
    PERL5LIB="/tmp/loop_over_bdir-3856-pzNxzy/AllKnowingDNS-1.7-0/blib/arch:/tmp/loop_over_bdir-3856-pzNxzy/AllKnowingDNS-1.7-0/blib/lib:/tmp/loop_over_bdir-3856-pzNxzy/Net-ISP-Balance-1.31-0/blib/arch:/tmp/loop_over_bdir-3856-pzNxzy/Net-ISP-Balance-1.31-0/blib/lib:/tmp/loop_over_bdir-3856-pzNxzy/downsexta-0/blib/arch:/tmp/loop_over_bdir-3856-pzNxzy/downsexta-0/blib/lib:/tmp/loop_over_bdir-3856-pzNxzy/Net-OpenVPN-DDNS-0.1-0/blib/arch:/tmp/loop_over_bdir-3856-pzNxzy/Net-OpenVPN-DDNS-0.1-0/blib/lib:/tmp/loop_over_bdir-3856-pzNxzy/CORBA-Python-2.66-0/blib/arch:/tmp/loop_over_bdir-3856-pzNxzy/CORBA-Python-2.66-0/blib/lib:/tmp/loop_over_bdir-3856-pzNxzy/Devel-Required-0.16-0/blib/arch:/tmp/loop_over_bdir-3856-pzNxzy/Devel-Required-0.16-0/blib/lib:/tmp/loop_over_bdir-3856-pzNxzy/App-oo_modulino_zsh_completion_helper-0.04-0/blib/arch:/tmp/loop_over_bdir-3856-pzNxzy/App-oo_modulino_zsh_completion_helper-0.04-0/blib/lib:/tmp/loop_over_bdir-3856-pzNxzy/Debian-Packages-0.03-0/blib/arch:/tmp/loop_over_bdir-3856-pzNxzy/Debian-Packages-0.03-0/blib/lib:/tmp/loop_over_bdir-3856-pzNxzy/Dpkg-1.21.9-0/blib/arch:/tmp/loop_over_bdir-3856-pzNxzy/Dpkg-1.21.9-0/blib/lib:/tmp/loop_over_bdir-3856-pzNxzy/shishi-0.0.1-0/blib/arch:/tmp/loop_over_bdir-3856-pzNxzy/shishi-0.0.1-0/blib/lib:/tmp/loop_over_bdir-3856-pzNxzy/mmds-1.902-0/blib/arch:/tmp/loop_over_bdir-3856-pzNxzy/mmds-1.902-0/blib/lib:/tmp/loop_over_bdir-3856-pzNxzy/HTML-Menu-TreeView-1.22-0/blib/arch:/tmp/loop_over_bdir-3856-pzNxzy/HTML-Menu-TreeView-1.22-0/blib/lib"
    PERL5OPT=""
    PERL5_CPANPLUS_IS_RUNNING="3865"
    PERL5_CPAN_IS_RUNNING="3865"
    PERL_CANARY_STABILITY_NOPROMPT="1"
    PERL_MM_USE_DEFAULT="1"
    PERL_USE_UNSAFE_INC="1"
  @INC:
    /tmp/loop_over_bdir-3856-pzNxzy/AllKnowingDNS-1.7-0/blib/arch
    /tmp/loop_over_bdir-3856-pzNxzy/AllKnowingDNS-1.7-0/blib/lib
    /tmp/loop_over_bdir-3856-pzNxzy/Net-ISP-Balance-1.31-0/blib/arch
    /tmp/loop_over_bdir-3856-pzNxzy/Net-ISP-Balance-1.31-0/blib/lib
    /tmp/loop_over_bdir-3856-pzNxzy/downsexta-0/blib/arch
    /tmp/loop_over_bdir-3856-pzNxzy/downsexta-0/blib/lib
    /tmp/loop_over_bdir-3856-pzNxzy/Net-OpenVPN-DDNS-0.1-0/blib/arch
    /tmp/loop_over_bdir-3856-pzNxzy/Net-OpenVPN-DDNS-0.1-0/blib/lib
    /tmp/loop_over_bdir-3856-pzNxzy/CORBA-Python-2.66-0/blib/arch
    /tmp/loop_over_bdir-3856-pzNxzy/CORBA-Python-2.66-0/blib/lib
    /tmp/loop_over_bdir-3856-pzNxzy/Devel-Required-0.16-0/blib/arch
    /tmp/loop_over_bdir-3856-pzNxzy/Devel-Required-0.16-0/blib/lib
    /tmp/loop_over_bdir-3856-pzNxzy/App-oo_modulino_zsh_completion_helper-0.04-0/blib/arch
    /tmp/loop_over_bdir-3856-pzNxzy/App-oo_modulino_zsh_completion_helper-0.04-0/blib/lib
    /tmp/loop_over_bdir-3856-pzNxzy/Debian-Packages-0.03-0/blib/arch
    /tmp/loop_over_bdir-3856-pzNxzy/Debian-Packages-0.03-0/blib/lib
    /tmp/loop_over_bdir-3856-pzNxzy/Dpkg-1.21.9-0/blib/arch
    /tmp/loop_over_bdir-3856-pzNxzy/Dpkg-1.21.9-0/blib/lib
    /tmp/loop_over_bdir-3856-pzNxzy/shishi-0.0.1-0/blib/arch
    /tmp/loop_over_bdir-3856-pzNxzy/shishi-0.0.1-0/blib/lib
    /tmp/loop_over_bdir-3856-pzNxzy/mmds-1.902-0/blib/arch
    /tmp/loop_over_bdir-3856-pzNxzy/mmds-1.902-0/blib/lib
    /tmp/loop_over_bdir-3856-pzNxzy/HTML-Menu-TreeView-1.22-0/blib/arch
    /tmp/loop_over_bdir-3856-pzNxzy/HTML-Menu-TreeView-1.22-0/blib/lib
    /home/sand/src/perl/repoperls/installed-perls/host/k93focal/v5.37.4-160-g0649414847/d119/lib/site_perl/5.37.5/x86_64-linux-thread-multi
    /home/sand/src/perl/repoperls/installed-perls/host/k93focal/v5.37.4-160-g0649414847/d119/lib/site_perl/5.37.5
    /home/sand/src/perl/repoperls/installed-perls/host/k93focal/v5.37.4-160-g0649414847/d119/lib/5.37.5/x86_64-linux-thread-multi
    /home/sand/src/perl/repoperls/installed-perls/host/k93focal/v5.37.4-160-g0649414847/d119/lib/5.37.5
    .