Report for XML-Parser-2.44

Back
From: metabase:user:5bbb2efa-715f-11e3-8cc1-b2993ff2e0c7
Subject: PASS XML-Parser-2.44 v5.22.0 Windows (Cygwin)
Date: 2015-06-02T00:59:35Z

This distribution has been tested as part of the CPAN Testers
project, supporting the Perl programming language.  See
http://wiki.cpantesters.org/ for more information or email
questions to cpan-testers-discuss@perl.org


--
Dear TODDR,

This is a computer-generated report for XML-Parser-2.44
on perl 5.22.0, created by App::cpanminus::reporter 0.11 (1.7034).

Thank you for uploading your work to CPAN.  Congratulations!
All tests were successful.

Sections of this report:

    * Tester comments
    * Program output
    * Prerequisites
    * Environment and other context

------------------------------
TESTER COMMENTS
------------------------------

Additional comments from tester:

none provided

------------------------------
PROGRAM OUTPUT
------------------------------

Output from '':

Building and testing XML-Parser-2.44
cp Parser/Encodings/iso-8859-7.enc blib/lib/XML/Parser/Encodings/iso-8859-7.enc
cp Parser/Style/Tree.pm blib/lib/XML/Parser/Style/Tree.pm
cp Parser/Encodings/euc-kr.enc blib/lib/XML/Parser/Encodings/euc-kr.enc
cp Parser/Style/Subs.pm blib/lib/XML/Parser/Style/Subs.pm
cp Parser/Encodings/windows-1251.enc blib/lib/XML/Parser/Encodings/windows-1251.enc
cp Parser/Encodings/x-sjis-jdk117.enc blib/lib/XML/Parser/Encodings/x-sjis-jdk117.enc
cp Parser/Encodings/Japanese_Encodings.msg blib/lib/XML/Parser/Encodings/Japanese_Encodings.msg
cp Parser/Encodings/windows-1250.enc blib/lib/XML/Parser/Encodings/windows-1250.enc
cp Parser/Encodings/iso-8859-8.enc blib/lib/XML/Parser/Encodings/iso-8859-8.enc
cp Parser/Encodings/README blib/lib/XML/Parser/Encodings/README
cp Parser/Style/Stream.pm blib/lib/XML/Parser/Style/Stream.pm
cp Parser/Encodings/x-sjis-jisx0221.enc blib/lib/XML/Parser/Encodings/x-sjis-jisx0221.enc
cp Parser/Encodings/koi8-r.enc blib/lib/XML/Parser/Encodings/koi8-r.enc
cp Parser/LWPExternEnt.pl blib/lib/XML/Parser/LWPExternEnt.pl
cp Parser/Encodings/big5.enc blib/lib/XML/Parser/Encodings/big5.enc
cp Parser/Encodings/x-euc-jp-unicode.enc blib/lib/XML/Parser/Encodings/x-euc-jp-unicode.enc
cp Parser/Encodings/windows-1252.enc blib/lib/XML/Parser/Encodings/windows-1252.enc
cp Parser/Encodings/iso-8859-2.enc blib/lib/XML/Parser/Encodings/iso-8859-2.enc
cp Parser/Encodings/x-euc-jp-jisx0221.enc blib/lib/XML/Parser/Encodings/x-euc-jp-jisx0221.enc
cp Parser.pm blib/lib/XML/Parser.pm
cp Parser/Style/Objects.pm blib/lib/XML/Parser/Style/Objects.pm
cp Parser/Encodings/iso-8859-3.enc blib/lib/XML/Parser/Encodings/iso-8859-3.enc
cp Parser/Encodings/iso-8859-9.enc blib/lib/XML/Parser/Encodings/iso-8859-9.enc
cp Parser/Encodings/x-sjis-cp932.enc blib/lib/XML/Parser/Encodings/x-sjis-cp932.enc
cp Parser/Encodings/x-sjis-unicode.enc blib/lib/XML/Parser/Encodings/x-sjis-unicode.enc
cp Parser/Encodings/iso-8859-5.enc blib/lib/XML/Parser/Encodings/iso-8859-5.enc
cp Parser/Encodings/windows-1255.enc blib/lib/XML/Parser/Encodings/windows-1255.enc
cp Parser/Encodings/iso-8859-4.enc blib/lib/XML/Parser/Encodings/iso-8859-4.enc
cp Parser/Style/Debug.pm blib/lib/XML/Parser/Style/Debug.pm
cp Parser/Encodings/ibm866.enc blib/lib/XML/Parser/Encodings/ibm866.enc
make[1]: Entering directory '/home/ollisg/.cpanm/work/1433203710.25584/XML-Parser-2.44/Expat'
cp Expat.pm ../blib/lib/XML/Parser/Expat.pm
Running Mkbootstrap for XML::Parser::Expat ()
chmod 644 "Expat.bs"
"/home/ollisg/opt/perl/5.22.0/bin/perl.exe" "/home/ollisg/opt/perl/5.22.0/lib/5.22.0/ExtUtils/xsubpp" -noprototypes -typemap "/home/ollisg/opt/perl/5.22.0/lib/5.22.0/ExtUtils/typemap" -typemap "typemap"  Expat.xs > Expat.xsc && mv Expat.xsc Expat.c
gcc -c   -DPERL_USE_SAFE_PUTENV -U__STRICT_ANSI__ -fwrapv -fno-strict-aliasing -pipe -fstack-protector-strong -D_FORTIFY_SOURCE=2 -DUSEIMPORTLIB -O3   -DVERSION=\"2.44\" -DXS_VERSION=\"2.44\"  "-I/home/ollisg/opt/perl/5.22.0/lib/5.22.0/cygwin-thread-multi/CORE"   Expat.c
rm -f ../blib/arch/auto/XML/Parser/Expat/Expat.dll
g++  --shared  -Wl,--enable-auto-import -Wl,--export-all-symbols -Wl,--enable-auto-image-base -L/usr/local/lib -fstack-protector-strong Expat.o  -o ../blib/arch/auto/XML/Parser/Expat/Expat.dll 	\
  /home/ollisg/opt/perl/5.22.0/lib/5.22.0/cygwin-thread-multi/CORE/cygperl5_22_0.dll -lexpat  	\
  
chmod 755 ../blib/arch/auto/XML/Parser/Expat/Expat.dll
"/home/ollisg/opt/perl/5.22.0/bin/perl.exe" -MExtUtils::Command::MM -e 'cp_nonempty' -- Expat.bs ../blib/arch/auto/XML/Parser/Expat/Expat.bs 644
Manifying 1 pod document
make[1]: Leaving directory '/home/ollisg/.cpanm/work/1433203710.25584/XML-Parser-2.44/Expat'
Manifying 6 pod documents
make[1]: Entering directory '/home/ollisg/.cpanm/work/1433203710.25584/XML-Parser-2.44/Expat'
Running Mkbootstrap for XML::Parser::Expat ()
chmod 644 "Expat.bs"
Manifying 1 pod document
make[1]: Leaving directory '/home/ollisg/.cpanm/work/1433203710.25584/XML-Parser-2.44/Expat'
PERL_DL_NONLAZY=1 "/home/ollisg/opt/perl/5.22.0/bin/perl.exe" "-MExtUtils::Command::MM" "-MTest::Harness" "-e" "undef *Test::Harness::Switches; test_harness(0, 'blib/lib', 'blib/arch')" t/*.t
t/astress.t ........... ok
t/cdata.t ............. ok
t/decl.t .............. ok
t/defaulted.t ......... ok
t/encoding.t .......... ok
t/external_ent.t ...... ok
t/file.t .............. ok
t/file_open_scalar.t .. ok
t/finish.t ............ ok
t/namespaces.t ........ ok
t/parament.t .......... ok
t/partial.t ........... ok
t/skip.t .............. ok
t/stream.t ............ ok
t/styles.t ............ ok
All tests successful.
Files=15, Tests=141,  1 wallclock secs ( 0.00 usr  0.05 sys +  0.45 cusr  0.38 csys =  0.87 CPU)
Result: PASS

------------------------------
PREREQUISITES
------------------------------

Prerequisite modules loaded:

    No requirements found

------------------------------
ENVIRONMENT AND OTHER CONTEXT
------------------------------

Environment variables:

    COMSPEC = C:\Windows\system32\cmd.exe
    LANG = en_US.UTF-8
    LC_COLLATE = C
    PATH = /home/ollisg/opt/perl/5.22.0/my/bin:/home/ollisg/opt/perl/5.22.0/bin:/home/ollisg/bin:/home/ollisg/bin-x64:/home/ollisg/perl5/cygwin/system/x64/5.14.4/bin:/usr/local/bin:/usr/bin:/bin:/home/ollisg/bin:/home/ollisg/bin-x64:/home/ollisg/perl5/cygwin/system/x64/5.14.4/bin:/usr/local/bin:/usr/bin:/bin:/cygdrive/c/PROGRA~2/NVIDIA~1/PhysX/Common:/cygdrive/c/PROGRA~2/Intel/ICLSCL~1:/cygdrive/c/PROGRA~1/Intel/ICLSCL~1:/cygdrive/c/Windows/system32:/cygdrive/c/Windows:/cygdrive/c/Windows/System32/Wbem:/cygdrive/c/Windows/System32/WindowsPowerShell/v1.0:/cygdrive/c/PROGRA~1/Intel/INTEL(~1/DAL:/cygdrive/c/PROGRA~1/Intel/INTEL(~1/IPT:/cygdrive/c/PROGRA~2/Intel/INTEL(~1/DAL:/cygdrive/c/PROGRA~2/Intel/INTEL(~1/IPT:/cygdrive/c/PROGRA~1/MICROS~3/110/Tools/Binn:/cygdrive/c/PROGRA~2/Git/cmd:/cygdrive/n/program32/sbt/bin:/cygdrive/n/opt/sqlite3:/cygdrive/n/lang/FreePascal/2.6.4/bin/i386-Win32:/cygdrive/c/PROGRA~2/Skype/Phone:/cygdrive/c/PROGRA~2/Xanya/Bin:/cygdrive/n/lang/tcl/x86/8.6.1.0/bin:/cygdrive/c/PROGRA~2/NVIDIA~1/PhysX/Common:/cygdrive/c/PROGRA~2/Intel/ICLSCL~1:/cygdrive/c/PROGRA~1/Intel/ICLSCL~1:/cygdrive/c/Windows/system32:/cygdrive/c/Windows:/cygdrive/c/Windows/System32/Wbem:/cygdrive/c/Windows/System32/WindowsPowerShell/v1.0:/cygdrive/c/PROGRA~1/Intel/INTEL(~1/DAL:/cygdrive/c/PROGRA~1/Intel/INTEL(~1/IPT:/cygdrive/c/PROGRA~2/Intel/INTEL(~1/DAL:/cygdrive/c/PROGRA~2/Intel/INTEL(~1/IPT:/cygdrive/c/PROGRA~1/MICROS~3/110/Tools/Binn:/cygdrive/c/PROGRA~2/Git/cmd:/cygdrive/n/program32/sbt/bin:/cygdrive/n/opt/sqlite3:/cygdrive/n/lang/FreePascal/2.6.4/bin/i386-Win32:/cygdrive/c/PROGRA~2/Skype/Phone:/cygdrive/n/lang/python/x86/2.7.6:/cygdrive/n/lang/scala/2.11.1/bin
    PERL5LIB = /home/ollisg/opt/perl/5.22.0/my/lib/perl5
    PERL_CPANM_OPT = --mirror http://mirror.sydney.wdlabs.com/cpan/ --mirror-only
    PERL_LOCAL_LIB_ROOT = /home/ollisg/opt/perl/5.22.0/my
    PERL_MB_OPT = --install_base "/home/ollisg/opt/perl/5.22.0/my"
    PERL_MM_OPT = INSTALL_BASE=/home/ollisg/opt/perl/5.22.0/my
    SHELL = /bin/tcsh
    TERM = xterm-256color

Perl special variables (and OS-specific diagnostics, for MSWin32):

    EGID = 513 513 559 545 14 4 11 15 113 4095 66048 262154 401408
    EUID = 1001
    EXECUTABLE_NAME = /home/ollisg/opt/perl/5.22.0/bin/perl
    GID = 513 513 559 545 14 4 11 15 113 4095 66048 262154 401408
    UID = 1001

Perl module toolchain versions installed:

    Module              Have    
    ------------------- --------
    CPAN                2.11    
    CPAN::Meta          2.150001
    Cwd                 3.56    
    ExtUtils::CBuilder  0.280221
    ExtUtils::Command   1.20    
    ExtUtils::Install   2.04    
    ExtUtils::MakeMaker 7.04_01 
    ExtUtils::Manifest  1.70    
    ExtUtils::ParseXS   3.28    
    File::Spec          3.56    
    JSON                2.90    
    JSON::PP            2.27300 
    Module::Build       0.4212  
    Module::Signature   n/a     
    Parse::CPAN::Meta   1.4414  
    Test::Harness       3.35    
    Test::More          1.001014
    YAML                1.15    
    YAML::Syck          n/a     
    version             0.9912  


--

Summary of my perl5 (revision 5 version 22 subversion 0) configuration:
   
  Platform:
    osname=cygwin, osvers=2.0.2(0.28753), archname=cygwin-thread-multi
    uname='cygwin_nt-6.1 xian 2.0.2(0.28753) 2015-05-08 17:00 x86_64 cygwin '
    config_args='-de -Dprefix=/home/ollisg/opt/perl/5.22.0/ -Aeval:scriptdir=/home/ollisg/opt/perl/5.22.0/bin'
    hint=recommended, useposix=true, d_sigaction=define
    useithreads=define, usemultiplicity=define
    use64bitint=define, use64bitall=define, uselongdouble=undef
    usemymalloc=n, bincompat5005=undef
  Compiler:
    cc='gcc', ccflags ='-DPERL_USE_SAFE_PUTENV -U__STRICT_ANSI__ -fwrapv -fno-strict-aliasing -pipe -fstack-protector-strong -D_FORTIFY_SOURCE=2',
    optimize='-O3',
    cppflags='-DPERL_USE_SAFE_PUTENV -U__STRICT_ANSI__ -fwrapv -fno-strict-aliasing -pipe -fstack-protector-strong'
    ccversion='', gccversion='4.9.2', gccosandvers=''
    intsize=4, longsize=8, ptrsize=8, doublesize=8, byteorder=12345678, doublekind=3
    d_longlong=define, longlongsize=8, d_longdbl=define, longdblsize=16, longdblkind=3
    ivtype='long', ivsize=8, nvtype='double', nvsize=8, Off_t='off_t', lseeksize=8
    alignbytes=8, prototype=define
  Linker and Libraries:
    ld='g++', ldflags =' -Wl,--enable-auto-import -Wl,--export-all-symbols -Wl,--enable-auto-image-base -fstack-protector-strong -L/usr/local/lib'
    libpth=/usr/lib/gcc/x86_64-pc-cygwin/4.9.2/include-fixed /usr/lib /usr/lib/gcc/x86_64-pc-cygwin/4.9.2/../../../../lib/../include/w32api /usr/local/lib /lib
    libs=-lpthread -ldb -ldl -lcrypt
    perllibs=-lpthread -ldl -lcrypt
    libc=/usr/lib/libc.a, so=dll, useshrplib=true, libperl=cygperl5_22_0.dll
    gnulibc_version=''
  Dynamic Linking:
    dlsrc=dl_dlopen.xs, dlext=dll, d_dlsymun=undef, ccdlflags=' '
    cccdlflags=' ', lddlflags=' --shared  -Wl,--enable-auto-import -Wl,--export-all-symbols -Wl,--enable-auto-image-base -L/usr/local/lib -fstack-protector-strong'


Characteristics of this binary (from libperl): 
  Compile-time options: HAS_TIMES MULTIPLICITY PERLIO_LAYERS
                        PERL_DONT_CREATE_GVSV
                        PERL_HASH_FUNC_ONE_AT_A_TIME_HARD
                        PERL_IMPLICIT_CONTEXT PERL_NEW_COPY_ON_WRITE
                        PERL_PRESERVE_IVUV PERL_USE_SAFE_PUTENV
                        USE_64_BIT_ALL USE_64_BIT_INT USE_ITHREADS
                        USE_LARGE_FILES USE_LOCALE USE_LOCALE_COLLATE
                        USE_LOCALE_CTYPE USE_LOCALE_NUMERIC USE_LOCALE_TIME
                        USE_PERLIO USE_PERL_ATOF USE_REENTRANT_API
  Built under cygwin
  Compiled at Jun  1 2015 19:28:52
  %ENV:
    PERL5LIB="/home/ollisg/opt/perl/5.22.0/my/lib/perl5"
    PERL_CPANM_OPT="--mirror http://mirror.sydney.wdlabs.com/cpan/ --mirror-only"
    PERL_LOCAL_LIB_ROOT="/home/ollisg/opt/perl/5.22.0/my"
    PERL_MB_OPT="--install_base "/home/ollisg/opt/perl/5.22.0/my""
    PERL_MM_OPT="INSTALL_BASE=/home/ollisg/opt/perl/5.22.0/my"
  @INC:
    /home/ollisg/opt/perl/5.22.0/my/lib/perl5/cygwin-thread-multi
    /home/ollisg/opt/perl/5.22.0/my/lib/perl5
    /home/ollisg/opt/perl/5.22.0/lib/site_perl/5.22.0/cygwin-thread-multi
    /home/ollisg/opt/perl/5.22.0/lib/site_perl/5.22.0
    /home/ollisg/opt/perl/5.22.0/lib/5.22.0/cygwin-thread-multi
    /home/ollisg/opt/perl/5.22.0/lib/5.22.0
    .