Back
From: metabase:user:fcf99560-6bf4-1014-86b3-1cf189224fdf
Subject: PASS DBIx-Class-InflateColumn-Serializer-0.03 v5.16.2
Date: 2012-12-18T16:43:06Z
This distribution has been tested as part of the CPAN Testers
project, supporting the Perl programming language. See
http://wiki.cpantesters.org/ for more information or email
questions to cpan-testers-discuss@perl.org
--
Dear Jose Luis Martinez Torres,
This is a computer-generated report for DBIx-Class-InflateColumn-Serializer-0.03
on perl 5.16.2, created by CPAN-Reporter-1.2006.
Thank you for uploading your work to CPAN. Congratulations!
All tests were successful.
Sections of this report:
* Tester comments
* Program output
* Prerequisites
* Environment and other context
------------------------------
TESTER COMMENTS
------------------------------
Additional comments from tester:
this report is from an automated smoke testing program
and was not reviewed by a human for accuracy
------------------------------
PROGRAM OUTPUT
------------------------------
Output from 'C:\smoker\strawberry5162\c\bin\dmake.exe test':
C:\smoker\strawberry5162\perl\bin\perl.exe "-MExtUtils::Command::MM" "-e" "test_harness(0, 'inc', 'blib\lib', 'blib\arch')" t/*.t
t/001_load.t ...... ok
t/002_storable.t .. ok
t/003_json.t ...... ok
t/004_yaml.t ...... ok
t/kwalitee.t ...... skipped: Test::Kwalitee not installed; skipping
t/pod.t ........... ok
t/podcoverage.t ... ok
All tests successful.
Files=7, Tests=35, 5 wallclock secs ( 0.11 usr + 0.00 sys = 0.11 CPU)
Result: PASS
------------------------------
PREREQUISITES
------------------------------
Prerequisite modules loaded:
requires:
Module Need Have
------------------- ----- --------
DBIx::Class 0 0.08204
perl 5.008 5.016002
build_requires:
Module Need Have
------------------- ----- --------
DBD::SQLite 0 1.37
ExtUtils::MakeMaker 6.42 6.63_02
JSON 0 2.53
Test::Exception 0 0.31
Test::More 0 0.98
YAML 0 0.84
configure_requires:
Module Need Have
------------------- ----- --------
ExtUtils::MakeMaker 0 6.63_02
------------------------------
ENVIRONMENT AND OTHER CONTEXT
------------------------------
Environment variables:
AUTOMATED_TESTING = 1
COMSPEC = C:\Windows\system32\cmd.exe
NUMBER_OF_PROCESSORS = 2
PATH = C:\smoker\strawberry5162\perl\site\bin;C:\smoker\strawberry5162\perl\bin;C:\smoker\strawberry5162\c\bin;c:\Program Files\Common Files\Microsoft Shared\Windows Live;c:\Windows\system32\;c:\Windows;c:\Windows\System32\Wbem;c:\Program Files\MySQL\MySQL Server 5.1\bin
PERL5LIB =
PERL5OPT =
PERL5_CPANPLUS_IS_RUNNING = 5464
PERL5_CPAN_IS_RUNNING = 5464
PERL5_CPAN_IS_RUNNING_IN_RECURSION = 5360,5464
PERL_CR_SMOKER_CURRENT = DBIx-Class-InflateColumn-Serializer-CompressJSON-0.004
PERL_EXTUTILS_AUTOINSTALL = --defaultdeps
PERL_JSON_BACKEND = JSON::XS
PERL_MM_USE_DEFAULT = 1
PERL_YAML_BACKEND = YAML::XS
PROCESSOR_IDENTIFIER = x86 Family 6 Model 15 Stepping 13, GenuineIntel
TEMP = C:\Users\smoker\AppData\Local\Temp
TERM = dumb
Perl special variables (and OS-specific diagnostics, for MSWin32):
$^X = C:\smoker\strawberry5162\perl\bin\perl.exe
$UID/$EUID = 0 / 0
$GID = 0
$EGID = 0
Win32::GetOSName = WinVista
Win32::GetOSVersion = Service Pack 2, 6, 0, 6002, 2, 2, 0, 256, 1
Win32::FsType = NTFS
Win32::IsAdminUser = 0
Perl module toolchain versions installed:
Module Have
------------------- --------
CPAN 1.9800
CPAN::Meta 2.120921
Cwd 3.39_02
ExtUtils::CBuilder 0.280206
ExtUtils::Command 1.17
ExtUtils::Install 1.58
ExtUtils::MakeMaker 6.63_02
ExtUtils::Manifest 1.61
ExtUtils::ParseXS 3.18
File::Spec 3.39_02
JSON 2.53
JSON::PP 2.27200
Module::Build 0.4003
Module::Signature 0.70
Parse::CPAN::Meta 1.4404
Test::Harness 3.25
Test::More 0.98
YAML 0.84
YAML::Syck 1.21
version 0.9901
--
Summary of my perl5 (revision 5 version 16 subversion 2) configuration:
Platform:
osname=MSWin32, osvers=4.0, archname=MSWin32-x86-multi-thread
uname='Win32 strawberry-perl 5.16.2.1 #1 Fri Nov 2 00:33:54 2012 i386'
config_args='undef'
hint=recommended, useposix=true, d_sigaction=undef
useithreads=define, usemultiplicity=define
useperlio=define, d_sfio=undef, uselargefiles=define, usesocks=undef
use64bitint=undef, use64bitall=undef, uselongdouble=undef
usemymalloc=n, bincompat5005=undef
Compiler:
cc='gcc', ccflags =' -s -O2 -DWIN32 -DPERL_TEXTMODE_SCRIPTS -DPERL_IMPLICIT_CONTEXT -DPERL_IMPLICIT_SYS -fno-strict-aliasing -mms-bitfields',
optimize='-s -O2',
cppflags='-DWIN32'
ccversion='', gccversion='4.6.3', gccosandvers=''
intsize=4, longsize=4, ptrsize=4, doublesize=8, byteorder=1234
d_longlong=undef, longlongsize=8, d_longdbl=define, longdblsize=12
ivtype='long', ivsize=4, nvtype='double', nvsize=8, Off_t='long long', lseeksize=8
alignbytes=8, prototype=define
Linker and Libraries:
ld='g++.exe', ldflags ='-s -L"C:\smoker\strawberry5162\perl\lib\CORE" -L"C:\smoker\strawberry5162\c\lib"'
libpth=C:\smoker\strawberry5162\c\lib C:\smoker\strawberry5162\c\i686-w64-mingw32\lib
libs=-lmoldname -lkernel32 -luser32 -lgdi32 -lwinspool -lcomdlg32 -ladvapi32 -lshell32 -lole32 -loleaut32 -lnetapi32 -luuid -lws2_32 -lmpr -lwinmm -lversion -lodbc32 -lodbccp32 -lcomctl32
perllibs=-lmoldname -lkernel32 -luser32 -lgdi32 -lwinspool -lcomdlg32 -ladvapi32 -lshell32 -lole32 -loleaut32 -lnetapi32 -luuid -lws2_32 -lmpr -lwinmm -lversion -lodbc32 -lodbccp32 -lcomctl32
libc=, so=dll, useshrplib=true, libperl=libperl516.a
gnulibc_version=''
Dynamic Linking:
dlsrc=dl_win32.xs, dlext=dll, d_dlsymun=undef, ccdlflags=' '
cccdlflags=' ', lddlflags='-mdll -s -L"C:\smoker\strawberry5162\perl\lib\CORE" -L"C:\smoker\strawberry5162\c\lib"'
Characteristics of this binary (from libperl):
Compile-time options: HAS_TIMES HAVE_INTERP_INTERN MULTIPLICITY
PERLIO_LAYERS PERL_DONT_CREATE_GVSV
PERL_IMPLICIT_CONTEXT PERL_IMPLICIT_SYS
PERL_MALLOC_WRAP PERL_PRESERVE_IVUV PL_OP_SLAB_ALLOC
USE_ITHREADS USE_LARGE_FILES USE_LOCALE
USE_LOCALE_COLLATE USE_LOCALE_CTYPE
USE_LOCALE_NUMERIC USE_PERLIO USE_PERL_ATOF
Built under MSWin32
Compiled at Nov 2 2012 00:44:17
%ENV:
PERL5_CPANPLUS_IS_RUNNING="5464"
PERL5_CPAN_IS_RUNNING="5464"
PERL5_CPAN_IS_RUNNING_IN_RECURSION="5360,5464"
PERL_CR_SMOKER_CURRENT="DBIx-Class-InflateColumn-Serializer-CompressJSON-0.004"
PERL_EXTUTILS_AUTOINSTALL="--defaultdeps"
PERL_JSON_BACKEND="JSON::XS"
PERL_MM_USE_DEFAULT="1"
PERL_YAML_BACKEND="YAML::XS"
@INC:
C:/smoker/strawberry5162/perl/site/lib
C:/smoker/strawberry5162/perl/vendor/lib
C:/smoker/strawberry5162/perl/lib
.