Report for HTTP-Engine-Middleware-0.22

Back
From: metabase:user:9820532a-708b-1014-9a05-b18a96298da1
Subject: PASS HTTP-Engine-Middleware-0.22 v5.12.4 RC2 GNU/Linux
Date: 2011-06-20T09:40:19Z

This distribution has been tested as part of the CPAN Testers
project, supporting the Perl programming language.  See
http://wiki.cpantesters.org/ for more information or email
questions to cpan-testers-discuss@perl.org


--
Dear Kazuhiro Osawa,

This is a computer-generated report for HTTP-Engine-Middleware-0.22
on perl 5.12.4, created by CPAN-Reporter-1.1902.

Thank you for uploading your work to CPAN.  Congratulations!
All tests were successful.

Sections of this report:

    * Tester comments
    * Program output
    * Prerequisites
    * Environment and other context

------------------------------
TESTER COMMENTS
------------------------------

Additional comments from tester:

this report is from an automated smoke testing program
and was not reviewed by a human for accuracy

------------------------------
PROGRAM OUTPUT
------------------------------

Output from '/usr/bin/make test':

PERL_DL_NONLAZY=1 /home/test/perl5/perlbrew/perls/perl-5.12.4-RC2/bin/perl "-MExtUtils::Command::MM" "-e" "test_harness(0, 'inc', 'blib/lib', 'blib/arch')" t/*.t t/*/*.t t/*/*/*.t t/moose/*/*/*.t
t/00_compile.t .................................. ok
t/100_core/install_middleware.t ................. ok
t/100_core/method_injection.t ................... ok
t/100_core/skip_response.t ...................... ok
t/100_core/use.t ................................ ok
t/100_core/wrap.t ............................... ok
t/200_middlewares/accesslog.t ................... ok
Use of uninitialized value $content_type in lc at /home/test/perl5/perlbrew/perls/perl-5.12.4-RC2/lib/site_perl/5.12.4/HTTP/Body.pm line 96.
Use of uninitialized value $content_type in lc at /home/test/perl5/perlbrew/perls/perl-5.12.4-RC2/lib/site_perl/5.12.4/HTTP/Body.pm line 96.
Use of uninitialized value $content_type in lc at /home/test/perl5/perlbrew/perls/perl-5.12.4-RC2/lib/site_perl/5.12.4/HTTP/Body.pm line 96.
Use of uninitialized value $content_type in lc at /home/test/perl5/perlbrew/perls/perl-5.12.4-RC2/lib/site_perl/5.12.4/HTTP/Body.pm line 96.
Use of uninitialized value $content_type in lc at /home/test/perl5/perlbrew/perls/perl-5.12.4-RC2/lib/site_perl/5.12.4/HTTP/Body.pm line 96.
Use of uninitialized value $content_type in lc at /home/test/perl5/perlbrew/perls/perl-5.12.4-RC2/lib/site_perl/5.12.4/HTTP/Body.pm line 96.
Use of uninitialized value $content_type in lc at /home/test/perl5/perlbrew/perls/perl-5.12.4-RC2/lib/site_perl/5.12.4/HTTP/Body.pm line 96.
Use of uninitialized value $content_type in lc at /home/test/perl5/perlbrew/perls/perl-5.12.4-RC2/lib/site_perl/5.12.4/HTTP/Body.pm line 96.
Use of uninitialized value $content_type in lc at /home/test/perl5/perlbrew/perls/perl-5.12.4-RC2/lib/site_perl/5.12.4/HTTP/Body.pm line 96.
Use of uninitialized value $content_type in lc at /home/test/perl5/perlbrew/perls/perl-5.12.4-RC2/lib/site_perl/5.12.4/HTTP/Body.pm line 96.
t/200_middlewares/debugrequest.t ................ ok
t/200_middlewares/debugscreen.t ................. skipped: CGI::ExceptionManager is not installed
t/200_middlewares/docomo_guid.t ................. skipped: HTML::StickyQuery::DoCoMoGUID is not installed
t/200_middlewares/encode.t ...................... skipped: Data::Visitor::Encode is not installed
t/200_middlewares/fillin_form.t ................. skipped: HTML::FillInForm 2.00 required is FillInForm
t/200_middlewares/httpsession.t ................. skipped: HTTP::Session is not installed
t/200_middlewares/methodoverride.t .............. ok
t/200_middlewares/mobile_attribute.t ............ skipped: HTTP::MobileAttribute is not installed.
t/200_middlewares/profile-runtime.t ............. ok
t/200_middlewares/profile.t ..................... ok
t/200_middlewares/reverseproxy.t ................ ok
t/200_middlewares/static.t ...................... skipped: Mo[ou]seX::Types::Path::Class is not installed
t/200_middlewares/static_404handler.t ........... skipped: Mo[ou]seX::Types::Path::Class is not installed
t/200_middlewares/status-memory.t ............... skipped: Set TEST_STATUS_MEMORY environment variable to run this test
t/200_middlewares/status.t ...................... ok
t/200_middlewares/uploadtemp/base_dir.t ......... ok
t/200_middlewares/uploadtemp/cleanup.t .......... ok
t/200_middlewares/uploadtemp/default.t .......... ok
t/200_middlewares/uploadtemp/keepalive.t ........ ok
t/200_middlewares/uploadtemp/keepalive_off.t .... ok
t/200_middlewares/uploadtemp/lazy.t ............. ok
t/200_middlewares/uploadtemp/template.t ......... ok
t/200_middlewares/uploadtemp/tmpdir.t ........... ok
t/200_middlewares/uploadtemp/tmpdir_template.t .. ok
t/moose/00_compile.t ............................ ok
t/moose/100_core/install_middleware.t ........... ok
t/moose/100_core/method_injection.t ............. ok
t/moose/100_core/skip_response.t ................ ok
t/moose/100_core/use.t .......................... ok
t/moose/100_core/wrap.t ......................... ok
t/moose/200_middlewares/accesslog.t ............. ok
Use of uninitialized value $content_type in lc at /home/test/perl5/perlbrew/perls/perl-5.12.4-RC2/lib/site_perl/5.12.4/HTTP/Body.pm line 96.
Use of uninitialized value $content_type in lc at /home/test/perl5/perlbrew/perls/perl-5.12.4-RC2/lib/site_perl/5.12.4/HTTP/Body.pm line 96.
Use of uninitialized value $content_type in lc at /home/test/perl5/perlbrew/perls/perl-5.12.4-RC2/lib/site_perl/5.12.4/HTTP/Body.pm line 96.
Use of uninitialized value $content_type in lc at /home/test/perl5/perlbrew/perls/perl-5.12.4-RC2/lib/site_perl/5.12.4/HTTP/Body.pm line 96.
Use of uninitialized value $content_type in lc at /home/test/perl5/perlbrew/perls/perl-5.12.4-RC2/lib/site_perl/5.12.4/HTTP/Body.pm line 96.
Use of uninitialized value $content_type in lc at /home/test/perl5/perlbrew/perls/perl-5.12.4-RC2/lib/site_perl/5.12.4/HTTP/Body.pm line 96.
Use of uninitialized value $content_type in lc at /home/test/perl5/perlbrew/perls/perl-5.12.4-RC2/lib/site_perl/5.12.4/HTTP/Body.pm line 96.
Use of uninitialized value $content_type in lc at /home/test/perl5/perlbrew/perls/perl-5.12.4-RC2/lib/site_perl/5.12.4/HTTP/Body.pm line 96.
Use of uninitialized value $content_type in lc at /home/test/perl5/perlbrew/perls/perl-5.12.4-RC2/lib/site_perl/5.12.4/HTTP/Body.pm line 96.
Use of uninitialized value $content_type in lc at /home/test/perl5/perlbrew/perls/perl-5.12.4-RC2/lib/site_perl/5.12.4/HTTP/Body.pm line 96.
t/moose/200_middlewares/debugrequest.t .......... ok
t/moose/200_middlewares/debugscreen.t ........... skipped: CGI::ExceptionManager is not installed
t/moose/200_middlewares/docomo_guid.t ........... skipped: HTML::StickyQuery::DoCoMoGUID is not installed
t/moose/200_middlewares/encode.t ................ skipped: Data::Visitor::Encode is not installed
t/moose/200_middlewares/fillin_form.t ........... skipped: HTML::FillInForm 2.00 required is FillInForm
t/moose/200_middlewares/httpsession.t ........... skipped: HTTP::Session is not installed
t/moose/200_middlewares/methodoverride.t ........ ok
t/moose/200_middlewares/mobile_attribute.t ...... skipped: HTTP::MobileAttribute is not installed.
t/moose/200_middlewares/profile-runtime.t ....... ok
t/moose/200_middlewares/profile.t ............... ok
t/moose/200_middlewares/reverseproxy.t .......... ok
t/moose/200_middlewares/static.t ................ ok
t/moose/200_middlewares/static_404handler.t ..... ok
t/moose/200_middlewares/status-memory.t ......... skipped: Set TEST_STATUS_MEMORY environment variable to run this test
t/moose/200_middlewares/status.t ................ ok
t/moose/uploadtemp/base_dir.t ................... ok
t/moose/uploadtemp/cleanup.t .................... ok
t/moose/uploadtemp/default.t .................... ok
t/moose/uploadtemp/keepalive.t .................. ok
t/moose/uploadtemp/keepalive_off.t .............. ok
t/moose/uploadtemp/lazy.t ....................... ok
t/moose/uploadtemp/template.t ................... ok
t/moose/uploadtemp/tmpdir.t ..................... ok
t/moose/uploadtemp/tmpdir_template.t ............ ok
All tests successful.
Files=62, Tests=604, 67 wallclock secs ( 0.27 usr  0.18 sys + 20.44 cusr  3.96 csys = 24.85 CPU)
Result: PASS

------------------------------
PREREQUISITES
------------------------------

Prerequisite modules loaded:

requires:

    Module              Need    Have   
    ------------------- ------- -------
    Any::Moose          0.09    0.15   
    ExtUtils::MakeMaker 6.42    6.56   
    Filter::Util::Call  0       1.39   
    HTTP::Engine        0.03004 0.03004
    HTTP::Request       0       6.00   
    IO::Scalar          0       2.110  
    Mouse               0.23    0.93   
    Test::More          0       0.98   
    YAML                0       0.73   

configure_requires:

    Module              Need    Have   
    ------------------- ------- -------
    ExtUtils::MakeMaker 6.42    6.56   


------------------------------
ENVIRONMENT AND OTHER CONTEXT
------------------------------

Environment variables:

    AUTOMATED_TESTING = 1
    LANG = C
    LC_ALL = C
    PATH = /home/test/perl5/perlbrew/bin:/home/test/perl5/perlbrew/perls/perl-5.12.4-RC2/bin:~/bin:/usr/bin:/bin
    PATH_WITHOUT_PERLBREW = ~/bin:/usr/bin:/bin
    PERL5LIB = /home/test/.cpan/build/HTTP-Engine-0.03004-tglF7C/blib/arch:/home/test/.cpan/build/HTTP-Engine-0.03004-tglF7C/blib/lib:/home/test/.cpan/build/MouseX-Types-0.05-lEIf3N/blib/arch:/home/test/.cpan/build/MouseX-Types-0.05-lEIf3N/blib/lib:/home/test/.cpan/build/Test-TCP-1.13-38EtF3/blib/arch:/home/test/.cpan/build/Test-TCP-1.13-38EtF3/blib/lib:/home/test/.cpan/build/Test-SharedFork-0.16-lbwqwe/blib/arch:/home/test/.cpan/build/Test-SharedFork-0.16-lbwqwe/blib/lib:/home/test/.cpan/build/HTTP-Headers-Fast-0.13-9bPsD4/blib/arch:/home/test/.cpan/build/HTTP-Headers-Fast-0.13-9bPsD4/blib/lib:/home/test/.cpan/build/Any-Moose-0.15-fY6bpW/blib/arch:/home/test/.cpan/build/Any-Moose-0.15-fY6bpW/blib/lib:/home/test/.cpan/build/Mouse-0.93-O5DCmU/blib/arch:/home/test/.cpan/build/Mouse-0.93-O5DCmU/blib/lib
    PERL5OPT = 
    PERL5_CPANPLUS_IS_RUNNING = 6122
    PERL5_CPAN_IS_RUNNING = 6122
    PERL5_CPAN_IS_RUNNING_IN_RECURSION = 31492,6122
    PERLBREW_HOME = /home/test/.perlbrew
    PERLBREW_PATH = /home/test/perl5/perlbrew/bin:/home/test/perl5/perlbrew/perls/perl-5.12.4-RC2/bin
    PERLBREW_PERL = perl-5.12.4-RC2
    PERLBREW_ROOT = /home/test/perl5/perlbrew
    PERLBREW_VERSION = 0.24
    PERL_CR_SMOKER_CURRENT = HTTP-Engine-Middleware-0.22
    PERL_EXTUTILS_AUTOINSTALL = --defaultdeps
    PERL_MM_USE_DEFAULT = 1
    SHELL = /bin/bash
    TERM = linux

Perl special variables (and OS-specific diagnostics, for MSWin32):

    $^X = /home/test/perl5/perlbrew/perls/perl-5.12.4-RC2/bin/perl
    $UID/$EUID = 1001 / 1001
    $GID = 1001 1001
    $EGID = 1001 1001

Perl module toolchain versions installed:

    Module              Have    
    ------------------- --------
    CPAN                1.9600  
    Cwd                 3.33    
    ExtUtils::CBuilder  0.280202
    ExtUtils::Command   1.17    
    ExtUtils::Install   1.55    
    ExtUtils::MakeMaker 6.56    
    ExtUtils::Manifest  1.58    
    ExtUtils::ParseXS   2.2206  
    File::Spec          3.33    
    Module::Build       0.3800  
    Module::Signature   n/a     
    Test::Harness       3.23    
    Test::More          0.98    
    YAML                0.73    
    YAML::Syck          1.17    
    version             0.91    


--

Summary of my perl5 (revision 5 version 12 subversion 4) configuration:
   
  Platform:
    osname=linux, osvers=2.6.35-28-generic, archname=x86_64-linux-thread-multi-ld
    uname='linux zippy 2.6.35-28-generic #50-ubuntu smp fri mar 18 18:42:20 utc 2011 x86_64 gnulinux '
    config_args='-de -Dprefix=/home/test/perl5/perlbrew/perls/perl-5.12.4-RC2 -Duselongdouble -Duse64bitall -Dusethreads'
    hint=recommended, useposix=true, d_sigaction=define
    useithreads=define, usemultiplicity=define
    useperlio=define, d_sfio=undef, uselargefiles=define, usesocks=undef
    use64bitint=define, use64bitall=define, uselongdouble=define
    usemymalloc=n, bincompat5005=undef
  Compiler:
    cc='cc', ccflags ='-D_REENTRANT -D_GNU_SOURCE -fno-strict-aliasing -pipe -fstack-protector -I/usr/local/include -D_LARGEFILE_SOURCE -D_FILE_OFFSET_BITS=64',
    optimize='-O2',
    cppflags='-D_REENTRANT -D_GNU_SOURCE -fno-strict-aliasing -pipe -fstack-protector -I/usr/local/include'
    ccversion='', gccversion='4.4.5', gccosandvers=''
    intsize=4, longsize=8, ptrsize=8, doublesize=8, byteorder=12345678
    d_longlong=define, longlongsize=8, d_longdbl=define, longdblsize=16
    ivtype='long', ivsize=8, nvtype='long double', nvsize=16, Off_t='off_t', lseeksize=8
    alignbytes=16, prototype=define
  Linker and Libraries:
    ld='cc', ldflags =' -fstack-protector -L/usr/local/lib'
    libpth=/usr/local/lib /lib/../lib /usr/lib/../lib /lib /usr/lib /usr/lib/x86_64-linux-gnu /lib64 /usr/lib64
    libs=-lnsl -ldl -lm -lcrypt -lutil -lpthread -lc
    perllibs=-lnsl -ldl -lm -lcrypt -lutil -lpthread -lc
    libc=/lib/libc-2.12.1.so, so=so, useshrplib=false, libperl=libperl.a
    gnulibc_version='2.12.1'
  Dynamic Linking:
    dlsrc=dl_dlopen.xs, dlext=so, d_dlsymun=undef, ccdlflags='-Wl,-E'
    cccdlflags='-fPIC', lddlflags='-shared -O2 -L/usr/local/lib -fstack-protector'


Characteristics of this binary (from libperl): 
  Compile-time options: MULTIPLICITY PERL_DONT_CREATE_GVSV
                        PERL_IMPLICIT_CONTEXT PERL_MALLOC_WRAP USE_64_BIT_ALL
                        USE_64_BIT_INT USE_ITHREADS USE_LARGE_FILES
                        USE_LONG_DOUBLE USE_PERLIO USE_PERL_ATOF
                        USE_REENTRANT_API
  Locally applied patches:
	RC2
  Built under linux
  Compiled at Jun 15 2011 20:03:19
  %ENV:
    PERL5LIB="/home/test/.cpan/build/HTTP-Engine-0.03004-tglF7C/blib/arch:/home/test/.cpan/build/HTTP-Engine-0.03004-tglF7C/blib/lib:/home/test/.cpan/build/MouseX-Types-0.05-lEIf3N/blib/arch:/home/test/.cpan/build/MouseX-Types-0.05-lEIf3N/blib/lib:/home/test/.cpan/build/Test-TCP-1.13-38EtF3/blib/arch:/home/test/.cpan/build/Test-TCP-1.13-38EtF3/blib/lib:/home/test/.cpan/build/Test-SharedFork-0.16-lbwqwe/blib/arch:/home/test/.cpan/build/Test-SharedFork-0.16-lbwqwe/blib/lib:/home/test/.cpan/build/HTTP-Headers-Fast-0.13-9bPsD4/blib/arch:/home/test/.cpan/build/HTTP-Headers-Fast-0.13-9bPsD4/blib/lib:/home/test/.cpan/build/Any-Moose-0.15-fY6bpW/blib/arch:/home/test/.cpan/build/Any-Moose-0.15-fY6bpW/blib/lib:/home/test/.cpan/build/Mouse-0.93-O5DCmU/blib/arch:/home/test/.cpan/build/Mouse-0.93-O5DCmU/blib/lib"
    PERL5OPT=""
    PERL5_CPANPLUS_IS_RUNNING="6122"
    PERL5_CPAN_IS_RUNNING="6122"
    PERL5_CPAN_IS_RUNNING_IN_RECURSION="31492,6122"
    PERLBREW_HOME="/home/test/.perlbrew"
    PERLBREW_PATH="/home/test/perl5/perlbrew/bin:/home/test/perl5/perlbrew/perls/perl-5.12.4-RC2/bin"
    PERLBREW_PERL="perl-5.12.4-RC2"
    PERLBREW_ROOT="/home/test/perl5/perlbrew"
    PERLBREW_VERSION="0.24"
    PERL_CR_SMOKER_CURRENT="HTTP-Engine-Middleware-0.22"
    PERL_EXTUTILS_AUTOINSTALL="--defaultdeps"
    PERL_MM_USE_DEFAULT="1"
  @INC:
    /home/test/.cpan/build/HTTP-Engine-0.03004-tglF7C/blib/arch
    /home/test/.cpan/build/HTTP-Engine-0.03004-tglF7C/blib/lib
    /home/test/.cpan/build/MouseX-Types-0.05-lEIf3N/blib/arch
    /home/test/.cpan/build/MouseX-Types-0.05-lEIf3N/blib/lib
    /home/test/.cpan/build/Test-TCP-1.13-38EtF3/blib/arch
    /home/test/.cpan/build/Test-TCP-1.13-38EtF3/blib/lib
    /home/test/.cpan/build/Test-SharedFork-0.16-lbwqwe/blib/arch
    /home/test/.cpan/build/Test-SharedFork-0.16-lbwqwe/blib/lib
    /home/test/.cpan/build/HTTP-Headers-Fast-0.13-9bPsD4/blib/arch
    /home/test/.cpan/build/HTTP-Headers-Fast-0.13-9bPsD4/blib/lib
    /home/test/.cpan/build/Any-Moose-0.15-fY6bpW/blib/arch
    /home/test/.cpan/build/Any-Moose-0.15-fY6bpW/blib/lib
    /home/test/.cpan/build/Mouse-0.93-O5DCmU/blib/arch
    /home/test/.cpan/build/Mouse-0.93-O5DCmU/blib/lib
    /home/test/perl5/perlbrew/perls/perl-5.12.4-RC2/lib/site_perl/5.12.4/x86_64-linux-thread-multi-ld
    /home/test/perl5/perlbrew/perls/perl-5.12.4-RC2/lib/site_perl/5.12.4
    /home/test/perl5/perlbrew/perls/perl-5.12.4-RC2/lib/5.12.4/x86_64-linux-thread-multi-ld
    /home/test/perl5/perlbrew/perls/perl-5.12.4-RC2/lib/5.12.4
    .