Syntax-Keyword-Match v0.13 Perl 5 v5.16.3 x86_64-linux

Status
Pass
From
Lukas Mai
Dist
Syntax-Keyword-Match v0.13
Platform
Perl 5 v5.16.3 x86_64-linux
Date
2023-08-21 22:08:52
ID
4fe7a07e-406f-11ee-ad7f-25f80197f5f7
This distribution has been tested as part of the CPAN Testers
project, supporting the Perl programming language.  See
http://wiki.cpantesters.org/ for more information or email
questions to cpan-testers-discuss@perl.org


--
Dear Paul Evans,

This is a computer-generated report for Syntax-Keyword-Match-0.13
on perl 5.16.3, created by CPAN-Reporter-1.2018.

Thank you for uploading your work to CPAN.  Congratulations!
All tests were successful.

Sections of this report:

    * Tester comments
    * Program output
    * Prerequisites
    * Environment and other context

------------------------------
TESTER COMMENTS
------------------------------

Additional comments from tester:

none provided

------------------------------
PROGRAM OUTPUT
------------------------------

Output from './Build test':

t/00use.t ........................ ok
t/01match-isa.t .................. ok
t/01match-numeq.t ................ ok
t/01match-regexp.t ............... ok
t/01match-streq.t ................ ok
t/02cases.t ...................... ok
t/03destroy.t .................... ok
t/04topic.t ...................... ok
t/05case-if.t .................... ok
t/10context.t .................... ok
t/11ordering.t ................... ok
t/20experimental-dispatch.t ...... ok
t/21experimental-dispatch-isa.t .. ok
t/80await+matchcase.t ............ skipped: Future::AsyncAwait >= 0.10 is not available
t/80match-divides.t .............. skipped: Syntax::Operator::Divides is not available
t/80match-eqr.t .................. skipped: Syntax::Operator::Eqr is not available
t/80match-equ.t .................. skipped: Syntax::Operator::Equ is not available
# if/elsif took 0.646sec, this was 18% faster at 0.525sec
t/95benchmark.t .................. ok
t/99pod.t ........................ ok
All tests successful.
Files=19, Tests=58,  3 wallclock secs ( 0.07 usr  0.03 sys +  3.31 cusr  0.42 csys =  3.83 CPU)
Result: PASS

------------------------------
PREREQUISITES
------------------------------

Prerequisite modules loaded:

requires:

    Module                      Need     Have    
    --------------------------- -------- --------
    perl                        5.016    5.016003
    XS::Parse::Keyword          0.36     0.38    

build_requires:

    Module                      Need     Have    
    --------------------------- -------- --------
    ExtUtils::CBuilder          0        0.280206
    Test2::V0                   0.000147 0.000150

configure_requires:

    Module                      Need     Have    
    --------------------------- -------- --------
    Module::Build               0.4004   0.4234  
    XS::Parse::Infix::Builder   0        0.38    
    XS::Parse::Keyword::Builder 0.36     0.38    


------------------------------
ENVIRONMENT AND OTHER CONTEXT
------------------------------

Environment variables:

    LANG = en_US.UTF-8
    LANGUAGE = en_US:en
    LC_ADDRESS = de_DE.UTF-8
    LC_COLLATE = POSIX
    LC_IDENTIFICATION = de_DE.UTF-8
    LC_MEASUREMENT = de_DE.UTF-8
    LC_MONETARY = de_DE.UTF-8
    LC_NAME = de_DE.UTF-8
    LC_NUMERIC = en_US.UTF-8
    LC_PAPER = de_DE.UTF-8
    LC_TELEPHONE = de_DE.UTF-8
    LC_TIME = de_DE.UTF-8
    NONINTERACTIVE_TESTING = 1
    PATH = /home/mauke/perl5/perlbrew/bin:/home/mauke/perl5/perlbrew/perls/perl-5.16.3/bin:/home/mauke/perl5/perlbrew/bin:/home/mauke/perl5/perlbrew/perls/perl-5.38.0/bin:/home/mauke/bin:/home/mauke/.local/bin:/home/mauke/.cargo/bin:/home/mauke/.ghcup/bin:/usr/local/sbin:/usr/local/bin:/usr/sbin:/usr/bin:/sbin:/bin:/usr/games:/usr/local/games:/snap/bin:/snap/bin
    PERL5LIB = 
    PERL5OPT = 
    PERL5_CPANPLUS_IS_RUNNING = 948070
    PERL5_CPAN_IS_RUNNING = 948070
    PERLBREW_BASHRC_VERSION = 0.74
    PERLBREW_HOME = /home/mauke/.perlbrew
    PERLBREW_LIB = 
    PERLBREW_MANPATH = /home/mauke/perl5/perlbrew/perls/perl-5.16.3/man
    PERLBREW_PATH = /home/mauke/perl5/perlbrew/bin:/home/mauke/perl5/perlbrew/perls/perl-5.16.3/bin
    PERLBREW_PERL = perl-5.16.3
    PERLBREW_ROOT = /home/mauke/perl5/perlbrew
    PERLBREW_VERSION = 0.94
    PERLDOC = -oterm
    PERL_LOCAL_LIB_ROOT = 
    PERL_MM_USE_DEFAULT = 1
    PERL_UNICODE = SAL
    PERL_USE_UNSAFE_INC = 1
    SHELL = /bin/bash
    TERM = tmux-256color

Perl special variables (and OS-specific diagnostics, for MSWin32):

    $^X = /home/mauke/perl5/perlbrew/perls/perl-5.16.3/bin/perl
    $UID/$EUID = 1000 / 1000
    $GID = 1000 4 24 27 29 30 44 46 113 129 144 1000
    $EGID = 1000 4 24 27 29 30 44 46 113 129 144 1000

Perl module toolchain versions installed:

    Module              Have    
    ------------------- --------
    CPAN                2.36    
    CPAN::Meta          2.143240
    Cwd                 3.39_02 
    ExtUtils::CBuilder  0.280206
    ExtUtils::Command   7.66    
    ExtUtils::Install   2.06    
    ExtUtils::MakeMaker 7.66    
    ExtUtils::Manifest  1.70    
    ExtUtils::ParseXS   3.16    
    File::Spec          3.39_02 
    JSON                n/a     
    JSON::PP            4.16    
    Module::Build       0.4234  
    Module::Signature   n/a     
    Parse::CPAN::Meta   1.4414  
    Test::Harness       3.44    
    Test::More          1.302194
    YAML                n/a     
    YAML::Syck          n/a     
    version             0.9929  


--

Summary of my perl5 (revision 5 version 16 subversion 3) configuration:
   
  Platform:
    osname=linux, osvers=5.15.0-10058-tuxedo, archname=x86_64-linux
    uname='linux luum 5.15.0-10058-tuxedo #64tux3 smp thu jan 12 17:40:29 utc 2023 x86_64 x86_64 x86_64 gnulinux '
    config_args='-de -Dprefix=/home/mauke/perl5/perlbrew/perls/perl-5.16.3 -Aeval:scriptdir=/home/mauke/perl5/perlbrew/perls/perl-5.16.3/bin'
    hint=recommended, useposix=true, d_sigaction=define
    useithreads=undef, usemultiplicity=undef
    useperlio=define, d_sfio=undef, uselargefiles=define, usesocks=undef
    use64bitint=define, use64bitall=define, uselongdouble=undef
    usemymalloc=n, bincompat5005=undef
  Compiler:
    cc='cc', ccflags ='-fwrapv -fno-strict-aliasing -pipe -fstack-protector -I/usr/local/include -D_LARGEFILE_SOURCE -D_FILE_OFFSET_BITS=64',
    optimize='-O2',
    cppflags='-fwrapv -fno-strict-aliasing -pipe -fstack-protector -I/usr/local/include'
    ccversion='', gccversion='11.3.0', gccosandvers=''
    intsize=4, longsize=8, ptrsize=8, doublesize=8, byteorder=12345678
    d_longlong=define, longlongsize=8, d_longdbl=define, longdblsize=16
    ivtype='long', ivsize=8, nvtype='double', nvsize=8, Off_t='off_t', lseeksize=8
    alignbytes=8, prototype=define
  Linker and Libraries:
    ld='cc', ldflags =' -fstack-protector -L/usr/local/lib'
    libpth=/usr/local/lib /lib/x86_64-linux-gnu /lib/../lib /usr/lib/x86_64-linux-gnu /usr/lib/../lib /lib /usr/lib /lib64 /usr/lib64
    libs=-lnsl -ldb -ldl -lm -lcrypt -lutil -lc
    perllibs=-lnsl -ldl -lm -lcrypt -lutil -lc
    libc=/lib/x86_64-linux-gnu/libc.so.6, so=so, useshrplib=false, libperl=libperl.a
    gnulibc_version='2.35'
  Dynamic Linking:
    dlsrc=dl_dlopen.xs, dlext=so, d_dlsymun=undef, ccdlflags='-Wl,-E'
    cccdlflags='-fPIC', lddlflags='-shared -O2 -L/usr/local/lib -fstack-protector'


Characteristics of this binary (from libperl): 
  Compile-time options: HAS_TIMES PERLIO_LAYERS PERL_DONT_CREATE_GVSV
                        PERL_MALLOC_WRAP PERL_PRESERVE_IVUV USE_64_BIT_ALL
                        USE_64_BIT_INT USE_LARGE_FILES USE_LOCALE
                        USE_LOCALE_COLLATE USE_LOCALE_CTYPE
                        USE_LOCALE_NUMERIC USE_PERLIO USE_PERL_ATOF
  Locally applied patches:
	Devel::PatchPerl 2.08
  Built under linux
  Compiled at Jan 26 2023 17:20:32
  %ENV:
    PERL5LIB=""
    PERL5OPT=""
    PERL5_CPANPLUS_IS_RUNNING="948070"
    PERL5_CPAN_IS_RUNNING="948070"
    PERLBREW_BASHRC_VERSION="0.74"
    PERLBREW_HOME="/home/mauke/.perlbrew"
    PERLBREW_LIB=""
    PERLBREW_MANPATH="/home/mauke/perl5/perlbrew/perls/perl-5.16.3/man"
    PERLBREW_PATH="/home/mauke/perl5/perlbrew/bin:/home/mauke/perl5/perlbrew/perls/perl-5.16.3/bin"
    PERLBREW_PERL="perl-5.16.3"
    PERLBREW_ROOT="/home/mauke/perl5/perlbrew"
    PERLBREW_VERSION="0.94"
    PERLDOC="-oterm"
    PERL_LOCAL_LIB_ROOT=""
    PERL_MM_USE_DEFAULT="1"
    PERL_UNICODE="SAL"
    PERL_USE_UNSAFE_INC="1"
  @INC:
    /home/mauke/perl5/perlbrew/perls/perl-5.16.3/lib/site_perl/5.16.3/x86_64-linux
    /home/mauke/perl5/perlbrew/perls/perl-5.16.3/lib/site_perl/5.16.3
    /home/mauke/perl5/perlbrew/perls/perl-5.16.3/lib/5.16.3/x86_64-linux
    /home/mauke/perl5/perlbrew/perls/perl-5.16.3/lib/5.16.3
    .