Report for Dist-Zilla-Plugin-CheckIssues-0.008

Back
From: metabase:user:30ae4450-2aae-11df-837a-5e0a49663a4f
Subject: PASS Dist-Zilla-Plugin-CheckIssues-0.008 v5.14.3 
Date: 2015-06-21T13:47:00Z

This distribution has been tested as part of the CPAN Testers
project, supporting the Perl programming language.  See
http://wiki.cpantesters.org/ for more information or email
questions to cpan-testers-discuss@perl.org


--
Dear Karen Etheridge,

This is a computer-generated report for Dist-Zilla-Plugin-CheckIssues-0.008
on perl 5.14.3, created by CPAN-Reporter-1.2010_01.

Thank you for uploading your work to CPAN.  Congratulations!
All tests were successful.

Sections of this report:

    * Tester comments
    * Program output
    * Prerequisites
    * Environment and other context

------------------------------
TESTER COMMENTS
------------------------------

Additional comments from tester:

this report is from an automated smoke testing program
and was not reviewed by a human for accuracy

------------------------------
PROGRAM OUTPUT
------------------------------

Output from 'C:\strawberry5143\perl\bin\perl.exe ./Build test':

# 
# Versions for all modules listed in MYMETA.json (including optional ones):
# 
# === Configure Requires ===
# 
#     Module               Want  Have
#     ------------------- ----- -----
#     Module::Build::Tiny 0.039 0.039
# 
# === Test Requires ===
# 
#     Module                          Want     Have
#     ------------------------------- ---- --------
#     Dist::Zilla::App::Tester         any 4.300028
#     Dist::Zilla::Role::MetaProvider  any 4.300028
#     ExtUtils::MakeMaker              any     6.62
#     File::Spec                       any     3.47
#     File::pushd                      any    1.002
#     Moose::Util                      any   2.0604
#     Path::Tiny                       any    0.068
#     Test::DZil                       any 4.300028
#     Test::Deep                       any    0.110
#     Test::Fatal                      any    0.010
#     Test::More                      0.88     0.98
#     if                               any   0.0601
#     lib                              any     0.63
# 
# === Test Recommends ===
# 
#     Module         Want     Have
#     ---------- -------- --------
#     CPAN::Meta 2.120900 2.120921
# 
# === Runtime Requires ===
# 
#     Module                               Want     Have
#     -------------------------------- -------- --------
#     Dist::Zilla::App                      any 4.300028
#     Dist::Zilla::Role::BeforeRelease      any 4.300028
#     Encode                                any     2.47
#     HTTP::Headers                         any     6.04
#     HTTP::Tiny                            any    0.024
#     JSON::MaybeXS                    1.001000 1.003005
#     List::Util                           1.33     1.42
#     Moose                                 any   2.0604
#     Term::ANSIColor                      3.00     3.02
#     namespace::autoclean                  any     0.13
#     strict                                any     1.04
#     warnings                              any     1.12
# 
# === Other Modules ===
# 
#     Module        Have
#     ------------- ----
#     Pod::Coverage 0.22
# 
t/00-report-prereqs.t .. ok
t/01-basic.t ........... ok
t/02-no-rt.t ........... ok
t/03-no-repo.t ......... ok
t/04-command.t ......... ok
t/zzz-check-breaks.t ... ok
All tests successful.
Files=6, Tests=19, 17 wallclock secs ( 0.06 usr +  0.05 sys =  0.11 CPU)
Result: PASS

------------------------------
PREREQUISITES
------------------------------

Prerequisite modules loaded:

requires:

    Module                           Need     Have    
    -------------------------------- -------- --------
    Dist::Zilla::App                 0        4.300028
    Dist::Zilla::Role::BeforeRelease 0        4.300028
    Encode                           0        2.47    
    HTTP::Headers                    0        6.04    
    HTTP::Tiny                       0        0.024   
    JSON::MaybeXS                    1.001000 1.003005
    List::Util                       1.33     1.42    
    Moose                            0        2.0604  
    namespace::autoclean             0        0.13    
    perl                             5.006    5.014003
    strict                           0        1.04    
    Term::ANSIColor                  3.00     3.02    
    warnings                         0        1.12    

build_requires:

    Module                           Need     Have    
    -------------------------------- -------- --------
    Dist::Zilla::App::Tester         0        4.300028
    Dist::Zilla::Role::MetaProvider  0        4.300028
    ExtUtils::MakeMaker              0        6.62    
    File::pushd                      0        1.002   
    File::Spec                       0        3.47    
    if                               0        0.0601  
    lib                              0        0.63    
    Moose::Util                      0        2.0604  
    Path::Tiny                       0        0.068   
    perl                             5.006    5.014003
    Test::Deep                       0        0.110   
    Test::DZil                       0        4.300028
    Test::Fatal                      0        0.010   
    Test::More                       0.88     0.98    

configure_requires:

    Module                           Need     Have    
    -------------------------------- -------- --------
    Module::Build::Tiny              0.039    0.039   
    perl                             5.006    5.014003


------------------------------
ENVIRONMENT AND OTHER CONTEXT
------------------------------

Environment variables:

    AUTOMATED_TESTING = 1
    COMSPEC = C:\WINDOWS\system32\cmd.exe
    NUMBER_OF_PROCESSORS = 1
    PATH = C:\IM\ImageMagick-6.8.2-Q16;C:\WINDOWS\system32;C:\WINDOWS;C:\WINDOWS\System32\Wbem;C:\strawberry5143\c\bin;C:\strawberry5143\perl\site\bin;C:\strawberry5143\perl\bin
    PERL5LIB = C:\strawberry5143\cpan\build\JSON-MaybeXS-1.003005-fvLMUu/blib/arch;C:\strawberry5143\cpan\build\JSON-MaybeXS-1.003005-fvLMUu/blib/lib;C:\strawberry5143\cpan\build\JSON-PP-2.27300-c9Yo0r/blib/arch;C:\strawberry5143\cpan\build\JSON-PP-2.27300-c9Yo0r/blib/lib;C:\strawberry5143\cpan\build\Path-Tiny-0.068-mB1N1X/blib/arch;C:\strawberry5143\cpan\build\Path-Tiny-0.068-mB1N1X/blib/lib;C:\strawberry5143\cpan\build\PathTools-3.47-pBDIAq/blib/arch;C:\strawberry5143\cpan\build\PathTools-3.47-pBDIAq/blib/lib;C:\strawberry5143\cpan\build\Scalar-List-Utils-1.42-LSH1ao/blib/arch;C:\strawberry5143\cpan\build\Scalar-List-Utils-1.42-LSH1ao/blib/lib;C:\strawberry5143\cpan\build\Module-Build-Tiny-0.039-Aqihpu/blib/arch;C:\strawberry5143\cpan\build\Module-Build-Tiny-0.039-Aqihpu/blib/lib;C:\strawberry5143\cpan\build\ExtUtils-InstallPaths-0.011-AJzOBN/blib/arch;C:\strawberry5143\cpan\build\ExtUtils-InstallPaths-0.011-AJzOBN/blib/lib;C:\strawberry5143\cpan\build\ExtUtils-Config-0.008-hngM5g/blib/arch;C:\strawberry5143\cpan\build\ExtUtils-Config-0.008-hngM5g/blib/lib;C:\strawberry5143\cpan\build\ExtUtils-Helpers-0.022-3JQejd/blib/arch;C:\strawberry5143\cpan\build\ExtUtils-Helpers-0.022-3JQejd/blib/lib;C:\strawberry5143\cpan\build\Test-Harness-3.35-VD_V_A/blib/arch;C:\strawberry5143\cpan\build\Test-Harness-3.35-VD_V_A/blib/lib
    PERL5OPT = 
    PERL5_CPANPLUS_IS_RUNNING = 20312
    PERL5_CPAN_IS_RUNNING = 20312
    PERL5_CPAN_IS_RUNNING_IN_RECURSION = 944,20312
    PERL_CR_SMOKER_CURRENT = Dist-Zilla-Plugin-CheckIssues-0.008
    PERL_CR_SMOKER_RUNONCE = 1
    PERL_EXTUTILS_AUTOINSTALL = --defaultdeps
    PERL_MM_USE_DEFAULT = 1
    PROCESSOR_IDENTIFIER = x86 Family 16 Model 5 Stepping 3, AuthenticAMD
    TEMP = C:\DOCUME~1\c\LOCALS~1\Temp
    TERM = dumb

Perl special variables (and OS-specific diagnostics, for MSWin32):

    $^X = C:\strawberry5143\perl\bin\perl.exe
    $UID/$EUID = 0 / 0
    $GID = 0
    $EGID = 0
    Win32::GetOSName = WinXP/.Net
    Win32::GetOSVersion = Service Pack 3, 5, 1, 2600, 2, 3, 0, 256, 1
    Win32::FsType = NTFS
    Win32::IsAdminUser = 1

Perl module toolchain versions installed:

    Module              Have    
    ------------------- --------
    CPAN                1.9800  
    CPAN::Meta          2.120921
    Cwd                 3.47    
    ExtUtils::CBuilder  0.280205
    ExtUtils::Command   1.17    
    ExtUtils::Install   1.56    
    ExtUtils::MakeMaker 6.62    
    ExtUtils::Manifest  1.61    
    ExtUtils::ParseXS   3.15    
    File::Spec          3.47    
    JSON                2.53    
    JSON::PP            2.27300 
    Module::Build       0.4003  
    Module::Signature   0.68    
    Parse::CPAN::Meta   1.4404  
    Test::Harness       3.35    
    Test::More          0.98    
    YAML                0.84    
    YAML::Syck          1.22    
    version             0.9901  


--

Summary of my perl5 (revision 5 version 14 subversion 3) configuration:
   
  Platform:
    osname=MSWin32, osvers=4.0, archname=MSWin32-x86-multi-thread
    uname='Win32 strawberry-perl 5.14.3.1 #1 Wed Oct 17 22:51:55 2012 i386'
    config_args='undef'
    hint=recommended, useposix=true, d_sigaction=undef
    useithreads=define, usemultiplicity=define
    useperlio=define, d_sfio=undef, uselargefiles=define, usesocks=undef
    use64bitint=undef, use64bitall=undef, uselongdouble=undef
    usemymalloc=n, bincompat5005=undef
  Compiler:
    cc='gcc', ccflags =' -s -O2 -DWIN32  -DPERL_TEXTMODE_SCRIPTS -DPERL_IMPLICIT_CONTEXT -DPERL_IMPLICIT_SYS -fno-strict-aliasing -mms-bitfields',
    optimize='-s -O2',
    cppflags='-DWIN32'
    ccversion='', gccversion='4.6.3', gccosandvers=''
    intsize=4, longsize=4, ptrsize=4, doublesize=8, byteorder=1234
    d_longlong=undef, longlongsize=8, d_longdbl=define, longdblsize=12
    ivtype='long', ivsize=4, nvtype='double', nvsize=8, Off_t='long long', lseeksize=8
    alignbytes=8, prototype=define
  Linker and Libraries:
    ld='g++', ldflags ='-s -L"C:\strawberry5143\perl\lib\CORE" -L"C:\strawberry5143\c\lib"'
    libpth=C:\strawberry5143\c\lib C:\strawberry5143\c\i686-w64-mingw32\lib
    libs=-lmoldname -lkernel32 -luser32 -lgdi32 -lwinspool -lcomdlg32 -ladvapi32 -lshell32 -lole32 -loleaut32 -lnetapi32 -luuid -lws2_32 -lmpr -lwinmm -lversion -lodbc32 -lodbccp32 -lcomctl32
    perllibs=-lmoldname -lkernel32 -luser32 -lgdi32 -lwinspool -lcomdlg32 -ladvapi32 -lshell32 -lole32 -loleaut32 -lnetapi32 -luuid -lws2_32 -lmpr -lwinmm -lversion -lodbc32 -lodbccp32 -lcomctl32
    libc=, so=dll, useshrplib=true, libperl=libperl514.a
    gnulibc_version=''
  Dynamic Linking:
    dlsrc=dl_win32.xs, dlext=dll, d_dlsymun=undef, ccdlflags=' '
    cccdlflags=' ', lddlflags='-mdll -s -L"C:\strawberry5143\perl\lib\CORE" -L"C:\strawberry5143\c\lib"'


Characteristics of this binary (from libperl): 
  Compile-time options: MULTIPLICITY PERL_DONT_CREATE_GVSV
                        PERL_IMPLICIT_CONTEXT PERL_IMPLICIT_SYS
                        PERL_MALLOC_WRAP PERL_PRESERVE_IVUV PL_OP_SLAB_ALLOC
                        USE_ITHREADS USE_LARGE_FILES USE_PERLIO
                        USE_PERL_ATOF
  Built under MSWin32
  Compiled at Oct 17 2012 23:05:06
  %ENV:
    PERL5LIB="C:\strawberry5143\cpan\build\JSON-MaybeXS-1.003005-fvLMUu/blib/arch;C:\strawberry5143\cpan\build\JSON-MaybeXS-1.003005-fvLMUu/blib/lib;C:\strawberry5143\cpan\build\JSON-PP-2.27300-c9Yo0r/blib/arch;C:\strawberry5143\cpan\build\JSON-PP-2.27300-c9Yo0r/blib/lib;C:\strawberry5143\cpan\build\Path-Tiny-0.068-mB1N1X/blib/arch;C:\strawberry5143\cpan\build\Path-Tiny-0.068-mB1N1X/blib/lib;C:\strawberry5143\cpan\build\PathTools-3.47-pBDIAq/blib/arch;C:\strawberry5143\cpan\build\PathTools-3.47-pBDIAq/blib/lib;C:\strawberry5143\cpan\build\Scalar-List-Utils-1.42-LSH1ao/blib/arch;C:\strawberry5143\cpan\build\Scalar-List-Utils-1.42-LSH1ao/blib/lib;C:\strawberry5143\cpan\build\Module-Build-Tiny-0.039-Aqihpu/blib/arch;C:\strawberry5143\cpan\build\Module-Build-Tiny-0.039-Aqihpu/blib/lib;C:\strawberry5143\cpan\build\ExtUtils-InstallPaths-0.011-AJzOBN/blib/arch;C:\strawberry5143\cpan\build\ExtUtils-InstallPaths-0.011-AJzOBN/blib/lib;C:\strawberry5143\cpan\build\ExtUtils-Config-0.008-hngM5g/blib/arch;C:\strawberry5143\cpan\build\ExtUtils-Config-0.008-hngM5g/blib/lib;C:\strawberry5143\cpan\build\ExtUtils-Helpers-0.022-3JQejd/blib/arch;C:\strawberry5143\cpan\build\ExtUtils-Helpers-0.022-3JQejd/blib/lib;C:\strawberry5143\cpan\build\Test-Harness-3.35-VD_V_A/blib/arch;C:\strawberry5143\cpan\build\Test-Harness-3.35-VD_V_A/blib/lib"
    PERL5_CPANPLUS_IS_RUNNING="20312"
    PERL5_CPAN_IS_RUNNING="20312"
    PERL5_CPAN_IS_RUNNING_IN_RECURSION="944,20312"
    PERL_CR_SMOKER_CURRENT="Dist-Zilla-Plugin-CheckIssues-0.008"
    PERL_CR_SMOKER_RUNONCE="1"
    PERL_EXTUTILS_AUTOINSTALL="--defaultdeps"
    PERL_MM_USE_DEFAULT="1"
  @INC:
    C:\strawberry5143\cpan\build\JSON-MaybeXS-1.003005-fvLMUu/blib/arch
    C:\strawberry5143\cpan\build\JSON-MaybeXS-1.003005-fvLMUu/blib/lib
    C:\strawberry5143\cpan\build\JSON-PP-2.27300-c9Yo0r/blib/arch
    C:\strawberry5143\cpan\build\JSON-PP-2.27300-c9Yo0r/blib/lib
    C:\strawberry5143\cpan\build\Path-Tiny-0.068-mB1N1X/blib/arch
    C:\strawberry5143\cpan\build\Path-Tiny-0.068-mB1N1X/blib/lib
    C:\strawberry5143\cpan\build\PathTools-3.47-pBDIAq/blib/arch
    C:\strawberry5143\cpan\build\PathTools-3.47-pBDIAq/blib/lib
    C:\strawberry5143\cpan\build\Scalar-List-Utils-1.42-LSH1ao/blib/arch
    C:\strawberry5143\cpan\build\Scalar-List-Utils-1.42-LSH1ao/blib/lib
    C:\strawberry5143\cpan\build\Module-Build-Tiny-0.039-Aqihpu/blib/arch
    C:\strawberry5143\cpan\build\Module-Build-Tiny-0.039-Aqihpu/blib/lib
    C:\strawberry5143\cpan\build\ExtUtils-InstallPaths-0.011-AJzOBN/blib/arch
    C:\strawberry5143\cpan\build\ExtUtils-InstallPaths-0.011-AJzOBN/blib/lib
    C:\strawberry5143\cpan\build\ExtUtils-Config-0.008-hngM5g/blib/arch
    C:\strawberry5143\cpan\build\ExtUtils-Config-0.008-hngM5g/blib/lib
    C:\strawberry5143\cpan\build\ExtUtils-Helpers-0.022-3JQejd/blib/arch
    C:\strawberry5143\cpan\build\ExtUtils-Helpers-0.022-3JQejd/blib/lib
    C:\strawberry5143\cpan\build\Test-Harness-3.35-VD_V_A/blib/arch
    C:\strawberry5143\cpan\build\Test-Harness-3.35-VD_V_A/blib/lib
    C:/strawberry5143/perl/site/lib
    C:/strawberry5143/perl/vendor/lib
    C:/strawberry5143/perl/lib
    .