HTTP-AnyUA v0.904 Perl 5 v5.12.3 i686-linux-thread-multi

Status
Pass
From
Chris Williams (BINGOS)
Dist
HTTP-AnyUA v0.904
Platform
Perl 5 v5.12.3 i686-linux-thread-multi
Date
2019-03-20 10:38:35
ID
506b1b74-4afc-11e9-9066-e374b0ba08e8
This distribution has been tested as part of the CPAN Testers
project, supporting the Perl programming language.  See
http://wiki.cpantesters.org/ for more information or email
questions to cpan-testers-discuss@perl.org


--

Dear CCM,

This is a computer-generated error report created automatically by
CPANPLUS, version 0.9176. Testers personal comments may appear
at the end of this report.


Thank you for uploading your work to CPAN.  Congratulations!
All tests were successful.

TEST RESULTS:

Below is the error stack from stage 'make test':

PERL_DL_NONLAZY=1 "/home/cpan/pit/thr/perl-5.12.3/bin/perl" "-MExtUtils::Command::MM" "-MTest::Harness" "-e" "undef *Test::Harness::Switches; test_harness(0, 'blib/lib', 'blib/arch')" t/*.t
t/00-compile.t ..................... ok
# 
# Versions for all modules listed in MYMETA.json (including optional ones):
# 
# === Configure Requires ===
# 
#     Module              Want Have
#     ------------------- ---- ----
#     ExtUtils::MakeMaker  any 7.34
# 
# === Build Requires ===
# 
#     Module              Want Have
#     ------------------- ---- ----
#     ExtUtils::MakeMaker  any 7.34
# 
# === Test Requires ===
# 
#     Module              Want     Have
#     ------------------- ---- --------
#     ExtUtils::MakeMaker  any     7.34
#     File::Spec           any     3.75
#     IO::Handle           any     1.28
#     IPC::Open3           any     1.05
#     Test2::API           any 1.302162
#     Test::Exception      any     0.43
#     Test::More           any 1.302162
#     lib                  any     0.62
#     namespace::clean     any     0.27
# 
# === Test Recommends ===
# 
#     Module         Want     Have
#     ---------- -------- --------
#     CPAN::Meta 2.120900 2.150010
# 
# === Test Suggests ===
# 
#     Module          Want    Have
#     --------------- ---- -------
#     AnyEvent::HTTP   any missing
#     Furl             any missing
#     HTTP::Tiny       any missing
#     JSON             any missing
#     LWP::UserAgent   any missing
#     Mojo::UserAgent  any missing
#     Net::Curl::Easy  any missing
#     Plack::Runner    any missing
#     Starman          any missing
# 
# === Runtime Requires ===
# 
#     Module         Want      Have
#     -------------- ---- ---------
#     Carp            any      1.50
#     Exporter        any   5.64_01
#     Fcntl           any      1.06
#     Future          any      0.39
#     MIME::Base64    any      3.08
#     Module::Loader  any      0.03
#     Scalar::Util    any      1.22
#     Time::HiRes     any    1.9719
#     Time::Local     any 1.1901_01
#     bytes           any      1.04
#     parent          any     0.223
#     strict          any      1.04
#     warnings        any      1.09
# 
# === Runtime Recommends ===
# 
#     Module     Want    Have
#     ---------- ---- -------
#     HTTP::Tiny  any missing
# 
t/00-report-prereqs.t .............. ok
t/01-new.t ......................... ok
t/02-shortcuts.t ................... ok
t/03-post_form.t ................... ok
    # Can't locate AnyEvent/HTTP.pm in @INC (@INC contains: t/lib /home/cpan/pit/thr/conf/perl-5.12.3/.cpanplus/5.12.3/build/qRcreuDrWr/HTTP-AnyUA-0.904/blib/lib /home/cpan/pit/thr/conf/perl-5.12.3/.cpanplus/5.12.3/build/qRcreuDrWr/HTTP-AnyUA-0.904/blib/arch /home/cpan/pit/jail/NqO94pOp83/lib/perl5/5.12.3/i686-linux-thread-multi /home/cpan/pit/jail/NqO94pOp83/lib/perl5/5.12.3 /home/cpan/pit/jail/NqO94pOp83/lib/perl5/i686-linux-thread-multi /home/cpan/pit/jail/NqO94pOp83/lib/perl5 /home/cpan/pit/thr/perl-5.12.3/lib/site_perl/5.12.3/i686-linux-thread-multi /home/cpan/pit/thr/perl-5.12.3/lib/site_perl/5.12.3 /home/cpan/pit/thr/perl-5.12.3/lib/5.12.3/i686-linux-thread-multi /home/cpan/pit/thr/perl-5.12.3/lib/5.12.3 .) at (eval 43) line 2.
    # Can't locate Furl.pm in @INC (@INC contains: t/lib /home/cpan/pit/thr/conf/perl-5.12.3/.cpanplus/5.12.3/build/qRcreuDrWr/HTTP-AnyUA-0.904/blib/lib /home/cpan/pit/thr/conf/perl-5.12.3/.cpanplus/5.12.3/build/qRcreuDrWr/HTTP-AnyUA-0.904/blib/arch /home/cpan/pit/jail/NqO94pOp83/lib/perl5/5.12.3/i686-linux-thread-multi /home/cpan/pit/jail/NqO94pOp83/lib/perl5/5.12.3 /home/cpan/pit/jail/NqO94pOp83/lib/perl5/i686-linux-thread-multi /home/cpan/pit/jail/NqO94pOp83/lib/perl5 /home/cpan/pit/thr/perl-5.12.3/lib/site_perl/5.12.3/i686-linux-thread-multi /home/cpan/pit/thr/perl-5.12.3/lib/site_perl/5.12.3 /home/cpan/pit/thr/perl-5.12.3/lib/5.12.3/i686-linux-thread-multi /home/cpan/pit/thr/perl-5.12.3/lib/5.12.3 .) at (eval 44) line 2.
    # Can't locate HTTP/Tiny.pm in @INC (@INC contains: t/lib /home/cpan/pit/thr/conf/perl-5.12.3/.cpanplus/5.12.3/build/qRcreuDrWr/HTTP-AnyUA-0.904/blib/lib /home/cpan/pit/thr/conf/perl-5.12.3/.cpanplus/5.12.3/build/qRcreuDrWr/HTTP-AnyUA-0.904/blib/arch /home/cpan/pit/jail/NqO94pOp83/lib/perl5/5.12.3/i686-linux-thread-multi /home/cpan/pit/jail/NqO94pOp83/lib/perl5/5.12.3 /home/cpan/pit/jail/NqO94pOp83/lib/perl5/i686-linux-thread-multi /home/cpan/pit/jail/NqO94pOp83/lib/perl5 /home/cpan/pit/thr/perl-5.12.3/lib/site_perl/5.12.3/i686-linux-thread-multi /home/cpan/pit/thr/perl-5.12.3/lib/site_perl/5.12.3 /home/cpan/pit/thr/perl-5.12.3/lib/5.12.3/i686-linux-thread-multi /home/cpan/pit/thr/perl-5.12.3/lib/5.12.3 .) at (eval 45) line 2.
    # Can't locate LWP/UserAgent.pm in @INC (@INC contains: t/lib /home/cpan/pit/thr/conf/perl-5.12.3/.cpanplus/5.12.3/build/qRcreuDrWr/HTTP-AnyUA-0.904/blib/lib /home/cpan/pit/thr/conf/perl-5.12.3/.cpanplus/5.12.3/build/qRcreuDrWr/HTTP-AnyUA-0.904/blib/arch /home/cpan/pit/jail/NqO94pOp83/lib/perl5/5.12.3/i686-linux-thread-multi /home/cpan/pit/jail/NqO94pOp83/lib/perl5/5.12.3 /home/cpan/pit/jail/NqO94pOp83/lib/perl5/i686-linux-thread-multi /home/cpan/pit/jail/NqO94pOp83/lib/perl5 /home/cpan/pit/thr/perl-5.12.3/lib/site_perl/5.12.3/i686-linux-thread-multi /home/cpan/pit/thr/perl-5.12.3/lib/site_perl/5.12.3 /home/cpan/pit/thr/perl-5.12.3/lib/5.12.3/i686-linux-thread-multi /home/cpan/pit/thr/perl-5.12.3/lib/5.12.3 .) at (eval 46) line 2.
    # Can't locate Mojo/UserAgent.pm in @INC (@INC contains: t/lib /home/cpan/pit/thr/conf/perl-5.12.3/.cpanplus/5.12.3/build/qRcreuDrWr/HTTP-AnyUA-0.904/blib/lib /home/cpan/pit/thr/conf/perl-5.12.3/.cpanplus/5.12.3/build/qRcreuDrWr/HTTP-AnyUA-0.904/blib/arch /home/cpan/pit/jail/NqO94pOp83/lib/perl5/5.12.3/i686-linux-thread-multi /home/cpan/pit/jail/NqO94pOp83/lib/perl5/5.12.3 /home/cpan/pit/jail/NqO94pOp83/lib/perl5/i686-linux-thread-multi /home/cpan/pit/jail/NqO94pOp83/lib/perl5 /home/cpan/pit/thr/perl-5.12.3/lib/site_perl/5.12.3/i686-linux-thread-multi /home/cpan/pit/thr/perl-5.12.3/lib/site_perl/5.12.3 /home/cpan/pit/thr/perl-5.12.3/lib/5.12.3/i686-linux-thread-multi /home/cpan/pit/thr/perl-5.12.3/lib/5.12.3 .) at (eval 47) line 2.
    # Can't locate Net/Curl/Easy.pm in @INC (@INC contains: t/lib /home/cpan/pit/thr/conf/perl-5.12.3/.cpanplus/5.12.3/build/qRcreuDrWr/HTTP-AnyUA-0.904/blib/lib /home/cpan/pit/thr/conf/perl-5.12.3/.cpanplus/5.12.3/build/qRcreuDrWr/HTTP-AnyUA-0.904/blib/arch /home/cpan/pit/jail/NqO94pOp83/lib/perl5/5.12.3/i686-linux-thread-multi /home/cpan/pit/jail/NqO94pOp83/lib/perl5/5.12.3 /home/cpan/pit/jail/NqO94pOp83/lib/perl5/i686-linux-thread-multi /home/cpan/pit/jail/NqO94pOp83/lib/perl5 /home/cpan/pit/thr/perl-5.12.3/lib/site_perl/5.12.3/i686-linux-thread-multi /home/cpan/pit/thr/perl-5.12.3/lib/site_perl/5.12.3 /home/cpan/pit/thr/perl-5.12.3/lib/5.12.3/i686-linux-thread-multi /home/cpan/pit/thr/perl-5.12.3/lib/5.12.3 .) at (eval 48) line 2.
t/04-internal-exception.t .......... ok
# Can't locate Plack/Runner.pm in @INC (@INC contains: t/lib /home/cpan/pit/thr/conf/perl-5.12.3/.cpanplus/5.12.3/build/qRcreuDrWr/HTTP-AnyUA-0.904/blib/lib /home/cpan/pit/thr/conf/perl-5.12.3/.cpanplus/5.12.3/build/qRcreuDrWr/HTTP-AnyUA-0.904/blib/arch /home/cpan/pit/jail/NqO94pOp83/lib/perl5/5.12.3/i686-linux-thread-multi /home/cpan/pit/jail/NqO94pOp83/lib/perl5/5.12.3 /home/cpan/pit/jail/NqO94pOp83/lib/perl5/i686-linux-thread-multi /home/cpan/pit/jail/NqO94pOp83/lib/perl5 /home/cpan/pit/thr/perl-5.12.3/lib/site_perl/5.12.3/i686-linux-thread-multi /home/cpan/pit/thr/perl-5.12.3/lib/site_perl/5.12.3 /home/cpan/pit/thr/perl-5.12.3/lib/5.12.3/i686-linux-thread-multi /home/cpan/pit/thr/perl-5.12.3/lib/5.12.3 .) at t/lib/Server.pm line 20.
# BEGIN failed--compilation aborted at t/lib/Server.pm line 20.
# Compilation failed in require at (eval 43) line 2.
# BEGIN failed--compilation aborted at (eval 43) line 2.
t/10-get.t ......................... skipped: Could not compile test server runner.
# Can't locate Plack/Runner.pm in @INC (@INC contains: t/lib /home/cpan/pit/thr/conf/perl-5.12.3/.cpanplus/5.12.3/build/qRcreuDrWr/HTTP-AnyUA-0.904/blib/lib /home/cpan/pit/thr/conf/perl-5.12.3/.cpanplus/5.12.3/build/qRcreuDrWr/HTTP-AnyUA-0.904/blib/arch /home/cpan/pit/jail/NqO94pOp83/lib/perl5/5.12.3/i686-linux-thread-multi /home/cpan/pit/jail/NqO94pOp83/lib/perl5/5.12.3 /home/cpan/pit/jail/NqO94pOp83/lib/perl5/i686-linux-thread-multi /home/cpan/pit/jail/NqO94pOp83/lib/perl5 /home/cpan/pit/thr/perl-5.12.3/lib/site_perl/5.12.3/i686-linux-thread-multi /home/cpan/pit/thr/perl-5.12.3/lib/site_perl/5.12.3 /home/cpan/pit/thr/perl-5.12.3/lib/5.12.3/i686-linux-thread-multi /home/cpan/pit/thr/perl-5.12.3/lib/5.12.3 .) at t/lib/Server.pm line 20.
# BEGIN failed--compilation aborted at t/lib/Server.pm line 20.
# Compilation failed in require at (eval 43) line 2.
# BEGIN failed--compilation aborted at (eval 43) line 2.
t/11-post.t ........................ skipped: Could not compile test server runner.
# Can't locate Plack/Runner.pm in @INC (@INC contains: t/lib /home/cpan/pit/thr/conf/perl-5.12.3/.cpanplus/5.12.3/build/qRcreuDrWr/HTTP-AnyUA-0.904/blib/lib /home/cpan/pit/thr/conf/perl-5.12.3/.cpanplus/5.12.3/build/qRcreuDrWr/HTTP-AnyUA-0.904/blib/arch /home/cpan/pit/jail/NqO94pOp83/lib/perl5/5.12.3/i686-linux-thread-multi /home/cpan/pit/jail/NqO94pOp83/lib/perl5/5.12.3 /home/cpan/pit/jail/NqO94pOp83/lib/perl5/i686-linux-thread-multi /home/cpan/pit/jail/NqO94pOp83/lib/perl5 /home/cpan/pit/thr/perl-5.12.3/lib/site_perl/5.12.3/i686-linux-thread-multi /home/cpan/pit/thr/perl-5.12.3/lib/site_perl/5.12.3 /home/cpan/pit/thr/perl-5.12.3/lib/5.12.3/i686-linux-thread-multi /home/cpan/pit/thr/perl-5.12.3/lib/5.12.3 .) at t/lib/Server.pm line 20.
# BEGIN failed--compilation aborted at t/lib/Server.pm line 20.
# Compilation failed in require at (eval 43) line 2.
# BEGIN failed--compilation aborted at (eval 43) line 2.
t/12-put.t ......................... skipped: Could not compile test server runner.
# Can't locate Plack/Runner.pm in @INC (@INC contains: t/lib /home/cpan/pit/thr/conf/perl-5.12.3/.cpanplus/5.12.3/build/qRcreuDrWr/HTTP-AnyUA-0.904/blib/lib /home/cpan/pit/thr/conf/perl-5.12.3/.cpanplus/5.12.3/build/qRcreuDrWr/HTTP-AnyUA-0.904/blib/arch /home/cpan/pit/jail/NqO94pOp83/lib/perl5/5.12.3/i686-linux-thread-multi /home/cpan/pit/jail/NqO94pOp83/lib/perl5/5.12.3 /home/cpan/pit/jail/NqO94pOp83/lib/perl5/i686-linux-thread-multi /home/cpan/pit/jail/NqO94pOp83/lib/perl5 /home/cpan/pit/thr/perl-5.12.3/lib/site_perl/5.12.3/i686-linux-thread-multi /home/cpan/pit/thr/perl-5.12.3/lib/site_perl/5.12.3 /home/cpan/pit/thr/perl-5.12.3/lib/5.12.3/i686-linux-thread-multi /home/cpan/pit/thr/perl-5.12.3/lib/5.12.3 .) at t/lib/Server.pm line 20.
# BEGIN failed--compilation aborted at t/lib/Server.pm line 20.
# Compilation failed in require at (eval 43) line 2.
# BEGIN failed--compilation aborted at (eval 43) line 2.
t/13-head.t ........................ skipped: Could not compile test server runner.
# Can't locate Plack/Runner.pm in @INC (@INC contains: t/lib /home/cpan/pit/thr/conf/perl-5.12.3/.cpanplus/5.12.3/build/qRcreuDrWr/HTTP-AnyUA-0.904/blib/lib /home/cpan/pit/thr/conf/perl-5.12.3/.cpanplus/5.12.3/build/qRcreuDrWr/HTTP-AnyUA-0.904/blib/arch /home/cpan/pit/jail/NqO94pOp83/lib/perl5/5.12.3/i686-linux-thread-multi /home/cpan/pit/jail/NqO94pOp83/lib/perl5/5.12.3 /home/cpan/pit/jail/NqO94pOp83/lib/perl5/i686-linux-thread-multi /home/cpan/pit/jail/NqO94pOp83/lib/perl5 /home/cpan/pit/thr/perl-5.12.3/lib/site_perl/5.12.3/i686-linux-thread-multi /home/cpan/pit/thr/perl-5.12.3/lib/site_perl/5.12.3 /home/cpan/pit/thr/perl-5.12.3/lib/5.12.3/i686-linux-thread-multi /home/cpan/pit/thr/perl-5.12.3/lib/5.12.3 .) at t/lib/Server.pm line 20.
# BEGIN failed--compilation aborted at t/lib/Server.pm line 20.
# Compilation failed in require at (eval 43) line 2.
# BEGIN failed--compilation aborted at (eval 43) line 2.
t/14-delete.t ...................... skipped: Could not compile test server runner.
# Can't locate Plack/Runner.pm in @INC (@INC contains: t/lib /home/cpan/pit/thr/conf/perl-5.12.3/.cpanplus/5.12.3/build/qRcreuDrWr/HTTP-AnyUA-0.904/blib/lib /home/cpan/pit/thr/conf/perl-5.12.3/.cpanplus/5.12.3/build/qRcreuDrWr/HTTP-AnyUA-0.904/blib/arch /home/cpan/pit/jail/NqO94pOp83/lib/perl5/5.12.3/i686-linux-thread-multi /home/cpan/pit/jail/NqO94pOp83/lib/perl5/5.12.3 /home/cpan/pit/jail/NqO94pOp83/lib/perl5/i686-linux-thread-multi /home/cpan/pit/jail/NqO94pOp83/lib/perl5 /home/cpan/pit/thr/perl-5.12.3/lib/site_perl/5.12.3/i686-linux-thread-multi /home/cpan/pit/thr/perl-5.12.3/lib/site_perl/5.12.3 /home/cpan/pit/thr/perl-5.12.3/lib/5.12.3/i686-linux-thread-multi /home/cpan/pit/thr/perl-5.12.3/lib/5.12.3 .) at t/lib/Server.pm line 20.
# BEGIN failed--compilation aborted at t/lib/Server.pm line 20.
# Compilation failed in require at (eval 43) line 2.
# BEGIN failed--compilation aborted at (eval 43) line 2.
t/15-custom-method.t ............... skipped: Could not compile test server runner.
# Can't locate Plack/Runner.pm in @INC (@INC contains: t/lib /home/cpan/pit/thr/conf/perl-5.12.3/.cpanplus/5.12.3/build/qRcreuDrWr/HTTP-AnyUA-0.904/blib/lib /home/cpan/pit/thr/conf/perl-5.12.3/.cpanplus/5.12.3/build/qRcreuDrWr/HTTP-AnyUA-0.904/blib/arch /home/cpan/pit/jail/NqO94pOp83/lib/perl5/5.12.3/i686-linux-thread-multi /home/cpan/pit/jail/NqO94pOp83/lib/perl5/5.12.3 /home/cpan/pit/jail/NqO94pOp83/lib/perl5/i686-linux-thread-multi /home/cpan/pit/jail/NqO94pOp83/lib/perl5 /home/cpan/pit/thr/perl-5.12.3/lib/site_perl/5.12.3/i686-linux-thread-multi /home/cpan/pit/thr/perl-5.12.3/lib/site_perl/5.12.3 /home/cpan/pit/thr/perl-5.12.3/lib/5.12.3/i686-linux-thread-multi /home/cpan/pit/thr/perl-5.12.3/lib/5.12.3 .) at t/lib/Server.pm line 20.
# BEGIN failed--compilation aborted at t/lib/Server.pm line 20.
# Compilation failed in require at (eval 43) line 2.
# BEGIN failed--compilation aborted at (eval 43) line 2.
t/20-data_callback.t ............... skipped: Could not compile test server runner.
# Can't locate Plack/Runner.pm in @INC (@INC contains: t/lib /home/cpan/pit/thr/conf/perl-5.12.3/.cpanplus/5.12.3/build/qRcreuDrWr/HTTP-AnyUA-0.904/blib/lib /home/cpan/pit/thr/conf/perl-5.12.3/.cpanplus/5.12.3/build/qRcreuDrWr/HTTP-AnyUA-0.904/blib/arch /home/cpan/pit/jail/NqO94pOp83/lib/perl5/5.12.3/i686-linux-thread-multi /home/cpan/pit/jail/NqO94pOp83/lib/perl5/5.12.3 /home/cpan/pit/jail/NqO94pOp83/lib/perl5/i686-linux-thread-multi /home/cpan/pit/jail/NqO94pOp83/lib/perl5 /home/cpan/pit/thr/perl-5.12.3/lib/site_perl/5.12.3/i686-linux-thread-multi /home/cpan/pit/thr/perl-5.12.3/lib/site_perl/5.12.3 /home/cpan/pit/thr/perl-5.12.3/lib/5.12.3/i686-linux-thread-multi /home/cpan/pit/thr/perl-5.12.3/lib/5.12.3 .) at t/lib/Server.pm line 20.
# BEGIN failed--compilation aborted at t/lib/Server.pm line 20.
# Compilation failed in require at (eval 43) line 2.
# BEGIN failed--compilation aborted at (eval 43) line 2.
t/21-basic-auth.t .................. skipped: Could not compile test server runner.
# Can't locate Plack/Runner.pm in @INC (@INC contains: t/lib /home/cpan/pit/thr/conf/perl-5.12.3/.cpanplus/5.12.3/build/qRcreuDrWr/HTTP-AnyUA-0.904/blib/lib /home/cpan/pit/thr/conf/perl-5.12.3/.cpanplus/5.12.3/build/qRcreuDrWr/HTTP-AnyUA-0.904/blib/arch /home/cpan/pit/jail/NqO94pOp83/lib/perl5/5.12.3/i686-linux-thread-multi /home/cpan/pit/jail/NqO94pOp83/lib/perl5/5.12.3 /home/cpan/pit/jail/NqO94pOp83/lib/perl5/i686-linux-thread-multi /home/cpan/pit/jail/NqO94pOp83/lib/perl5 /home/cpan/pit/thr/perl-5.12.3/lib/site_perl/5.12.3/i686-linux-thread-multi /home/cpan/pit/thr/perl-5.12.3/lib/site_perl/5.12.3 /home/cpan/pit/thr/perl-5.12.3/lib/5.12.3/i686-linux-thread-multi /home/cpan/pit/thr/perl-5.12.3/lib/5.12.3 .) at t/lib/Server.pm line 20.
# BEGIN failed--compilation aborted at t/lib/Server.pm line 20.
# Compilation failed in require at (eval 43) line 2.
# BEGIN failed--compilation aborted at (eval 43) line 2.
t/22-redirects.t ................... skipped: Could not compile test server runner.
# Can't locate Plack/Runner.pm in @INC (@INC contains: t/lib /home/cpan/pit/thr/conf/perl-5.12.3/.cpanplus/5.12.3/build/qRcreuDrWr/HTTP-AnyUA-0.904/blib/lib /home/cpan/pit/thr/conf/perl-5.12.3/.cpanplus/5.12.3/build/qRcreuDrWr/HTTP-AnyUA-0.904/blib/arch /home/cpan/pit/jail/NqO94pOp83/lib/perl5/5.12.3/i686-linux-thread-multi /home/cpan/pit/jail/NqO94pOp83/lib/perl5/5.12.3 /home/cpan/pit/jail/NqO94pOp83/lib/perl5/i686-linux-thread-multi /home/cpan/pit/jail/NqO94pOp83/lib/perl5 /home/cpan/pit/thr/perl-5.12.3/lib/site_perl/5.12.3/i686-linux-thread-multi /home/cpan/pit/thr/perl-5.12.3/lib/site_perl/5.12.3 /home/cpan/pit/thr/perl-5.12.3/lib/5.12.3/i686-linux-thread-multi /home/cpan/pit/thr/perl-5.12.3/lib/5.12.3 .) at t/lib/Server.pm line 20.
# BEGIN failed--compilation aborted at t/lib/Server.pm line 20.
# Compilation failed in require at (eval 43) line 2.
# BEGIN failed--compilation aborted at (eval 43) line 2.
t/23-content-coderef.t ............. skipped: Could not compile test server runner.
t/40-middleware-content-length.t ... ok
t/40-middleware-request-headers.t .. ok
t/40-middleware-runtime.t .......... ok
    # Can't locate Mojo/UserAgent.pm in @INC (@INC contains: t/lib /home/cpan/pit/thr/conf/perl-5.12.3/.cpanplus/5.12.3/build/qRcreuDrWr/HTTP-AnyUA-0.904/blib/lib /home/cpan/pit/thr/conf/perl-5.12.3/.cpanplus/5.12.3/build/qRcreuDrWr/HTTP-AnyUA-0.904/blib/arch /home/cpan/pit/jail/NqO94pOp83/lib/perl5/5.12.3/i686-linux-thread-multi /home/cpan/pit/jail/NqO94pOp83/lib/perl5/5.12.3 /home/cpan/pit/jail/NqO94pOp83/lib/perl5/i686-linux-thread-multi /home/cpan/pit/jail/NqO94pOp83/lib/perl5 /home/cpan/pit/thr/perl-5.12.3/lib/site_perl/5.12.3/i686-linux-thread-multi /home/cpan/pit/thr/perl-5.12.3/lib/site_perl/5.12.3 /home/cpan/pit/thr/perl-5.12.3/lib/5.12.3/i686-linux-thread-multi /home/cpan/pit/thr/perl-5.12.3/lib/5.12.3 .) at (eval 43) line 2.
    # Can't locate AnyEvent/HTTP.pm in @INC (@INC contains: t/lib /home/cpan/pit/thr/conf/perl-5.12.3/.cpanplus/5.12.3/build/qRcreuDrWr/HTTP-AnyUA-0.904/blib/lib /home/cpan/pit/thr/conf/perl-5.12.3/.cpanplus/5.12.3/build/qRcreuDrWr/HTTP-AnyUA-0.904/blib/arch /home/cpan/pit/jail/NqO94pOp83/lib/perl5/5.12.3/i686-linux-thread-multi /home/cpan/pit/jail/NqO94pOp83/lib/perl5/5.12.3 /home/cpan/pit/jail/NqO94pOp83/lib/perl5/i686-linux-thread-multi /home/cpan/pit/jail/NqO94pOp83/lib/perl5 /home/cpan/pit/thr/perl-5.12.3/lib/site_perl/5.12.3/i686-linux-thread-multi /home/cpan/pit/thr/perl-5.12.3/lib/site_perl/5.12.3 /home/cpan/pit/thr/perl-5.12.3/lib/5.12.3/i686-linux-thread-multi /home/cpan/pit/thr/perl-5.12.3/lib/5.12.3 .) at (eval 44) line 2.
t/50-future-subclass.t ............. ok
All tests successful.
Files=20, Tests=50,  2 wallclock secs ( 0.05 usr  0.01 sys +  1.35 cusr  0.14 csys =  1.55 CPU)
Result: PASS


PREREQUISITES:

Here is a list of prerequisites you specified and versions we
managed to load:

	  Module Name                        Have     Want
	  Carp                               1.50        0
	  Exporter                        5.64_01        0
	  ExtUtils::MakeMaker                7.34        0
	  Fcntl                              1.06        0
	  File::Spec                         3.75        0
	  Future                             0.39        0
	  IO::Handle                         1.28        0
	  IPC::Open3                         1.05        0
	  MIME::Base64                       3.08        0
	  Module::Loader                     0.03        0
	  Scalar::Util                       1.22        0
	  Test2::API                     1.302162        0
	  Test::Exception                    0.43        0
	  Test::More                     1.302162        0
	  Time::HiRes                      1.9719        0
	  Time::Local                    1.1901_01        0
	  bytes                              1.04        0
	  lib                                0.62        0
	  namespace::clean                   0.27        0
	  parent                            0.223        0
	  strict                             1.04        0
	  warnings                           1.09        0

Perl module toolchain versions installed:
	Module Name                        Have
	CPANPLUS                         0.9176
	CPANPLUS::Dist::Build              0.90
	Cwd                                3.75
	ExtUtils::CBuilder             0.280230
	ExtUtils::Command                  7.34
	ExtUtils::Install                  2.14
	ExtUtils::MakeMaker                7.34
	ExtUtils::Manifest                 1.72
	ExtUtils::ParseXS                  3.35
	File::Spec                         3.75
	Module::Build                    0.4224
	Pod::Parser                        1.37
	Pod::Simple                        3.14
	Test2                          1.302162
	Test::Harness                      3.42
	Test::More                     1.302162
	version                          0.9924

******************************** NOTE ********************************
The comments above are created mechanically, possibly without manual
checking by the sender.  As there are many people performing automatic
tests on each upload to CPAN, it is likely that you will receive
identical messages about the same problem.

If you believe that the message is mistaken, please reply to the first
one with correction and/or additional informations, and do not take
it personally.  We appreciate your patience. :)
**********************************************************************

Additional comments:


This report was machine-generated by CPANPLUS::Dist::YACSmoke 1.06.
Powered by minismokebox version 0.68

------------------------------
ENVIRONMENT AND OTHER CONTEXT
------------------------------

Environment variables:

    AUTOMATED_TESTING = 1
    LANG = en_GB.UTF-8
    LANGUAGE = en_GB:en
    NONINTERACTIVE_TESTING = 1
    PATH = /usr/local/bin:/usr/bin:/bin:/usr/local/games:/usr/games
    PERL5LIB = /home/cpan/pit/jail/NqO94pOp83/lib/perl5:/home/cpan/pit/thr/conf/perl-5.12.3/.cpanplus/5.12.3/build/qRcreuDrWr/HTTP-AnyUA-0.904/blib/lib:/home/cpan/pit/thr/conf/perl-5.12.3/.cpanplus/5.12.3/build/qRcreuDrWr/HTTP-AnyUA-0.904/blib/arch
    PERL5_CPANPLUS_IS_RUNNING = 21673
    PERL5_CPANPLUS_IS_VERSION = 0.9176
    PERL5_MINISMOKEBOX = 0.68
    PERL5_YACSMOKE_BASE = /home/cpan/pit/thr/conf/perl-5.12.3
    PERL_EXTUTILS_AUTOINSTALL = --defaultdeps
    PERL_LOCAL_LIB_ROOT = /home/cpan/pit/jail/NqO94pOp83
    PERL_MB_OPT = --install_base "/home/cpan/pit/jail/NqO94pOp83"
    PERL_MM_OPT = INSTALL_BASE=/home/cpan/pit/jail/NqO94pOp83
    PERL_MM_USE_DEFAULT = 1
    SHELL = /bin/bash
    TERM = screen

Perl special variables (and OS-specific diagnostics, for MSWin32):

    Perl: $^X = /home/cpan/pit/thr/perl-5.12.3/bin/perl
    UID:  $<  = 1001
    EUID: $>  = 1001
    GID:  $(  = 1001 1001
    EGID: $)  = 1001 1001


-------------------------------


--

Summary of my perl5 (revision 5 version 12 subversion 3) configuration:
   
  Platform:
    osname=linux, osvers=4.16.0-1-686, archname=i686-linux-thread-multi
    uname='linux dodo 4.16.0-1-686 #1 smp debian 4.16.5-1 (2018-04-29) i686 gnulinux '
    config_args='-des -Dprefix=/home/cpan/pit/thr/perl-5.12.3 -Dusethreads'
    hint=recommended, useposix=true, d_sigaction=define
    useithreads=define, usemultiplicity=define
    useperlio=define, d_sfio=undef, uselargefiles=define, usesocks=undef
    use64bitint=undef, use64bitall=undef, uselongdouble=undef
    usemymalloc=n, bincompat5005=undef
  Compiler:
    cc='cc', ccflags ='-D_REENTRANT -D_GNU_SOURCE -fno-strict-aliasing -pipe -fstack-protector -I/usr/local/include -D_LARGEFILE_SOURCE -D_FILE_OFFSET_BITS=64',
    optimize='-O2',
    cppflags='-D_REENTRANT -D_GNU_SOURCE -fno-strict-aliasing -pipe -fstack-protector -I/usr/local/include'
    ccversion='', gccversion='7.3.0', gccosandvers=''
    intsize=4, longsize=4, ptrsize=4, doublesize=8, byteorder=1234
    d_longlong=define, longlongsize=8, d_longdbl=define, longdblsize=12
    ivtype='long', ivsize=4, nvtype='double', nvsize=8, Off_t='off_t', lseeksize=8
    alignbytes=4, prototype=define
  Linker and Libraries:
    ld='cc', ldflags =' -fstack-protector -L/usr/local/lib'
    libpth=/usr/local/lib /lib/i386-linux-gnu /lib/../lib /usr/lib/i386-linux-gnu /usr/lib/../lib /lib /usr/lib
    libs=-lnsl -lgdbm -ldl -lm -lcrypt -lutil -lpthread -lc
    perllibs=-lnsl -ldl -lm -lcrypt -lutil -lpthread -lc
    libc=libc-2.27.so, so=so, useshrplib=false, libperl=libperl.a
    gnulibc_version='2.27'
  Dynamic Linking:
    dlsrc=dl_dlopen.xs, dlext=so, d_dlsymun=undef, ccdlflags='-Wl,-E'
    cccdlflags='-fPIC', lddlflags='-shared -O2 -L/usr/local/lib -fstack-protector'


Characteristics of this binary (from libperl): 
  Compile-time options: MULTIPLICITY PERL_DONT_CREATE_GVSV
                        PERL_IMPLICIT_CONTEXT PERL_MALLOC_WRAP USE_ITHREADS
                        USE_LARGE_FILES USE_PERLIO USE_PERL_ATOF
                        USE_REENTRANT_API
  Locally applied patches:
	Devel::PatchPerl 1.48
  Built under linux
  Compiled at May 14 2018 03:22:45
  %ENV:
    PERL5LIB="/home/cpan/pit/jail/NqO94pOp83/lib/perl5:/home/cpan/pit/thr/conf/perl-5.12.3/.cpanplus/5.12.3/build/qRcreuDrWr/HTTP-AnyUA-0.904/blib/lib:/home/cpan/pit/thr/conf/perl-5.12.3/.cpanplus/5.12.3/build/qRcreuDrWr/HTTP-AnyUA-0.904/blib/arch"
    PERL5_CPANPLUS_IS_RUNNING="21673"
    PERL5_CPANPLUS_IS_VERSION="0.9176"
    PERL5_MINISMOKEBOX="0.68"
    PERL5_YACSMOKE_BASE="/home/cpan/pit/thr/conf/perl-5.12.3"
    PERL_EXTUTILS_AUTOINSTALL="--defaultdeps"
    PERL_LOCAL_LIB_ROOT="/home/cpan/pit/jail/NqO94pOp83"
    PERL_MB_OPT="--install_base "/home/cpan/pit/jail/NqO94pOp83""
    PERL_MM_OPT="INSTALL_BASE=/home/cpan/pit/jail/NqO94pOp83"
    PERL_MM_USE_DEFAULT="1"
  @INC:
    /home/cpan/pit/jail/NqO94pOp83/lib/perl5/5.12.3/i686-linux-thread-multi
    /home/cpan/pit/jail/NqO94pOp83/lib/perl5/5.12.3
    /home/cpan/pit/jail/NqO94pOp83/lib/perl5/i686-linux-thread-multi
    /home/cpan/pit/jail/NqO94pOp83/lib/perl5
    /home/cpan/pit/thr/conf/perl-5.12.3/.cpanplus/5.12.3/build/qRcreuDrWr/HTTP-AnyUA-0.904/blib/lib
    /home/cpan/pit/thr/conf/perl-5.12.3/.cpanplus/5.12.3/build/qRcreuDrWr/HTTP-AnyUA-0.904/blib/arch
    /home/cpan/pit/thr/perl-5.12.3/lib/site_perl/5.12.3/i686-linux-thread-multi
    /home/cpan/pit/thr/perl-5.12.3/lib/site_perl/5.12.3
    /home/cpan/pit/thr/perl-5.12.3/lib/5.12.3/i686-linux-thread-multi
    /home/cpan/pit/thr/perl-5.12.3/lib/5.12.3
    .