Web-AssetLib v0.042 Perl 5 v5.18.4 x86_64-linux-ld
- Status
- Pass
- From
- Andreas J. König (ANDK)
- Dist
-
Web-AssetLib v0.042
- Platform
- Perl 5 v5.18.4 x86_64-linux-ld
- Date
- 2017-12-18 22:03:44
- ID
- 5074e016-e43f-11e7-bf17-f0de02f72f8b
This distribution has been tested as part of the CPAN Testers
project, supporting the Perl programming language. See
http://wiki.cpantesters.org/ for more information or email
questions to cpan-testers-discuss@perl.org
--
Dear Ryan Lang,
This is a computer-generated report for Web-AssetLib-0.042
on perl 5.18.4, created by CPAN-Reporter-1.2018.
Thank you for uploading your work to CPAN. Congratulations!
All tests were successful.
Sections of this report:
* Tester comments
* Program output
* Prerequisites
* Environment and other context
------------------------------
TESTER COMMENTS
------------------------------
Additional comments from tester:
this report is from an automated smoke testing program
and was not reviewed by a human for accuracy
------------------------------
PROGRAM OUTPUT
------------------------------
Output from './Build test':
t/00_compile.t ................. ok
t/20-Library.t ................. ok
t/25-InputEngine-RemoteFile.t .. ok
t/30-OutputEngine-LocalFile.t .. ok
t/30-OutputEngine-String.t ..... ok
All tests successful.
Files=5, Tests=27, 28 wallclock secs ( 0.02 usr 0.05 sys + 9.28 cusr 1.51 csys = 10.86 CPU)
Result: PASS
------------------------------
PREREQUISITES
------------------------------
Prerequisite modules loaded:
requires:
Module Need Have
------------------------ ----- --------
Data::Dump 0 1.23
HTML::Element 0 5.07
HTTP::Request 0 6.13
Log::Log4perl 0 1.49
LWP::UserAgent 0 6.31
Method::Signatures 0 20170211
Moo 0 2.003003
Moose 0 2.2006
MooseX::Aliases 0 0.11
MooseX::Log::Log4perl 0 0.47
Path::Tiny 0 0.104
Types::Standard 0 1.002001
build_requires:
Module Need Have
------------------------ ----- --------
CSS::Minifier::XS 0 0.09
JavaScript::Minifier::XS 0 0.11
LWP::Protocol::https 0 6.07
Test::Compile 0 v1.3.0
Test::More 0.98 1.302119
Test::Most 0 0.35
configure_requires:
Module Need Have
------------------------ ----- --------
Module::Build::Tiny 0.035 0.039
------------------------------
ENVIRONMENT AND OTHER CONTEXT
------------------------------
Environment variables:
AUTOMATED_TESTING = 1
LANG = en_US.UTF-8
PATH = /home/sand/bin:/usr/local/bin:/usr/bin:/bin:/usr/games:/usr/local/perl/bin:/usr/X11/bin:/sbin:/usr/sbin
PERL5LIB = /tmp/loop_over_bdir-27694-HhTurE/MooseX-Log-Log4perl-0.47-0/blib/arch:/tmp/loop_over_bdir-27694-HhTurE/MooseX-Log-Log4perl-0.47-0/blib/lib:/tmp/loop_over_bdir-27694-HhTurE/Method-Signatures-20170211-0/blib/arch:/tmp/loop_over_bdir-27694-HhTurE/Method-Signatures-20170211-0/blib/lib:/tmp/loop_over_bdir-27694-HhTurE/JavaScript-Minifier-XS-0.11-0/blib/arch:/tmp/loop_over_bdir-27694-HhTurE/JavaScript-Minifier-XS-0.11-0/blib/lib:/tmp/loop_over_bdir-27694-HhTurE/CSS-Minifier-XS-0.09-0/blib/arch:/tmp/loop_over_bdir-27694-HhTurE/CSS-Minifier-XS-0.09-0/blib/lib
PERL5OPT =
PERL5_CPANPLUS_IS_RUNNING = 27695
PERL5_CPAN_IS_RUNNING = 27695
PERL5_CPAN_IS_RUNNING_IN_RECURSION = 12728,27695
PERL_CANARY_STABILITY_NOPROMPT = 1
PERL_MM_USE_DEFAULT = 1
PERL_USE_UNSAFE_INC = 1
SHELL = /usr/bin/zsh
TERM = screen
Perl special variables (and OS-specific diagnostics, for MSWin32):
$^X = /home/sand/src/perl/repoperls/installed-perls/host/k93msid/v5.18.4/2d7c/bin/perl
$UID/$EUID = 1005 / 1005
$GID = 1005 1005
$EGID = 1005 1005
Perl module toolchain versions installed:
Module Have
------------------- --------
CPAN 2.20
CPAN::Meta 2.150010
Cwd 3.62
ExtUtils::CBuilder 0.280230
ExtUtils::Command 7.30
ExtUtils::Install 2.06
ExtUtils::MakeMaker 7.30
ExtUtils::Manifest 1.70
ExtUtils::ParseXS 3.36_03
File::Spec 3.62
JSON 2.95
JSON::PP 2.96
Module::Build 0.42_26
Module::Signature 0.81
Parse::CPAN::Meta 2.150010
Test::Harness 3.39
Test::More 1.302119
YAML 1.24
YAML::Syck 1.30
version 0.9918
--
Summary of my perl5 (revision 5 version 18 subversion 4) configuration:
Derived from: 51202371ba68f3f52f13124a3ea1bc3c171e0ee2
Platform:
osname=linux, osvers=4.12.0-2-amd64, archname=x86_64-linux-ld
uname='linux k93msid 4.12.0-2-amd64 #1 smp debian 4.12.13-1 (2017-09-19) x86_64 gnulinux '
config_args='-Dprefix=/home/sand/src/perl/repoperls/installed-perls/host/k93msid/v5.18.4/2d7c -Dmyhostname=k93msid -Dinstallusrbinperl=n -Uversiononly -Dusedevel -des -Ui_db -Dlibswanted=cl pthread socket inet nsl gdbm dbm malloc dl ld sun m crypt sec util c cposix posix ucb BSD gdbm_compat -Uuseithreads -Duselongdouble -DDEBUGGING=-g'
hint=recommended, useposix=true, d_sigaction=define
useithreads=undef, usemultiplicity=undef
useperlio=define, d_sfio=undef, uselargefiles=define, usesocks=undef
use64bitint=define, use64bitall=define, uselongdouble=define
usemymalloc=n, bincompat5005=undef
Compiler:
cc='cc', ccflags ='-fno-strict-aliasing -pipe -fstack-protector -I/usr/local/include -D_LARGEFILE_SOURCE -D_FILE_OFFSET_BITS=64',
optimize='-O2 -g',
cppflags='-fno-strict-aliasing -pipe -fstack-protector -I/usr/local/include'
ccversion='', gccversion='7.2.0', gccosandvers=''
intsize=4, longsize=8, ptrsize=8, doublesize=8, byteorder=12345678
d_longlong=define, longlongsize=8, d_longdbl=define, longdblsize=16
ivtype='long', ivsize=8, nvtype='long double', nvsize=16, Off_t='off_t', lseeksize=8
alignbytes=16, prototype=define
Linker and Libraries:
ld='cc', ldflags =' -fstack-protector -L/usr/local/lib'
libpth=/usr/local/lib /lib/x86_64-linux-gnu /lib/../lib /usr/lib/x86_64-linux-gnu /usr/lib/../lib /lib /usr/lib
libs=-lpthread -lnsl -ldl -lm -lcrypt -lutil -lc
perllibs=-lpthread -lnsl -ldl -lm -lcrypt -lutil -lc
libc=libc-2.24.so, so=so, useshrplib=false, libperl=libperl.a
gnulibc_version='2.24'
Dynamic Linking:
dlsrc=dl_dlopen.xs, dlext=so, d_dlsymun=undef, ccdlflags='-Wl,-E'
cccdlflags='-fPIC', lddlflags='-shared -O2 -g -L/usr/local/lib -fstack-protector'
Characteristics of this binary (from libperl):
Compile-time options: HAS_TIMES PERLIO_LAYERS PERL_DONT_CREATE_GVSV
PERL_HASH_FUNC_ONE_AT_A_TIME_HARD PERL_MALLOC_WRAP
PERL_PRESERVE_IVUV PERL_SAWAMPERSAND PERL_USE_DEVEL
USE_64_BIT_ALL USE_64_BIT_INT USE_LARGE_FILES
USE_LOCALE USE_LOCALE_COLLATE USE_LOCALE_CTYPE
USE_LOCALE_NUMERIC USE_LONG_DOUBLE USE_PERLIO
USE_PERL_ATOF
Locally applied patches:
uncommitted-changes
Built under linux
Compiled at Oct 3 2017 19:53:19
%ENV:
PERL5LIB="/tmp/loop_over_bdir-27694-HhTurE/MooseX-Log-Log4perl-0.47-0/blib/arch:/tmp/loop_over_bdir-27694-HhTurE/MooseX-Log-Log4perl-0.47-0/blib/lib:/tmp/loop_over_bdir-27694-HhTurE/Method-Signatures-20170211-0/blib/arch:/tmp/loop_over_bdir-27694-HhTurE/Method-Signatures-20170211-0/blib/lib:/tmp/loop_over_bdir-27694-HhTurE/JavaScript-Minifier-XS-0.11-0/blib/arch:/tmp/loop_over_bdir-27694-HhTurE/JavaScript-Minifier-XS-0.11-0/blib/lib:/tmp/loop_over_bdir-27694-HhTurE/CSS-Minifier-XS-0.09-0/blib/arch:/tmp/loop_over_bdir-27694-HhTurE/CSS-Minifier-XS-0.09-0/blib/lib"
PERL5OPT=""
PERL5_CPANPLUS_IS_RUNNING="27695"
PERL5_CPAN_IS_RUNNING="27695"
PERL5_CPAN_IS_RUNNING_IN_RECURSION="12728,27695"
PERL_CANARY_STABILITY_NOPROMPT="1"
PERL_MM_USE_DEFAULT="1"
PERL_USE_UNSAFE_INC="1"
@INC:
/tmp/loop_over_bdir-27694-HhTurE/MooseX-Log-Log4perl-0.47-0/blib/arch
/tmp/loop_over_bdir-27694-HhTurE/MooseX-Log-Log4perl-0.47-0/blib/lib
/tmp/loop_over_bdir-27694-HhTurE/Method-Signatures-20170211-0/blib/arch
/tmp/loop_over_bdir-27694-HhTurE/Method-Signatures-20170211-0/blib/lib
/tmp/loop_over_bdir-27694-HhTurE/JavaScript-Minifier-XS-0.11-0/blib/arch
/tmp/loop_over_bdir-27694-HhTurE/JavaScript-Minifier-XS-0.11-0/blib/lib
/tmp/loop_over_bdir-27694-HhTurE/CSS-Minifier-XS-0.09-0/blib/arch
/tmp/loop_over_bdir-27694-HhTurE/CSS-Minifier-XS-0.09-0/blib/lib
/home/sand/src/perl/repoperls/installed-perls/host/k93msid/v5.18.4/2d7c/lib/site_perl/5.18.4/x86_64-linux-ld
/home/sand/src/perl/repoperls/installed-perls/host/k93msid/v5.18.4/2d7c/lib/site_perl/5.18.4
/home/sand/src/perl/repoperls/installed-perls/host/k93msid/v5.18.4/2d7c/lib/5.18.4/x86_64-linux-ld
/home/sand/src/perl/repoperls/installed-perls/host/k93msid/v5.18.4/2d7c/lib/5.18.4
.