Time-Moment v0.44 Perl 5 v5.32.0 i686-linux-ld
- Status
- Pass
- From
- David Cantrell (DCANTRELL)
- Dist
-
Time-Moment v0.44
- Platform
- Perl 5 v5.32.0 i686-linux-ld
- Date
- 2021-06-19 18:15:23
- ID
- 5094d520-d12a-11eb-890c-04ff65f710c6
This distribution has been tested as part of the CPAN Testers
project, supporting the Perl programming language. See
http://wiki.cpantesters.org/ for more information or email
questions to cpan-testers-discuss@perl.org
--
Dear Christian Hansen,
This is a computer-generated report for Time-Moment-0.44
on perl 5.32.0, created by CPAN-Reporter-1.2018.
Thank you for uploading your work to CPAN. Congratulations!
All tests were successful.
Sections of this report:
* Tester comments
* Program output
* Prerequisites
* Environment and other context
------------------------------
TESTER COMMENTS
------------------------------
Additional comments from tester:
this report is from an automated smoke testing program
and was not reviewed by a human for accuracy
------------------------------
PROGRAM OUTPUT
------------------------------
Output from '/usr/bin/make test':
"/home/david/cpantesting/perl-5.32.0-longdouble/bin/perl" "-Iinc" -MExtUtils::Command::MM -e 'cp_nonempty' -- Moment.bs blib/arch/auto/Time/Moment/Moment.bs 644
PERL_DL_NONLAZY=1 "/home/david/cpantesting/perl-5.32.0-longdouble/bin/perl" "-MExtUtils::Command::MM" "-MTest::Harness" "-e" "undef *Test::Harness::Switches; test_harness(0, 'inc', 'blib/lib', 'blib/arch')" t/*.t
# Time::Moment 0.44, Perl 5.032000, /home/david/cpantesting/perl-5.32.0-longdouble/bin/perl (d_gettimeod=true d_localtime_r=false)
t/000_load.t ............ ok
t/100_basic.t ........... ok
t/110_now.t ............. ok
t/120_now_utc.t ......... ok
t/130_from_epoch.t ...... ok
t/140_from_object.t ..... ok
t/145_from_object_tp.t .. ok
t/150_from_object_dt.t .. ok
t/180_from_string.t ..... ok
t/190_rd.t .............. ok
t/191_jd.t .............. ok
t/192_mjd.t ............. ok
t/200_compare.t ......... ok
t/300_strftime.t ........ ok
t/400_with.t ............ ok
t/410_with_offset.t ..... ok
t/411_with_adjusters.t .. ok
t/415_precision.t ....... ok
t/420_at.t .............. ok
t/430_length.t .......... ok
t/450_delta_time.t ...... ok
t/455_delta_date.t ...... ok
t/500_storable.t ........ ok
t/510_json.t ............ ok
t/520_cbor.t ............ skipped: Test requires module 'CBOR::XS' but it's not found
t/530_sereal.t .......... skipped: Test requires module 'Sereal' but it's not found
t/600_coerce_dt.t ....... skipped: Test requires module 'Params::Coerce' but it's not found
t/610_coerce_tp.t ....... skipped: Test requires module 'Params::Coerce' but it's not found
t/900_bug_reuse.t ....... ok
All tests successful.
Files=29, Tests=16767, 33 wallclock secs ( 4.90 usr 0.46 sys + 18.26 cusr 1.20 csys = 24.82 CPU)
Result: PASS
------------------------------
PREREQUISITES
------------------------------
Prerequisite modules loaded:
requires:
Module Need Have
------------------- -------- --------
Carp 0 1.50
perl 5.008001 5.032000
Time::HiRes 0 1.9764
XSLoader 0.02 0.30
build_requires:
Module Need Have
------------------- -------- --------
ExtUtils::MakeMaker 6.59 7.44
ExtUtils::ParseXS 3.18 3.40
Test::Fatal 0.006 0.016
Test::More 0.88 1.302185
Test::Number::Delta 1.06 1.06
Test::Requires 0 0.11
configure_requires:
Module Need Have
------------------- -------- --------
ExtUtils::MakeMaker 6.59 7.44
ExtUtils::ParseXS 3.18 3.40
------------------------------
ENVIRONMENT AND OTHER CONTEXT
------------------------------
Environment variables:
AUTOMATED_TESTING = 1
LANG = en_GB.UTF-8
LANGUAGE = en_GB:en
LC_TERMINAL = iTerm2
LC_TERMINAL_VERSION = 3.4.8
NONINTERACTIVE_TESTING = 1
PATH = /home/david/perl5/perlbrew/bin:/home/david/perl5/perlbrew/perls/perl-5.32.0/bin:/usr/local/bin:/usr/bin:/bin:/usr/local/games:/usr/games
PERL = 5.32.0-longdouble
PERL5LIB =
PERL5OPT =
PERL5_CPANPLUS_IS_RUNNING = 31637
PERL5_CPAN_IS_RUNNING = 31637
PERLBREW_HOME = /home/david/.perlbrew
PERLBREW_MANPATH = /home/david/perl5/perlbrew/perls/perl-5.32.0/man
PERLBREW_PATH = /home/david/perl5/perlbrew/bin:/home/david/perl5/perlbrew/perls/perl-5.32.0/bin
PERLBREW_PERL = perl-5.32.0
PERLBREW_ROOT = /home/david/perl5/perlbrew
PERLBREW_SHELLRC_VERSION = 0.89
PERLBREW_VERSION = 0.89
PERLVER = 5.32.0-longdouble
PERL_INLINE_DIRECTORY = /home/david/.Inline-5.32.0-longdouble
PERL_MM_USE_DEFAULT = 1
PERL_USE_UNSAFE_INC = 0
SHELL = /bin/bash
TERM = screen
Perl special variables (and OS-specific diagnostics, for MSWin32):
$^X = /home/david/cpantesting/perl-5.32.0-longdouble/bin/perl
$UID/$EUID = 1000 / 1000
$GID = 1000 24 25 27 29 30 44 46 109 1000
$EGID = 1000 24 25 27 29 30 44 46 109 1000
Perl module toolchain versions installed:
Module Have
------------------- --------
CPAN 2.27
CPAN::Meta 2.150010
Cwd 3.78
ExtUtils::CBuilder 0.280234
ExtUtils::Command 7.44
ExtUtils::Install 2.14
ExtUtils::MakeMaker 7.44
ExtUtils::Manifest 1.72
ExtUtils::ParseXS 3.40
File::Spec 3.78
JSON 4.03
JSON::PP 4.04
Module::Build 0.4231
Module::Signature n/a
Parse::CPAN::Meta 2.150010
Test::Harness 3.42
Test::More 1.302185
YAML 1.30
YAML::Syck n/a
version 0.9924
--
Summary of my perl5 (revision 5 version 32 subversion 0) configuration:
Platform:
osname=linux
osvers=4.19.0-13-686
archname=i686-linux-ld
uname='linux cpantesting-linux-32bit 4.19.0-13-686 #1 smp debian 4.19.160-2 (2020-11-28) i686 gnulinux '
config_args='-de -Dprefix=/home/david/cpantesting/perl-5.32.0-longdouble -Duselongdouble'
hint=recommended
useposix=true
d_sigaction=define
useithreads=undef
usemultiplicity=undef
use64bitint=undef
use64bitall=undef
uselongdouble=define
usemymalloc=n
default_inc_excludes_dot=define
bincompat5005=undef
Compiler:
cc='cc'
ccflags ='-fwrapv -fno-strict-aliasing -pipe -fstack-protector-strong -I/usr/local/include -D_LARGEFILE_SOURCE -D_FILE_OFFSET_BITS=64 -D_FORTIFY_SOURCE=2'
optimize='-O2'
cppflags='-fwrapv -fno-strict-aliasing -pipe -fstack-protector-strong -I/usr/local/include'
ccversion=''
gccversion='8.3.0'
gccosandvers=''
intsize=4
longsize=4
ptrsize=4
doublesize=8
byteorder=1234
doublekind=3
d_longlong=define
longlongsize=8
d_longdbl=define
longdblsize=12
longdblkind=3
ivtype='long'
ivsize=4
nvtype='long double'
nvsize=12
Off_t='off_t'
lseeksize=8
alignbytes=4
prototype=define
Linker and Libraries:
ld='cc'
ldflags =' -fstack-protector-strong -L/usr/local/lib'
libpth=/usr/local/lib /usr/lib/gcc/i686-linux-gnu/8/include-fixed /usr/include/i386-linux-gnu /usr/lib /lib/i386-linux-gnu /lib/../lib /usr/lib/i386-linux-gnu /usr/lib/../lib /lib /lib64 /usr/lib64
libs=-lpthread -lnsl -ldl -lm -lcrypt -lutil -lc
perllibs=-lpthread -lnsl -ldl -lm -lcrypt -lutil -lc
libc=libc-2.28.so
so=so
useshrplib=false
libperl=libperl.a
gnulibc_version='2.28'
Dynamic Linking:
dlsrc=dl_dlopen.xs
dlext=so
d_dlsymun=undef
ccdlflags='-Wl,-E'
cccdlflags='-fPIC'
lddlflags='-shared -O2 -L/usr/local/lib -fstack-protector-strong'
Characteristics of this binary (from libperl):
Compile-time options:
HAS_TIMES
PERLIO_LAYERS
PERL_COPY_ON_WRITE
PERL_DONT_CREATE_GVSV
PERL_MALLOC_WRAP
PERL_OP_PARENT
PERL_PRESERVE_IVUV
USE_LARGE_FILES
USE_LOCALE
USE_LOCALE_COLLATE
USE_LOCALE_CTYPE
USE_LOCALE_NUMERIC
USE_LOCALE_TIME
USE_LONG_DOUBLE
USE_PERLIO
USE_PERL_ATOF
Built under linux
Compiled at Jun 6 2021 23:36:32
%ENV:
PERL="5.32.0-longdouble"
PERL5LIB=""
PERL5OPT=""
PERL5_CPANPLUS_IS_RUNNING="31637"
PERL5_CPAN_IS_RUNNING="31637"
PERLBREW_HOME="/home/david/.perlbrew"
PERLBREW_MANPATH="/home/david/perl5/perlbrew/perls/perl-5.32.0/man"
PERLBREW_PATH="/home/david/perl5/perlbrew/bin:/home/david/perl5/perlbrew/perls/perl-5.32.0/bin"
PERLBREW_PERL="perl-5.32.0"
PERLBREW_ROOT="/home/david/perl5/perlbrew"
PERLBREW_SHELLRC_VERSION="0.89"
PERLBREW_VERSION="0.89"
PERLVER="5.32.0-longdouble"
PERL_INLINE_DIRECTORY="/home/david/.Inline-5.32.0-longdouble"
PERL_MM_USE_DEFAULT="1"
PERL_USE_UNSAFE_INC="0"
@INC:
/home/david/cpantesting/perl-5.32.0-longdouble/lib/site_perl/5.32.0/i686-linux-ld
/home/david/cpantesting/perl-5.32.0-longdouble/lib/site_perl/5.32.0
/home/david/cpantesting/perl-5.32.0-longdouble/lib/5.32.0/i686-linux-ld
/home/david/cpantesting/perl-5.32.0-longdouble/lib/5.32.0