Test-Without-Module v0.23 Perl 5 v5.32.1 MSWin32-x64-multi-thread

Status
Pass
From
David Solimano
Dist
Test-Without-Module v0.23
Platform
Perl 5 v5.32.1 MSWin32-x64-multi-thread
Date
2024-07-17 13:43:30
ID
50a0340c-7a67-1014-95dc-8b66ccca2ecc
This distribution has been tested as part of the CPAN Testers
project, supporting the Perl programming language.  See
http://wiki.cpantesters.org/ for more information or email
questions to cpan-testers-discuss@perl.org


--
Dear Max Maischein,

This is a computer-generated report for Test-Without-Module-0.23
on perl 5.32.1, created by CPAN-Reporter-1.2019.

Thank you for uploading your work to CPAN.  Congratulations!
All tests were successful.

Sections of this report:

    * Tester comments
    * Program output
    * Prerequisites
    * Environment and other context

------------------------------
TESTER COMMENTS
------------------------------

Additional comments from tester:

this report is from an automated smoke testing program
and was not reviewed by a human for accuracy

------------------------------
PROGRAM OUTPUT
------------------------------

Output from 'C:\STRAWB~1\c\bin\gmake.exe test':

"C:\Strawberry\perl\bin\perl.exe" "-MExtUtils::Command::MM" "-MTest::Harness" "-e" "undef *Test::Harness::Switches; test_harness(0, 'blib\lib', 'blib\arch')" t/00-load.t t/01-api.t t/02-block-use-module.t t/03-block-require-module.t t/04-import-export.t t/05-redefine.t t/06-missing-hidden-modules.t t/embedded-Test-Without-Module.t t/rt122551.t
# Testing Test::Without::Module 0.23, Perl 5.032001
# Carp 1.50
# Config 5.032001
# Cwd 3.78
# DynaLoader 1.47_01
# Encode 3.21
# Encode::Alias 2.25
# Encode::Byte 2.04
# Encode::Config 2.05
# Encode::Encoding 2.08
# Encode::MIME::Name 1.03
# Exporter 5.78
# Exporter::Heavy 5.78
# ExtUtils::Liblist 7.70
# ExtUtils::Liblist::Kid 7.70
# ExtUtils::MM 7.70
# ExtUtils::MM_Any 7.70
# ExtUtils::MM_Unix 7.70
# ExtUtils::MM_Win32 7.70
# ExtUtils::MY 7.70
# ExtUtils::MakeMaker 7.70
# ExtUtils::MakeMaker::Config 7.70
# ExtUtils::MakeMaker::Locale 7.70
# ExtUtils::MakeMaker::version 7.70
# Fcntl 1.13
# File::Basename 2.85
# File::Glob 1.33
# File::Path 2.18
# File::Spec 3.78
# File::Spec::Unix 3.78
# File::Spec::Win32 3.79
# List::Util 1.63
# POSIX 1.94
# PerlIO 1.11
# Scalar::Util 1.63
# Storable 3.25
# Test::Builder 1.302199
# Test::Builder::Formatter 1.302199
# Test::Builder::Module 1.302199
# Test::Builder::TodoDiag 1.302199
# Test::More 1.302199
# Test::Without::Module 0.23
# Test2::API 1.302199
# Test2::API::Context 1.302199
# Test2::API::Instance 1.302199
# Test2::API::Stack 1.302199
# Test2::Event 1.302199
# Test2::Event::Bail 1.302199
# Test2::Event::Diag 1.302199
# Test2::Event::Exception 1.302199
# Test2::Event::Fail 1.302199
# Test2::Event::Note 1.302199
# Test2::Event::Ok 1.302199
# Test2::Event::Pass 1.302199
# Test2::Event::Plan 1.302199
# Test2::Event::Skip 1.302199
# Test2::Event::Subtest 1.302199
# Test2::Event::V2 1.302199
# Test2::Event::Waiting 1.302199
# Test2::EventFacet 1.302199
# Test2::EventFacet::About 1.302199
# Test2::EventFacet::Amnesty 1.302199
# Test2::EventFacet::Assert 1.302199
# Test2::EventFacet::Control 1.302199
# Test2::EventFacet::Error 1.302199
# Test2::EventFacet::Hub 1.302199
# Test2::EventFacet::Info 1.302199
# Test2::EventFacet::Meta 1.302199
# Test2::EventFacet::Parent 1.302199
# Test2::EventFacet::Plan 1.302199
# Test2::EventFacet::Trace 1.302199
# Test2::Formatter 1.302199
# Test2::Formatter::TAP 1.302199
# Test2::Hub 1.302199
# Test2::Hub::Interceptor 1.302199
# Test2::Hub::Interceptor::Terminator 1.302199
# Test2::Hub::Subtest 1.302199
# Test2::Util 1.302199
# Test2::Util::ExternalMeta 1.302199
# Test2::Util::Facets2Legacy 1.302199
# Test2::Util::HashBase 1.302199
# Test2::Util::Trace 1.302199
# Tie::Hash 1.05
# Time::HiRes 1.9764
# Win32 0.59
# XSLoader 0.30
# base 2.27
# bytes 1.07
# constant 1.33
# mro 1.23
# overloading 0.02
# parent 0.241
# strict 1.11
# vars 1.05
# version 0.9932
# version::regex 0.9932
# version::vxs 0.9932
# warnings 1.47
# warnings::register 1.04
t/00-load.t ....................... ok
t/01-api.t ........................ ok
t/02-block-use-module.t ........... ok
t/03-block-require-module.t ....... ok
t/04-import-export.t .............. ok
t/05-redefine.t ................... ok
t/06-missing-hidden-modules.t ..... ok
t/embedded-Test-Without-Module.t .. ok
t/rt122551.t ...................... ok
All tests successful.

Test Summary Report
-------------------
t/rt122551.t                    (Wstat: 0 Tests: 2 Failed: 0)
  TODO passed:   1-2
Files=9, Tests=24,  1 wallclock secs ( 0.01 usr +  0.11 sys =  0.12 CPU)
Result: PASS

------------------------------
PREREQUISITES
------------------------------

Prerequisite modules loaded:

requires:

    Module              Need  Have    
    ------------------- ----- --------
    Carp                0     1.50    
    perl                5.006 5.032001

build_requires:

    Module              Need  Have    
    ------------------- ----- --------
    ExtUtils::MakeMaker 0     7.70    
    File::Find          0     1.37    
    File::Spec          0     3.78    
    Test::More          0     1.302199

configure_requires:

    Module              Need  Have    
    ------------------- ----- --------
    ExtUtils::MakeMaker 0     7.70    


------------------------------
ENVIRONMENT AND OTHER CONTEXT
------------------------------

Environment variables:

    AUTOMATED_TESTING = 1
    COMSPEC = C:\WINDOWS\system32\cmd.exe
    NUMBER_OF_PROCESSORS = 8
    PATH = C:\Program Files\Eclipse Foundation\jdk-8.0.302.8-hotspot\bin;C:\Program Files\Microsoft\jdk-11.0.12.7-hotspot\bin;C:\WINDOWS\system32;C:\WINDOWS;C:\WINDOWS\System32\Wbem;C:\WINDOWS\System32\WindowsPowerShell\v1.0\;C:\WINDOWS\System32\OpenSSH\;C:\Program Files\TortoiseSVN\bin;C:\RV\BIN;C:\Program Files\Microsoft SQL Server\130\Tools\Binn\;C:\Program Files\Microsoft SQL Server\Client SDK\ODBC\170\Tools\Binn\;C:\Program Files (x86)\Microsoft SQL Server\150\DTS\Binn\;C:\Program Files\SlikSvn\bin;C:\Program Files\dotnet\;C:\Program Files\Microsoft SQL Server\150\Tools\Binn\;C:\Program Files\Git\cmd;C:\Program Files\Azure Data Studio\bin;C:\Program Files\MIT\Kerberos\bin;C:\Strawberry\c\bin;C:\Strawberry\perl\site\bin;C:\Strawberry\perl\bin;C:\Program Files\TortoiseGit\bin;C:\Users\solimanod\AppData\Local\Microsoft\WindowsApps;
    PERL5LIB = 
    PERL5OPT = 
    PERL5_CPANPLUS_IS_RUNNING = 30248
    PERL5_CPAN_IS_RUNNING = 30248
    PERL5_CPAN_IS_RUNNING_IN_RECURSION = 29908,30248
    PERL_CR_SMOKER_CURRENT = Test-Without-Module-0.23
    PERL_EXTUTILS_AUTOINSTALL = --defaultdeps
    PERL_MM_USE_DEFAULT = 1
    PERL_USE_UNSAFE_INC = 1
    PROCESSOR_IDENTIFIER = Intel64 Family 6 Model 158 Stepping 13, GenuineIntel
    TEMP = C:\Users\SOLIMA~1\AppData\Local\Temp

Perl special variables (and OS-specific diagnostics, for MSWin32):

    $^X = C:\Strawberry\perl\bin\perl.exe
    $UID/$EUID = 0 / 0
    $GID = 0
    $EGID = 0
    Win32::GetOSName = Win10
    Win32::GetOSVersion = , 10, 0, 19045, 2, 0, 0, 256, 1
    Win32::FsType = NTFS
    Win32::IsAdminUser = 0

Perl module toolchain versions installed:

    Module              Have    
    ------------------- --------
    CPAN                2.28    
    CPAN::Meta          2.150010
    Cwd                 3.78    
    ExtUtils::CBuilder  0.280236
    ExtUtils::Command   7.70    
    ExtUtils::Install   2.22    
    ExtUtils::MakeMaker 7.70    
    ExtUtils::Manifest  1.75    
    ExtUtils::ParseXS   3.51    
    File::Spec          3.78    
    JSON                4.10    
    JSON::PP            4.16    
    Module::Build       0.4234  
    Module::Signature   0.88    
    Parse::CPAN::Meta   2.150010
    Test2               1.302199
    Test::Harness       3.48    
    Test::More          1.302199
    YAML                1.31    
    YAML::Syck          n/a     
    version             0.9932  


--

Summary of my perl5 (revision 5 version 32 subversion 1) configuration:
   
  Platform:
    osname=MSWin32
    osvers=10.0.19042.746
    archname=MSWin32-x64-multi-thread
    uname='Win32 strawberry-perl 5.32.1.1 #1 Sun Jan 24 15:00:15 2021 x64'
    config_args='undef'
    hint=recommended
    useposix=true
    d_sigaction=undef
    useithreads=define
    usemultiplicity=define
    use64bitint=define
    use64bitall=undef
    uselongdouble=undef
    usemymalloc=n
    default_inc_excludes_dot=define
    bincompat5005=undef
  Compiler:
    cc='gcc'
    ccflags =' -DWIN32 -DWIN64 -D__USE_MINGW_ANSI_STDIO -DPERL_TEXTMODE_SCRIPTS -DPERL_IMPLICIT_CONTEXT -DPERL_IMPLICIT_SYS -DUSE_PERLIO -fwrapv -fno-strict-aliasing -mms-bitfields'
    optimize='-s -O2'
    cppflags='-DWIN32'
    ccversion=''
    gccversion='8.3.0'
    gccosandvers=''
    intsize=4
    longsize=4
    ptrsize=8
    doublesize=8
    byteorder=12345678
    doublekind=3
    d_longlong=define
    longlongsize=8
    d_longdbl=define
    longdblsize=16
    longdblkind=3
    ivtype='long long'
    ivsize=8
    nvtype='double'
    nvsize=8
    Off_t='long long'
    lseeksize=8
    alignbytes=8
    prototype=define
  Linker and Libraries:
    ld='g++'
    ldflags ='-s -L"C:\STRAWB~1\perl\lib\CORE" -L"C:\STRAWB~1\c\lib"'
    libpth=C:\STRAWB~1\c\lib C:\STRAWB~1\c\x86_64-w64-mingw32\lib C:\STRAWB~1\c\lib\gcc\x86_64-w64-mingw32\8.3.0
    libs= -lmoldname -lkernel32 -luser32 -lgdi32 -lwinspool -lcomdlg32 -ladvapi32 -lshell32 -lole32 -loleaut32 -lnetapi32 -luuid -lws2_32 -lmpr -lwinmm -lversion -lodbc32 -lodbccp32 -lcomctl32
    perllibs= -lmoldname -lkernel32 -luser32 -lgdi32 -lwinspool -lcomdlg32 -ladvapi32 -lshell32 -lole32 -loleaut32 -lnetapi32 -luuid -lws2_32 -lmpr -lwinmm -lversion -lodbc32 -lodbccp32 -lcomctl32
    libc=
    so=dll
    useshrplib=true
    libperl=libperl532.a
    gnulibc_version=''
  Dynamic Linking:
    dlsrc=dl_win32.xs
    dlext=xs.dll
    d_dlsymun=undef
    ccdlflags=' '
    cccdlflags=' '
    lddlflags='-mdll -s -L"C:\STRAWB~1\perl\lib\CORE" -L"C:\STRAWB~1\c\lib"'


Characteristics of this binary (from libperl): 
  Compile-time options:
    HAS_TIMES
    HAVE_INTERP_INTERN
    MULTIPLICITY
    PERLIO_LAYERS
    PERL_COPY_ON_WRITE
    PERL_DONT_CREATE_GVSV
    PERL_IMPLICIT_CONTEXT
    PERL_IMPLICIT_SYS
    PERL_MALLOC_WRAP
    PERL_OP_PARENT
    PERL_PRESERVE_IVUV
    USE_64_BIT_INT
    USE_ITHREADS
    USE_LARGE_FILES
    USE_LOCALE
    USE_LOCALE_COLLATE
    USE_LOCALE_CTYPE
    USE_LOCALE_NUMERIC
    USE_LOCALE_TIME
    USE_PERLIO
    USE_PERL_ATOF
  Built under MSWin32
  Compiled at Jan 24 2021 15:05:42
  %ENV:
    PERL5_CPANPLUS_IS_RUNNING="30248"
    PERL5_CPAN_IS_RUNNING="30248"
    PERL5_CPAN_IS_RUNNING_IN_RECURSION="29908,30248"
    PERL_CR_SMOKER_CURRENT="Test-Without-Module-0.23"
    PERL_EXTUTILS_AUTOINSTALL="--defaultdeps"
    PERL_MM_USE_DEFAULT="1"
    PERL_USE_UNSAFE_INC="1"
  @INC:
    C:/Strawberry/perl/site/lib/MSWin32-x64-multi-thread
    C:/Strawberry/perl/site/lib
    C:/Strawberry/perl/vendor/lib
    C:/Strawberry/perl/lib
    .