Report for Apache-ASP-2.61

Back
From: metabase:user:e3434da8-b236-11df-85ca-0247c6d74bde
Subject: PASS Apache-ASP-2.61 v5.8.9 GNU/Linux
Date: 2011-07-04T00:55:30Z

This distribution has been tested as part of the CPAN Testers
project, supporting the Perl programming language.  See
http://wiki.cpantesters.org/ for more information or email
questions to cpan-testers-discuss@perl.org


--
Dear Joshua Chamas,

This is a computer-generated report for Apache-ASP-2.61
on perl 5.8.9, created by CPAN-Reporter-1.1902.

Thank you for uploading your work to CPAN.  Congratulations!
All tests were successful.

Sections of this report:

    * Tester comments
    * Program output
    * Prerequisites
    * Environment and other context

------------------------------
TESTER COMMENTS
------------------------------

Additional comments from tester:

this report is from an automated smoke testing program
and was not reviewed by a human for accuracy

------------------------------
PROGRAM OUTPUT
------------------------------

Output from '/usr/bin/make test':

PERL_DL_NONLAZY=1 /home/perl58/testing/bin/perl5.8.9 "-MExtUtils::Command::MM" "-e" "test_harness(0, 'blib/lib', 'blib/arch')" t/*.t
Argument "2.121_17" isn't numeric in subroutine entry at /home/perl58/.cpan/build/MLDBM-2.04-vrNQjX/blib/lib/MLDBM/Serializer/Data/Dumper.pm line 5
t/application.t .......... ok
t/asp-perl1.t ............ ok
t/asp-perl2.t ............ ok
Argument "2.121_17" isn't numeric in subroutine entry at /home/perl58/.cpan/build/MLDBM-2.04-vrNQjX/blib/lib/MLDBM/Serializer/Data/Dumper.pm line 5
t/asp_object.t ........... ok
Argument "2.121_17" isn't numeric in subroutine entry at /home/perl58/.cpan/build/MLDBM-2.04-vrNQjX/blib/lib/MLDBM/Serializer/Data/Dumper.pm line 5
t/cache.t ................ ok
t/cgi_headers.t .......... ok
t/closure.t .............. ok
Argument "2.121_17" isn't numeric in subroutine entry at /home/perl58/.cpan/build/MLDBM-2.04-vrNQjX/blib/lib/MLDBM/Serializer/Data/Dumper.pm line 5
t/collection.t ........... ok
Argument "2.121_17" isn't numeric in subroutine entry at /home/perl58/.cpan/build/MLDBM-2.04-vrNQjX/blib/lib/MLDBM/Serializer/Data/Dumper.pm line 5
t/collectionitem.t ....... ok
Argument "2.121_17" isn't numeric in subroutine entry at /home/perl58/.cpan/build/MLDBM-2.04-vrNQjX/blib/lib/MLDBM/Serializer/Data/Dumper.pm line 5
t/cookies.t .............. ok
t/end.t .................. ok
Argument "2.121_17" isn't numeric in subroutine entry at /home/perl58/.cpan/build/MLDBM-2.04-vrNQjX/blib/lib/MLDBM/Serializer/Data/Dumper.pm line 5
t/general.t .............. ok
t/global_event_end.t ..... ok
t/include.t .............. ok
t/include_change.t ....... ok
t/include_dir_error.t .... ok
t/include_runtime.t ...... ok
t/inode_names.t .......... ok
t/load.t ................. ok
t/long_names.t ........... ok
t/loops.t ................ ok
t/mail_error.t ........... ok
t/no_cache.t ............. ok
t/raw.t .................. ok
t/raw_include.t .......... ok
t/reload_global_asa.t .... ok
t/req_params_none.t ...... ok
t/request.t .............. ok
t/response.t ............. ok
t/response_end.t ......... ok
t/same_name.t ............ ok
t/server.t ............... ok
t/server_mail.t .......... ok
t/server_transfer.t ...... ok
Argument "2.121_17" isn't numeric in subroutine entry at /home/perl58/.cpan/build/MLDBM-2.04-vrNQjX/blib/lib/MLDBM/Serializer/Data/Dumper.pm line 5
t/session.t .............. ok
Argument "2.121_17" isn't numeric in subroutine entry at /home/perl58/.cpan/build/MLDBM-2.04-vrNQjX/blib/lib/MLDBM/Serializer/Data/Dumper.pm line 5
t/session_events.t ....... ok
Argument "2.121_17" isn't numeric in subroutine entry at /home/perl58/.cpan/build/MLDBM-2.04-vrNQjX/blib/lib/MLDBM/Serializer/Data/Dumper.pm line 5
t/session_query_parse.t .. ok
Argument "2.121_17" isn't numeric in subroutine entry at /home/perl58/.cpan/build/MLDBM-2.04-vrNQjX/blib/lib/MLDBM/Serializer/Data/Dumper.pm line 5
t/session_serialize.t .... ok
t/share.t ................ ok
Argument "2.121_17" isn't numeric in subroutine entry at /home/perl58/.cpan/build/MLDBM-2.04-vrNQjX/blib/lib/MLDBM/Serializer/Data/Dumper.pm line 5
t/stat_inc.t ............. ok
Argument "2.121_17" isn't numeric in subroutine entry at /home/perl58/.cpan/build/MLDBM-2.04-vrNQjX/blib/lib/MLDBM/Serializer/Data/Dumper.pm line 5
t/strict_error.t ......... ok
Argument "2.121_17" isn't numeric in subroutine entry at /home/perl58/.cpan/build/MLDBM-2.04-vrNQjX/blib/lib/MLDBM/Serializer/Data/Dumper.pm line 5
t/taint_check.t .......... ok
t/unique_packages.t ...... ok
t/xmlsubs.t .............. ok
t/xmlsubs_aspargs.t ...... ok
t/xmlsubs_perlargs.t ..... ok
t/xmlsubsmatch.t ......... ok
All tests successful.
Files=47, Tests=341,  8 wallclock secs ( 0.17 usr  0.12 sys +  3.20 cusr  0.74 csys =  4.23 CPU)
Result: PASS

------------------------------
PREREQUISITES
------------------------------

Prerequisite modules loaded:

requires:

    Module         Need Have    
    -------------- ---- --------
    Carp           0    1.10    
    Class::Struct  0    0.63    
    Data::Dumper   0    2.121_17
    Digest::MD5    0    2.51    
    Fcntl          0    1.06    
    File::Basename 0    2.77    
    MLDBM          0    2.04    
    MLDBM::Sync    0    0.30    
    SDBM_File      0    1.06    


------------------------------
ENVIRONMENT AND OTHER CONTEXT
------------------------------

Environment variables:

    AUTOMATED_TESTING = 1
    LANG = en_US.UTF-8
    LC_COLLATE = C
    LC_MONETARY = nl_NL.utf8
    PATH = /home/tester/perl5/perlbrew/bin:/home/tester/perl5/perlbrew/perls/perl-5.12.3/bin:/usr/lib64/qt-3.3/bin:/usr/lib64/ccache:/usr/local/bin:/bin:/usr/bin:/usr/local/sbin:/usr/sbin:/sbin:/home/tester/bin:/home/tester/bin
    PATH_WITHOUT_PERLBREW = /usr/lib64/qt-3.3/bin:/usr/lib64/ccache:/usr/local/bin:/bin:/usr/bin:/usr/local/sbin:/usr/sbin:/sbin:/home/tester/bin
    PERL5LIB = /home/perl58/.cpan/build/MLDBM-Sync-0.30-_eH8Qe/blib/arch:/home/perl58/.cpan/build/MLDBM-Sync-0.30-_eH8Qe/blib/lib:/home/perl58/.cpan/build/MLDBM-2.04-vrNQjX/blib/arch:/home/perl58/.cpan/build/MLDBM-2.04-vrNQjX/blib/lib
    PERL5OPT = 
    PERL5_CPANPLUS_IS_RUNNING = 21672
    PERL5_CPAN_IS_RUNNING = 21672
    PERL5_CPAN_IS_RUNNING_IN_RECURSION = 12462,21672
    PERLBREW_PATH = /home/tester/perl5/perlbrew/bin:/home/tester/perl5/perlbrew/perls/perl-5.12.3/bin
    PERLBREW_PERL = perl-5.12.3
    PERLBREW_ROOT = /home/tester/perl5/perlbrew
    PERLBREW_VERSION = 0.15
    PERL_CR_SMOKER_CURRENT = Apache-ASP-2.61
    PERL_EXTUTILS_AUTOINSTALL = --defaultdeps
    PERL_MM_USE_DEFAULT = 1
    SHELL = /bin/bash
    TERM = screen

Perl special variables (and OS-specific diagnostics, for MSWin32):

    $^X = /home/perl58/testing/bin/perl5.8.9
    $UID/$EUID = 506 / 506
    $GID = 506 506
    $EGID = 506 506

Perl module toolchain versions installed:

    Module              Have    
    ------------------- --------
    CPAN                1.9600  
    Cwd                 3.29    
    ExtUtils::CBuilder  0.280202
    ExtUtils::Command   1.16    
    ExtUtils::Install   1.52    
    ExtUtils::MakeMaker 6.56    
    ExtUtils::Manifest  1.56    
    ExtUtils::ParseXS   2.2206  
    File::Spec          3.29    
    Module::Build       0.3800  
    Module::Signature   n/a     
    Test::Harness       3.23    
    Test::More          0.98    
    YAML                n/a     
    YAML::Syck          1.17    
    version             0.90    


--

Summary of my perl5 (revision 5 version 8 subversion 9) configuration:
  Platform:
    osname=linux, osvers=2.6.35.11-83.fc14.x86_64, archname=x86_64-linux-thread-multi
    uname='linux firenze.fritz.box 2.6.35.11-83.fc14.x86_64 #1 smp mon feb 7 07:06:44 utc 2011 x86_64 x86_64 x86_64 gnulinux '
    config_args='-Dprefix=/home/perl58/testing/ -Dusethreads -Dusedevel -des'
    hint=recommended, useposix=true, d_sigaction=define
    usethreads=define use5005threads=undef useithreads=define usemultiplicity=define
    useperlio=define d_sfio=undef uselargefiles=define usesocks=undef
    use64bitint=define use64bitall=define uselongdouble=undef
    usemymalloc=n, bincompat5005=undef
  Compiler:
    cc='cc', ccflags ='-D_REENTRANT -D_GNU_SOURCE -DTHREADS_HAVE_PIDS -fno-strict-aliasing -pipe -I/usr/local/include -D_LARGEFILE_SOURCE -D_FILE_OFFSET_BITS=64 -I/usr/include/gdbm',
    optimize='-O2',
    cppflags='-D_REENTRANT -D_GNU_SOURCE -DTHREADS_HAVE_PIDS -fno-strict-aliasing -pipe -I/usr/local/include -I/usr/include/gdbm'
    ccversion='', gccversion='4.5.1 20100924 (Red Hat 4.5.1-4)', gccosandvers=''
    intsize=4, longsize=8, ptrsize=8, doublesize=8, byteorder=12345678
    d_longlong=define, longlongsize=8, d_longdbl=define, longdblsize=16
    ivtype='long', ivsize=8, nvtype='double', nvsize=8, Off_t='off_t', lseeksize=8
    alignbytes=8, prototype=define
  Linker and Libraries:
    ld='cc', ldflags =' -L/usr/local/lib'
    libpth=/usr/local/lib /lib /usr/lib /lib64 /usr/lib64 /usr/local/lib64
    libs=-lnsl -lgdbm -ldb -ldl -lm -lcrypt -lutil -lpthread -lc
    perllibs=-lnsl -ldl -lm -lcrypt -lutil -lpthread -lc
    libc=, so=so, useshrplib=false, libperl=libperl.a
    gnulibc_version='2.13'
  Dynamic Linking:
    dlsrc=dl_dlopen.xs, dlext=so, d_dlsymun=undef, ccdlflags='-Wl,-E'
    cccdlflags='-fPIC', lddlflags='-shared -O2 -L/usr/local/lib'


Characteristics of this binary (from libperl): 
  Compile-time options: MULTIPLICITY PERL_IMPLICIT_CONTEXT PERL_MALLOC_WRAP
                        THREADS_HAVE_PIDS USE_64_BIT_ALL USE_64_BIT_INT
                        USE_FAST_STDIO USE_ITHREADS USE_LARGE_FILES
                        USE_PERLIO USE_REENTRANT_API
  Built under linux
  Compiled at Jun  4 2011 22:22:39
  %ENV:
    PERL5LIB="/home/perl58/.cpan/build/MLDBM-Sync-0.30-_eH8Qe/blib/arch:/home/perl58/.cpan/build/MLDBM-Sync-0.30-_eH8Qe/blib/lib:/home/perl58/.cpan/build/MLDBM-2.04-vrNQjX/blib/arch:/home/perl58/.cpan/build/MLDBM-2.04-vrNQjX/blib/lib"
    PERL5OPT=""
    PERL5_CPANPLUS_IS_RUNNING="21672"
    PERL5_CPAN_IS_RUNNING="21672"
    PERL5_CPAN_IS_RUNNING_IN_RECURSION="12462,21672"
    PERLBREW_PATH="/home/tester/perl5/perlbrew/bin:/home/tester/perl5/perlbrew/perls/perl-5.12.3/bin"
    PERLBREW_PERL="perl-5.12.3"
    PERLBREW_ROOT="/home/tester/perl5/perlbrew"
    PERLBREW_VERSION="0.15"
    PERL_CR_SMOKER_CURRENT="Apache-ASP-2.61"
    PERL_EXTUTILS_AUTOINSTALL="--defaultdeps"
    PERL_MM_USE_DEFAULT="1"
  @INC:
    /home/perl58/.cpan/build/MLDBM-Sync-0.30-_eH8Qe/blib/arch
    /home/perl58/.cpan/build/MLDBM-Sync-0.30-_eH8Qe/blib/lib
    /home/perl58/.cpan/build/MLDBM-2.04-vrNQjX/blib/arch
    /home/perl58/.cpan/build/MLDBM-2.04-vrNQjX/blib/lib
    /home/perl58/testing/lib/5.8.9/x86_64-linux-thread-multi
    /home/perl58/testing/lib/5.8.9
    /home/perl58/testing/lib/site_perl/5.8.9/x86_64-linux-thread-multi
    /home/perl58/testing/lib/site_perl/5.8.9
    .