HTML-Rebase v0.04 Perl 5 v5.14.1 x86_64-linux-thread-multi

Status
Pass
From
Nigel Horne
Dist
HTML-Rebase v0.04
Platform
Perl 5 v5.14.1 x86_64-linux-thread-multi
Date
2018-11-30 15:40:50
ID
50b2bc8c-f4b6-11e8-afbf-aec3b07506ca
This distribution has been tested as part of the CPAN Testers
project, supporting the Perl programming language.  See
http://wiki.cpantesters.org/ for more information or email
questions to cpan-testers-discuss@perl.org


--
Dear Max Maischein,

This is a computer-generated report for HTML-Rebase-0.04
on perl 5.14.1, created by CPAN-Reporter-1.2018.

Thank you for uploading your work to CPAN.  Congratulations!
All tests were successful.

Sections of this report:

    * Tester comments
    * Program output
    * Prerequisites
    * Environment and other context

------------------------------
TESTER COMMENTS
------------------------------

Additional comments from tester:

this report is from an automated smoke testing program
and was not reviewed by a human for accuracy

------------------------------
PROGRAM OUTPUT
------------------------------

Output from '/usr/bin/make test':

PERL_DL_NONLAZY=1 "/home/njh/perl5/perlbrew/perls/perl-5.14.1/bin/perl" "-MExtUtils::Command::MM" "-MTest::Harness" "-e" "undef *Test::Harness::Switches; test_harness(0, 'blib/lib', 'blib/arch')" t/00-load.t t/01-synopsis.t t/02-quotes.t t/03-base.t t/04-case.t
t/01-synopsis.t .. ok
# Testing HTML::Rebase 0.04, Perl 5.014001
# AutoLoader 5.71
# Carp 1.3301
# Config <unknown>
# Cwd 3.74
# DynaLoader 1.13
# Encode 2.85
# Encode::Alias 2.20
# Encode::Config 2.05
# Encode::Encoding 2.07
# Exporter 5.70
# Exporter::Heavy 5.70
# ExtUtils::Liblist 7.22
# ExtUtils::Liblist::Kid 7.22
# ExtUtils::MM 7.22
# ExtUtils::MM_Any 7.22
# ExtUtils::MM_Unix 7.22
# ExtUtils::MY 7.22
# ExtUtils::MakeMaker 7.22
# ExtUtils::MakeMaker::Config 7.22
# ExtUtils::MakeMaker::Locale 7.22
# ExtUtils::MakeMaker::version 7.22
# Fcntl 1.11
# File::Basename 2.82
# File::Glob 1.12
# File::Path 2.08_01
# File::Spec 3.74
# File::Spec::Unix 3.74
# HTML::Rebase 0.04
# I18N::Langinfo 0.08
# List::Util 1.48
# POSIX 1.24
# PerlIO 1.07
# Scalar::Util 1.48
# Test::Builder 1.302136
# Test::Builder::Formatter 1.302136
# Test::Builder::Module 1.302136
# Test::Builder::TodoDiag 1.302136
# Test::More 1.302136
# Test2::API 1.302136
# Test2::API::Context 1.302136
# Test2::API::Instance 1.302136
# Test2::API::Stack 1.302136
# Test2::Event 1.302136
# Test2::Event::Bail 1.302136
# Test2::Event::Diag 1.302136
# Test2::Event::Exception 1.302136
# Test2::Event::Fail 1.302136
# Test2::Event::Note 1.302136
# Test2::Event::Ok 1.302136
# Test2::Event::Pass 1.302136
# Test2::Event::Plan 1.302136
# Test2::Event::Skip 1.302136
# Test2::Event::Subtest 1.302136
# Test2::Event::V2 1.302136
# Test2::Event::Waiting 1.302136
# Test2::EventFacet 1.302136
# Test2::EventFacet::About 1.302136
# Test2::EventFacet::Amnesty 1.302136
# Test2::EventFacet::Assert 1.302136
# Test2::EventFacet::Control 1.302136
# Test2::EventFacet::Error 1.302136
# Test2::EventFacet::Hub 1.302136
# Test2::EventFacet::Info 1.302136
# Test2::EventFacet::Meta 1.302136
# Test2::EventFacet::Parent 1.302136
# Test2::EventFacet::Plan 1.302136
# Test2::EventFacet::Trace 1.302136
# Test2::Formatter 1.302136
# Test2::Formatter::TAP 1.302136
# Test2::Hub 1.302136
# Test2::Hub::Interceptor 1.302136
# Test2::Hub::Interceptor::Terminator 1.302136
# Test2::Hub::Subtest 1.302136
# Test2::Util 1.302136
# Test2::Util::ExternalMeta 1.302136
# Test2::Util::Facets2Legacy 1.302136
# Test2::Util::HashBase 1.302136
# Test2::Util::Trace 1.302136
# Tie::Hash 1.04
# URI 1.65
# URI::Escape 3.31
# URI::URL 5.04
# URI::WithBase 2.20
# XSLoader 0.22
# base 2.18
# bytes 1.04
# constant 1.21
# feature 1.20
# mro 1.07
# overload 1.13
# parent 0.225
# re 0.18
# strict 1.04
# vars 1.02
# version 0.88
# warnings 1.12
# warnings::register 1.02
t/00-load.t ...... ok
t/02-quotes.t .... ok
t/03-base.t ...... ok
t/04-case.t ...... ok
All tests successful.
Files=5, Tests=9,  0 wallclock secs ( 0.02 usr  0.01 sys +  0.43 cusr  0.05 csys =  0.51 CPU)
Result: PASS

------------------------------
PREREQUISITES
------------------------------

Prerequisite modules loaded:

requires:

    Module              Need  Have    
    ------------------- ----- --------
    Carp                0     1.3301  
    Exporter            5     5.70    
    perl                5.006 5.014001
    URI::URL            0     5.04    
    URI::WithBase       0     2.20    

build_requires:

    Module              Need  Have    
    ------------------- ----- --------
    ExtUtils::MakeMaker 0     7.22    
    Test::More          0     1.302136

configure_requires:

    Module              Need  Have    
    ------------------- ----- --------
    ExtUtils::MakeMaker 0     7.22    


------------------------------
ENVIRONMENT AND OTHER CONTEXT
------------------------------

Environment variables:

    AUTOMATED_TESTING = 1
    HARNESS_OPTIONS = j2
    LANG = en_US.UTF-8
    PATH = /home/njh/perl5/perlbrew/bin:/home/njh/perl5/perlbrew/perls/perl-5.14.1/bin:/home/njh/src/njh/smoker/bin:/usr/bin:/bin
    PERL5LIB = 
    PERL5OPT = 
    PERL5_CPANPLUS_IS_RUNNING = 14972
    PERL5_CPAN_IS_RUNNING = 14972
    PERLBREW_HOME = /home/njh/.perlbrew
    PERLBREW_MANPATH = /home/njh/perl5/perlbrew/perls/perl-5.14.1/man
    PERLBREW_PATH = /home/njh/perl5/perlbrew/bin:/home/njh/perl5/perlbrew/perls/perl-5.14.1/bin
    PERLBREW_PERL = perl-5.14.1
    PERLBREW_ROOT = /home/njh/perl5/perlbrew
    PERLBREW_SHELLRC_VERSION = 0.83
    PERLBREW_VERSION = 0.83
    SHELL = /bin/sh
    TEMP = /tmp/user/1000
    TMPDIR = /tmp/user/1000/testwrapper.14958

Perl special variables (and OS-specific diagnostics, for MSWin32):

    $^X = /home/njh/perl5/perlbrew/perls/perl-5.14.1/bin/perl
    $UID/$EUID = 1000 / 1000
    $GID = 1000 4 24 25 29 30 44 46 103 108 115 123 996 1000
    $EGID = 1000 4 24 25 29 30 44 46 103 108 115 123 996 1000

Perl module toolchain versions installed:

    Module              Have    
    ------------------- --------
    CPAN                2.16    
    CPAN::Meta          2.150005
    Cwd                 3.74    
    ExtUtils::CBuilder  0.280220
    ExtUtils::Command   7.22    
    ExtUtils::Install   1.56    
    ExtUtils::MakeMaker 7.22    
    ExtUtils::Manifest  1.70    
    ExtUtils::ParseXS   3.30    
    File::Spec          3.74    
    JSON                2.97001 
    JSON::PP            2.27400 
    Module::Build       0.4210  
    Module::Signature   n/a     
    Parse::CPAN::Meta   1.4422  
    Test::Harness       3.36    
    Test::More          1.302136
    YAML                1.26    
    YAML::Syck          1.30    
    version             0.88    


--

Summary of my perl5 (revision 5 version 14 subversion 1) configuration:
   
  Platform:
    osname=linux, osvers=3.16-3-amd64, archname=x86_64-linux-thread-multi
    uname='linux amelia 3.16-3-amd64 #1 smp debian 3.16.5-1 (2014-10-10) x86_64 gnulinux '
    config_args='-de -Dprefix=/home/njh/perl5/perlbrew/perls/perl-5.14.1 -Duseithreads -Dusemultiplicity -Dusedevel -Accflags= -Aeval:scriptdir=/home/njh/perl5/perlbrew/perls/perl-5.14.1/bin'
    hint=recommended, useposix=true, d_sigaction=define
    useithreads=define, usemultiplicity=define
    useperlio=define, d_sfio=undef, uselargefiles=define, usesocks=undef
    use64bitint=define, use64bitall=define, uselongdouble=undef
    usemymalloc=n, bincompat5005=undef
  Compiler:
    cc='cc', ccflags ='-D_REENTRANT -D_GNU_SOURCE -fno-strict-aliasing -pipe -fstack-protector -I/usr/local/include -D_LARGEFILE_SOURCE -D_FILE_OFFSET_BITS=64',
    optimize='-O2',
    cppflags='-D_REENTRANT -D_GNU_SOURCE -fno-strict-aliasing -pipe -fstack-protector -I/usr/local/include'
    ccversion='', gccversion='4.9.2', gccosandvers=''
    intsize=4, longsize=8, ptrsize=8, doublesize=8, byteorder=12345678
    d_longlong=define, longlongsize=8, d_longdbl=define, longdblsize=16
    ivtype='long', ivsize=8, nvtype='double', nvsize=8, Off_t='off_t', lseeksize=8
    alignbytes=8, prototype=define
  Linker and Libraries:
    ld='cc', ldflags =' -fstack-protector -L/usr/local/lib'
    libpth=/usr/local/lib /lib/x86_64-linux-gnu /lib/../lib /usr/lib/x86_64-linux-gnu /usr/lib/../lib /lib /usr/lib
    libs=-lnsl -lgdbm -ldb -ldl -lm -lcrypt -lutil -lpthread -lc -lgdbm_compat
    perllibs=-lnsl -ldl -lm -lcrypt -lutil -lpthread -lc
    libc=libc-2.19.so, so=so, useshrplib=false, libperl=libperl.a
    gnulibc_version='2.19'
  Dynamic Linking:
    dlsrc=dl_dlopen.xs, dlext=so, d_dlsymun=undef, ccdlflags='-Wl,-E'
    cccdlflags='-fPIC', lddlflags='-shared -O2 -L/usr/local/lib -fstack-protector'


Characteristics of this binary (from libperl): 
  Compile-time options: MULTIPLICITY PERL_DONT_CREATE_GVSV
                        PERL_IMPLICIT_CONTEXT PERL_MALLOC_WRAP
                        PERL_PRESERVE_IVUV PERL_USE_DEVEL USE_64_BIT_ALL
                        USE_64_BIT_INT USE_ITHREADS USE_LARGE_FILES
                        USE_PERLIO USE_PERL_ATOF USE_REENTRANT_API
  Built under linux
  Compiled at Nov 15 2014 01:54:56
  %ENV:
    PERL5LIB=""
    PERL5OPT=""
    PERL5_CPANPLUS_IS_RUNNING="14972"
    PERL5_CPAN_IS_RUNNING="14972"
    PERLBREW_HOME="/home/njh/.perlbrew"
    PERLBREW_MANPATH="/home/njh/perl5/perlbrew/perls/perl-5.14.1/man"
    PERLBREW_PATH="/home/njh/perl5/perlbrew/bin:/home/njh/perl5/perlbrew/perls/perl-5.14.1/bin"
    PERLBREW_PERL="perl-5.14.1"
    PERLBREW_ROOT="/home/njh/perl5/perlbrew"
    PERLBREW_SHELLRC_VERSION="0.83"
    PERLBREW_VERSION="0.83"
  @INC:
    /home/njh/perl5/perlbrew/perls/perl-5.14.1/lib/site_perl/5.14.1/x86_64-linux-thread-multi
    /home/njh/perl5/perlbrew/perls/perl-5.14.1/lib/site_perl/5.14.1
    /home/njh/perl5/perlbrew/perls/perl-5.14.1/lib/5.14.1/x86_64-linux-thread-multi
    /home/njh/perl5/perlbrew/perls/perl-5.14.1/lib/5.14.1
    .