Report for Tkx-1.09

Back
From: metabase:user:1d527472-b429-11e3-b255-777b6c02da49
Subject: PASS Tkx-1.09 v5.21.10 Mac OS X
Date: 2015-03-23T17:37:45Z

This distribution has been tested as part of the CPAN Testers
project, supporting the Perl programming language.  See
http://wiki.cpantesters.org/ for more information or email
questions to cpan-testers-discuss@perl.org


--
Dear GAAS,

This is a computer-generated report for Tkx-1.09
on perl 5.21.10, created by App::cpanminus::reporter 0.12 (1.7018).

Thank you for uploading your work to CPAN.  Congratulations!
All tests were successful.

Sections of this report:

    * Tester comments
    * Program output
    * Prerequisites
    * Environment and other context

------------------------------
TESTER COMMENTS
------------------------------

Additional comments from tester:

none provided

------------------------------
PROGRAM OUTPUT
------------------------------

Output from '':

Building and testing Tkx-1.09
cp lib/Tkx/MegaConfig.pm blib/lib/Tkx/MegaConfig.pm
cp lib/Tkx/LabEntry.pm blib/lib/Tkx/LabEntry.pm
cp lib/Tkx/Tutorial.pod blib/lib/Tkx/Tutorial.pod
cp lib/Tkx.pm blib/lib/Tkx.pm
cp tkx-prove blib/script/tkx-prove
"/Users/dillman/perl5/perlbrew/perls/perl-5.21.10/bin/perl5.21.10" -MExtUtils::MY -e 'MY->fixin(shift)' -- blib/script/tkx-prove
cp tkx-ed blib/script/tkx-ed
"/Users/dillman/perl5/perlbrew/perls/perl-5.21.10/bin/perl5.21.10" -MExtUtils::MY -e 'MY->fixin(shift)' -- blib/script/tkx-ed
Manifying 1 pod document
Manifying 4 pod documents
PERL_DL_NONLAZY=1 "/Users/dillman/perl5/perlbrew/perls/perl-5.21.10/bin/perl5.21.10" "-MExtUtils::Command::MM" "-MTest::Harness" "-e" "undef *Test::Harness::Switches; test_harness(0, 'blib/lib', 'blib/arch')" t/*.t
t/LabEntry.t ...... ok
t/mega-config.t ... ok
t/mega.t .......... ok
t/nul-char.t ...... ok
t/tcl-callback.t .. ok
t/tcl.t ........... ok
t/tk.t ............ ok
t/utf8.t .......... ok
All tests successful.
Files=8, Tests=54, 11 wallclock secs ( 0.04 usr  0.01 sys +  1.26 cusr  0.50 csys =  1.81 CPU)
Result: PASS

------------------------------
PREREQUISITES
------------------------------

Prerequisite modules loaded:

    No requirements found

------------------------------
ENVIRONMENT AND OTHER CONTEXT
------------------------------

Environment variables:

    LANG = en_US.UTF-8
    PATH = /Users/dillman/perl5/perlbrew/bin:/Users/dillman/perl5/perlbrew/perls/perl-5.21.10/bin:/usr/local/bin:/usr/local/bin:/usr/bin:/bin:/usr/sbin:/sbin:/opt/X11/bin:/usr/texbin
    PERLBREW_BASHRC_VERSION = 0.69
    PERLBREW_HOME = /Users/dillman/.perlbrew
    PERLBREW_MANPATH = /Users/dillman/perl5/perlbrew/perls/perl-5.21.10/man
    PERLBREW_PATH = /Users/dillman/perl5/perlbrew/bin:/Users/dillman/perl5/perlbrew/perls/perl-5.21.10/bin
    PERLBREW_PERL = perl-5.21.10
    PERLBREW_ROOT = /Users/dillman/perl5/perlbrew
    PERLBREW_VERSION = 0.69
    SHELL = /bin/bash
    TERM = xterm-256color
    TMPDIR = /var/folders/4z/s64lygsx4j99l8rmn513l9mhlz4rkg/T/

Perl special variables (and OS-specific diagnostics, for MSWin32):

    EGID = 1357793240 1357793240 124909416 286226079 288838853 454779446 572063369 662656720 931619652 1010306658 1100606699 1126036573 1239512528 1429013749 1491769789 1837770820 1864589629
    EUID = 670196303
    EXECUTABLE_NAME = /Users/dillman/perl5/perlbrew/perls/perl-5.21.10/bin/perl5.21.10
    GID = 1357793240 1357793240 124909416 286226079 288838853 454779446 572063369 662656720 931619652 1010306658 1100606699 1126036573 1239512528 1429013749 1491769789 1837770820 1864589629
    UID = 670196303

Perl module toolchain versions installed:

    Module              Have    
    ------------------- --------
    CPAN                2.10    
    CPAN::Meta          2.150001
    Cwd                 3.55    
    ExtUtils::CBuilder  0.280221
    ExtUtils::Command   1.20    
    ExtUtils::Install   2.04    
    ExtUtils::MakeMaker 7.04    
    ExtUtils::Manifest  1.70    
    ExtUtils::ParseXS   3.27    
    File::Spec          3.55    
    JSON                2.90    
    JSON::PP            2.27300 
    Module::Build       0.4211  
    Module::Signature   n/a     
    Parse::CPAN::Meta   1.4414  
    Test::Harness       3.35    
    Test::More          1.001014
    YAML                1.14    
    YAML::Syck          n/a     
    version             0.9912  


--

Summary of my perl5 (revision 5 version 21 subversion 10) configuration:
   
  Platform:
    osname=darwin, osvers=14.1.0, archname=darwin-thread-multi-2level
    uname='darwin 005220ria.ria.buffalo.edu 14.1.0 darwin kernel version 14.1.0: thu feb 26 19:26:47 pst 2015; root:xnu-2782.10.73~1release_x86_64 x86_64 '
    config_args='-de -Dprefix=/Users/dillman/perl5/perlbrew/perls/perl-5.21.10 -Dusethreads -Dusedevel -Aeval:scriptdir=/Users/dillman/perl5/perlbrew/perls/perl-5.21.10/bin'
    hint=recommended, useposix=true, d_sigaction=define
    useithreads=define, usemultiplicity=define
    use64bitint=define, use64bitall=define, uselongdouble=undef
    usemymalloc=n, bincompat5005=undef
  Compiler:
    cc='cc', ccflags ='-fno-common -DPERL_DARWIN -fno-strict-aliasing -pipe -fstack-protector -I/usr/local/include',
    optimize='-O3',
    cppflags='-fno-common -DPERL_DARWIN -fno-strict-aliasing -pipe -fstack-protector -I/usr/local/include'
    ccversion='', gccversion='4.2.1 Compatible Apple LLVM 6.0 (clang-600.0.57)', gccosandvers=''
    intsize=4, longsize=8, ptrsize=8, doublesize=8, byteorder=12345678, doublekind=3
    d_longlong=define, longlongsize=8, d_longdbl=define, longdblsize=16, longdblkind=3
    ivtype='long', ivsize=8, nvtype='double', nvsize=8, Off_t='off_t', lseeksize=8
    alignbytes=8, prototype=define
  Linker and Libraries:
    ld='env MACOSX_DEPLOYMENT_TARGET=10.3 cc', ldflags =' -fstack-protector -L/usr/local/lib'
    libpth=/usr/local/lib /Applications/Xcode.app/Contents/Developer/Toolchains/XcodeDefault.xctoolchain/usr/bin/../lib/clang/6.0/lib /Applications/Xcode.app/Contents/Developer/Toolchains/XcodeDefault.xctoolchain/usr/lib /usr/lib
    libs=-lpthread -lgdbm -ldbm -ldl -lm -lutil -lc
    perllibs=-lpthread -ldl -lm -lutil -lc
    libc=, so=dylib, useshrplib=false, libperl=libperl.a
    gnulibc_version=''
  Dynamic Linking:
    dlsrc=dl_dlopen.xs, dlext=bundle, d_dlsymun=undef, ccdlflags=' '
    cccdlflags=' ', lddlflags=' -bundle -undefined dynamic_lookup -L/usr/local/lib -fstack-protector'


Characteristics of this binary (from libperl): 
  Compile-time options: HAS_TIMES MULTIPLICITY PERLIO_LAYERS
                        PERL_DONT_CREATE_GVSV
                        PERL_HASH_FUNC_ONE_AT_A_TIME_HARD
                        PERL_IMPLICIT_CONTEXT PERL_MALLOC_WRAP
                        PERL_NEW_COPY_ON_WRITE PERL_PRESERVE_IVUV
                        PERL_USE_DEVEL USE_64_BIT_ALL USE_64_BIT_INT
                        USE_ITHREADS USE_LARGE_FILES USE_LOCALE
                        USE_LOCALE_COLLATE USE_LOCALE_CTYPE
                        USE_LOCALE_NUMERIC USE_LOCALE_TIME USE_PERLIO
                        USE_PERL_ATOF USE_REENTRANT_API
  Built under darwin
  Compiled at Mar 23 2015 10:21:28
  %ENV:
    PERLBREW_BASHRC_VERSION="0.69"
    PERLBREW_HOME="/Users/dillman/.perlbrew"
    PERLBREW_MANPATH="/Users/dillman/perl5/perlbrew/perls/perl-5.21.10/man"
    PERLBREW_PATH="/Users/dillman/perl5/perlbrew/bin:/Users/dillman/perl5/perlbrew/perls/perl-5.21.10/bin"
    PERLBREW_PERL="perl-5.21.10"
    PERLBREW_ROOT="/Users/dillman/perl5/perlbrew"
    PERLBREW_VERSION="0.69"
  @INC:
    /Users/dillman/perl5/perlbrew/perls/perl-5.21.10/lib/site_perl/5.21.10/darwin-thread-multi-2level
    /Users/dillman/perl5/perlbrew/perls/perl-5.21.10/lib/site_perl/5.21.10
    /Users/dillman/perl5/perlbrew/perls/perl-5.21.10/lib/5.21.10/darwin-thread-multi-2level
    /Users/dillman/perl5/perlbrew/perls/perl-5.21.10/lib/5.21.10
    .