App-Pod2Epub v0.03 Perl 5 v5.10.1 MSWin32-x86-multi-thread
- Status
- Pass
- From
- Nigel Horne
- Dist
-
App-Pod2Epub v0.03
- Platform
- Perl 5 v5.10.1 MSWin32-x86-multi-thread
- Date
- 2010-08-20 15:19:24
- ID
- 50c7d8fe-ac6e-11df-a6a1-9b6098b7e93a
This distribution has been tested as part of the CPAN Testers
project, supporting the Perl programming language. See
http://wiki.cpantesters.org/ for more information or email
questions to cpan-testers-discuss@perl.org
--
Dear John McNamara,
This is a computer-generated report for App-Pod2Epub-0.03
on perl 5.10.1, created by CPAN-Reporter-1.18.
Thank you for uploading your work to CPAN. Congratulations!
All tests were successful.
Sections of this report:
* Tester comments
* Program output
* Prerequisites
* Environment and other context
------------------------------
TESTER COMMENTS
------------------------------
Additional comments from tester:
this report is from an automated smoke testing program
and was not reviewed by a human for accuracy
------------------------------
PROGRAM OUTPUT
------------------------------
Output from 'nmake.exe test':
Microsoft (R) Program Maintenance Utility Version 8.00.50727.762
Copyright (C) Microsoft Corporation. All rights reserved.
C:\Perl\bin\perl.exe "-MExtUtils::Command::MM" "-e" "test_harness(0, 'blib\lib', 'blib\arch')" t/*.t
# Testing App::Pod2Epub 0.03, Perl 5.010001, C:\Perl\bin\perl.exe
t/00-load.t ............ ok
t/90_pod.t ............. ok
t/91_minimumversion.t .. skipped: no minimum perl version could be determined
t/92_meta.t ............ skipped: Test::CPAN::Meta 0.12 not available for testing
All tests successful.
Files=4, Tests=4, 3 wallclock secs ( 0.08 usr + 0.00 sys = 0.08 CPU)
Result: PASS
------------------------------
PREREQUISITES
------------------------------
Prerequisite modules loaded:
requires:
Module Need Have
------------------- ---- ----
! Data::UUID 0
! EBook::EPUB 0.5
! File::Temp 0
! Getopt::Long 0
! Pod::Simple 0
! Pod::Usage 0
configure_requires:
Module Need Have
------------------- ---- ----
! ExtUtils::MakeMaker 0
------------------------------
ENVIRONMENT AND OTHER CONTEXT
------------------------------
Environment variables:
AUTOMATED_TESTING = 1
COMSPEC = C:\Windows\system32\cmd.exe
INCLUDE = C:\Program Files\Microsoft Visual Studio 8\VC\ATLMFC\INCLUDE;C:\Program Files\Microsoft Visual Studio 8\VC\INCLUDE;C:\Program Files\Microsoft Visual Studio 8\VC\PlatformSDK\include;C:\Program Files\Microsoft Visual Studio 8\SDK\v2.0\include;C:\GTK\INCLUDE;C:\GTK\INCLUDE\GTK-2.0;C:\GTK\INCLUDE\GLIB-2.0;C:\GTK\INCLUDE\PANGO-1.0;C:\GTK\INCLUDE\CAIRO;C:\GTK\INCLUDE\ATK-1.0;C:\GTK\INCLUDE\GTKGLEXT-1.0;C:\GTK\LIB\GTK-2.0\INCLUDE;C:\GTK\LIB\GLIB-2.0\INCLUDE;C:\GTK\LIB\GTKGLEXT-1.0\INCLUDE;C:\GTK\INCLUDE\LIBGLADE-2.0;C:\GTK\INCLUDE\LIBXML2;
LIB = C:\Program Files\Microsoft Visual Studio 8\VC\ATLMFC\LIB;C:\Program Files\Microsoft Visual Studio 8\VC\LIB;C:\Program Files\Microsoft Visual Studio 8\VC\PlatformSDK\lib;C:\Program Files\Microsoft Visual Studio 8\SDK\v2.0\lib;C:\GTK\LIB;
NUMBER_OF_PROCESSORS = 4
PATH = C:\Program Files\Microsoft Visual Studio 8\Common7\IDE;C:\Program Files\Microsoft Visual Studio 8\VC\BIN;C:\Program Files\Microsoft Visual Studio 8\Common7\Tools;C:\Program Files\Microsoft Visual Studio 8\Common7\Tools\bin;C:\Program Files\Microsoft Visual Studio 8\VC\PlatformSDK\bin;C:\Program Files\Microsoft Visual Studio 8\SDK\v2.0\bin;C:\Windows\Microsoft.NET\Framework\v2.0.50727;C:\Program Files\Microsoft Visual Studio 8\VC\VCPackages;c:\Program Files\NVIDIA Corporation\PhysX\Common;C:\Perl\site\bin;C:\Perl\bin;C:\Windows\system32;C:\Windows;C:\Windows\System32\Wbem;C:\strawberry\c\bin;C:\strawberry\perl\bin;C:\Program Files\Common Files\Roxio Shared\9.0\DLLShared\;C:\Program Files\Graphviz2.26\bin;C:\Windows\System32\WindowsPowerShell\v1.0\;C:\GTK\bin;
PERL5LIB = C:\Perl\cpan\build\EBook-EPUB-0.5-Imz3Y6/blib/arch;C:\Perl\cpan\build\EBook-EPUB-0.5-Imz3Y6/blib/lib;C:\Perl\cpan\build\XML-Writer-0.612-wIrzQe/blib/arch;C:\Perl\cpan\build\XML-Writer-0.612-wIrzQe/blib/lib
PERL5OPT =
PERL5_CPANPLUS_IS_RUNNING = 3288
PERL5_CPAN_IS_RUNNING = 3288
PERL5_MINISMOKEBOX = 0.26
PERL_EXTUTILS_AUTOINSTALL = --defaultdeps
PERL_MM_USE_DEFAULT = 1
PROCESSOR_IDENTIFIER = x86 Family 6 Model 15 Stepping 11, GenuineIntel
TEMP = D:\Temp
TERM = dumb
Perl special variables (and OS-specific diagnostics, for MSWin32):
$^X = C:\Perl\bin\perl.exe
$UID/$EUID = 0 / 0
$GID = 0
$EGID = 0
Win32::GetOSName = WinVista
Win32::GetOSVersion = Service Pack 2, 6, 0, 6002, 2, 2, 0, 768, 1
Win32::FsType = NTFS
Win32::IsAdminUser = 1
Perl module toolchain versions installed:
Module Have
--
Summary of my perl5 (revision 5 version 10 subversion 1) configuration:
Platform:
osname=MSWin32, osvers=5.00, archname=MSWin32-x86-multi-thread
uname=''
config_args='undef'
hint=recommended, useposix=true, d_sigaction=undef
useithreads=define, usemultiplicity=define
useperlio=define, d_sfio=undef, uselargefiles=define, usesocks=undef
use64bitint=undef, use64bitall=undef, uselongdouble=undef
usemymalloc=n, bincompat5005=undef
Compiler:
cc='cl', ccflags ='-nologo -GF -W3 -MD -Zi -DNDEBUG -O1 -DWIN32 -D_CONSOLE -DNO_STRICT -DHAVE_DES_FCRYPT -DUSE_SITECUSTOMIZE -DPRIVLIB_LAST_IN_INC -DPERL_IMPLICIT_CONTEXT -DPERL_IMPLICIT_SYS -DUSE_PERLIO -DPERL_MSVCRT_READFIX',
optimize='-MD -Zi -DNDEBUG -O1',
cppflags='-DWIN32'
ccversion='14.0.50727', gccversion='', gccosandvers=''
intsize=4, longsize=4, ptrsize=4, doublesize=8, byteorder=1234
d_longlong=undef, longlongsize=8, d_longdbl=define, longdblsize=8
ivtype='long', ivsize=4, nvtype='double', nvsize=8, Off_t='__int64', lseeksize=8
alignbytes=8, prototype=define
Linker and Libraries:
ld='link', ldflags ='-nologo -nodefaultlib -debug -opt:ref,icf -libpath:"C:\Perl\lib\CORE" -machine:x86'
libpth=\lib
libs= oldnames.lib kernel32.lib user32.lib gdi32.lib winspool.lib comdlg32.lib advapi32.lib shell32.lib ole32.lib oleaut32.lib netapi32.lib uuid.lib ws2_32.lib mpr.lib winmm.lib version.lib odbc32.lib odbccp32.lib comctl32.lib msvcrt.lib
perllibs= oldnames.lib kernel32.lib user32.lib gdi32.lib winspool.lib comdlg32.lib advapi32.lib shell32.lib ole32.lib oleaut32.lib netapi32.lib uuid.lib ws2_32.lib mpr.lib winmm.lib version.lib odbc32.lib odbccp32.lib comctl32.lib msvcrt.lib
libc=msvcrt.lib, so=dll, useshrplib=true, libperl=perl510.lib
gnulibc_version=''
Dynamic Linking:
dlsrc=dl_win32.xs, dlext=dll, d_dlsymun=undef, ccdlflags=' '
cccdlflags=' ', lddlflags='-dll -nologo -nodefaultlib -debug -opt:ref,icf -libpath:"C:\Perl\lib\CORE" -machine:x86'
Characteristics of this binary (from libperl):
Compile-time options: MULTIPLICITY PERL_DONT_CREATE_GVSV
PERL_IMPLICIT_CONTEXT PERL_IMPLICIT_SYS
PERL_MALLOC_WRAP PL_OP_SLAB_ALLOC USE_ITHREADS
USE_LARGE_FILES USE_PERLIO USE_SITECUSTOMIZE
Locally applied patches:
ActivePerl Build 1007 [291969]
0abd0d disable non-unicode case insensitive trie matching
Built under MSWin32
Compiled at Jan 26 2010 23:15:11
%ENV:
PERL5LIB="C:\Perl\cpan\build\EBook-EPUB-0.5-Imz3Y6/blib/arch;C:\Perl\cpan\build\EBook-EPUB-0.5-Imz3Y6/blib/lib;C:\Perl\cpan\build\XML-Writer-0.612-wIrzQe/blib/arch;C:\Perl\cpan\build\XML-Writer-0.612-wIrzQe/blib/lib"
PERL5_CPANPLUS_IS_RUNNING="3288"
PERL5_CPAN_IS_RUNNING="3288"
PERL5_MINISMOKEBOX="0.26"
PERL_EXTUTILS_AUTOINSTALL="--defaultdeps"
PERL_MM_USE_DEFAULT="1"
@INC:
C:\Perl\cpan\build\EBook-EPUB-0.5-Imz3Y6/blib/arch
C:\Perl\cpan\build\EBook-EPUB-0.5-Imz3Y6/blib/lib
C:\Perl\cpan\build\XML-Writer-0.612-wIrzQe/blib/arch
C:\Perl\cpan\build\XML-Writer-0.612-wIrzQe/blib/lib
C:/Perl/site/lib
C:/Perl/lib
.