Dezi-App v0.016 Perl 5 v5.29.9 OpenBSD.amd64-openbsd-thread-multi

Status
Pass
From
Alceu Rodrigues de Freitas Junior
Dist
Dezi-App v0.016
Platform
Perl 5 v5.29.9 OpenBSD.amd64-openbsd-thread-multi
Date
2019-03-28 21:41:59
ID
50e656ac-51a2-11e9-b74b-c5f737ac362d
This distribution has been tested as part of the CPAN Testers
project, supporting the Perl programming language.  See
http://wiki.cpantesters.org/ for more information or email
questions to cpan-testers-discuss@perl.org


--
Dear Peter Karman,

This is a computer-generated report for Dezi-App-0.016
on perl 5.29.9, created by CPAN-Reporter-1.2018.

Thank you for uploading your work to CPAN.  Congratulations!
All tests were successful.

Sections of this report:

    * Tester comments
    * Program output
    * Prerequisites
    * Environment and other context

------------------------------
TESTER COMMENTS
------------------------------

Additional comments from tester:

this report is from an automated smoke testing program
and was not reviewed by a human for accuracy

------------------------------
PROGRAM OUTPUT
------------------------------

Output from '/usr/bin/make test':

PERL_DL_NONLAZY=1 "/home/vegeta/perl5/perlbrew/perls/perl-5.29.9/bin/perl5.29.9" "-MExtUtils::Command::MM" "-MTest::Harness" "-e" "undef *Test::Harness::Switches; test_harness(0, 'blib/lib', 'blib/arch')" t/*.t t/lucy/*.t
# Testing Dezi::App 0.016
# Lucy 0.006002
# SWISH::3 1.000015, libswish3 version 1.0.2480a0b libxml2 version 2.9.8
# Perl 5.029009, /home/vegeta/perl5/perlbrew/perls/perl-5.29.9/bin/perl5.29.9
t/000-load.t .......................... ok
# testing Dezi::App version 0.016
# doc filter on t/test-gz.html
# doc filter on t/test-gz.xml
# doc filter on t/test.html
# doc filter on t/test.pdf
# doc filter on t/test.pdf
# doc filter on t/test.xml
# doc filter on t/test2.html
t/000-synopsis.t ...................... ok
t/001-fs.t ............................ ok
# Checking on Mail::Box
# Checking on Dezi::Aggregator::Mail
t/002-mail.t .......................... ok
# set TEST_SPIDER env var to test the spider
t/003-spider.t ........................ ok
t/004-indexer-config.t ................ ok
# { Format => "Test", Locale => "en_US.UTF-8", Name => "index.swish" }
t/005-invindex-header.t ............... ok
# converting t/config2/complex.conf
# converting t/config2/example1.config
# converting t/config2/example2.config
# converting t/config2/example3.config
# converting t/config2/example4.config
# converting t/config2/example5.config
# converting t/config2/example6.config
# converting t/config2/example7.config
# converting t/config2/example8.config
# converting t/config2/example9.config
t/006-indexer-config.t ................ ok
t/007-leak-test.t ..................... ok
# Checking on Mail::Box
# Checking on Dezi::Aggregator::MailFS
# t/mailfs/somedir/cur/1201404060.V802I5f9e4M893922.louvin.peknet.com:2,
t/008-mail-fs.t ....................... ok
# t/test2.html
# t/test-gz.xml
# t/test.html
# t/test-gz.html
# t/test.xml
t/009-searcher.t ...................... ok
Overriding invindex->path 'dezi.index' with IndexFile value from config 'foo/bar'
t/010-invindex-config.t ............... ok
t/011-replace-rules.t ................. ok
# Checking on Dezi::Aggregator::Spider
Can't locate WWW/Sitemap/XML.pm in @INC (you may need to install the WWW::Sitemap::XML module) (@INC contains: /mnt/cpan_build_dir/vegeta/Dezi-App-0.016-0/blib/lib /mnt/cpan_build_dir/vegeta/Dezi-App-0.016-0/blib/arch /home/vegeta/perl5/perlbrew/perls/perl-5.29.9/lib/site_perl/5.29.9/OpenBSD.amd64-openbsd-thread-multi /home/vegeta/perl5/perlbrew/perls/perl-5.29.9/lib/site_perl/5.29.9 /home/vegeta/perl5/perlbrew/perls/perl-5.29.9/lib/5.29.9/OpenBSD.amd64-openbsd-thread-multi /home/vegeta/perl5/perlbrew/perls/perl-5.29.9/lib/5.29.9 .) at /mnt/cpan_build_dir/vegeta/Dezi-App-0.016-0/blib/lib/Dezi/Aggregator/Spider.pm line 16.
BEGIN failed--compilation aborted at /mnt/cpan_build_dir/vegeta/Dezi-App-0.016-0/blib/lib/Dezi/Aggregator/Spider.pm line 16.
Compilation failed in require at t/012-spider-server.t line 23.
	main::try {...} () called at /home/vegeta/perl5/perlbrew/perls/perl-5.29.9/lib/site_perl/5.29.9/Try/Tiny.pm line 100
	eval {...} called at /home/vegeta/perl5/perlbrew/perls/perl-5.29.9/lib/site_perl/5.29.9/Try/Tiny.pm line 93
	Try::Tiny::try(CODE(0x14774e442940), Try::Tiny::Catch=REF(0x14773f33a8e0)) called at t/012-spider-server.t line 33
# ----------------------------------------
# Do you need to install WWW::Sitemap::XML ?
# ----------------------------------------
t/012-spider-server.t ................. ok
t/013-utils.t ......................... ok
t/014-logging.t ....................... ok
# Checking on Dezi::Aggregator::DBI
# Checking on DBI
# Checking on Rose::DBx::TestDB
Can't locate Rose/DBx/TestDB.pm in @INC (you may need to install the Rose::DBx::TestDB module) (@INC contains: /mnt/cpan_build_dir/vegeta/Dezi-App-0.016-0/blib/lib /mnt/cpan_build_dir/vegeta/Dezi-App-0.016-0/blib/arch /home/vegeta/perl5/perlbrew/perls/perl-5.29.9/lib/site_perl/5.29.9/OpenBSD.amd64-openbsd-thread-multi /home/vegeta/perl5/perlbrew/perls/perl-5.29.9/lib/site_perl/5.29.9 /home/vegeta/perl5/perlbrew/perls/perl-5.29.9/lib/5.29.9/OpenBSD.amd64-openbsd-thread-multi /home/vegeta/perl5/perlbrew/perls/perl-5.29.9/lib/5.29.9 .) at t/015-dbi.t line 29.
	main::try {...} () called at /home/vegeta/perl5/perlbrew/perls/perl-5.29.9/lib/site_perl/5.29.9/Try/Tiny.pm line 100
	eval {...} called at /home/vegeta/perl5/perlbrew/perls/perl-5.29.9/lib/site_perl/5.29.9/Try/Tiny.pm line 93
	Try::Tiny::try(CODE(0x650e1140c28), Try::Tiny::Catch=REF(0x6510f007d90)) called at t/015-dbi.t line 39
# ----------------------------------------
# Do you need to install Rose::DBx::TestDB ?
# ----------------------------------------
t/015-dbi.t ........................... ok
# Testing Dezi::Lucy 0.016 Lucy 0.006002 , Perl 5.029009, /home/vegeta/perl5/perlbrew/perls/perl-5.29.9/bin/perl5.29.9
t/lucy/000-load.t ..................... ok
# 16
# result2: ["doc"]
# result3: ["swishdefault"]
# result3: ["doc"]
# t/lucy/test.html
# t/lucy/test.xml
# t/lucy/test.html
# t/lucy/test.xml
t/lucy/001-fs.t ....................... ok
t/lucy/002-leak-trace.t ............... ok
# pass 1
# pass 2
# pass 3
t/lucy/003-update-index.t ............. ok
t/lucy/004-auto-reconnect-searcher.t .. ok
t/lucy/005-stemmer.t .................. ok
t/lucy/006-fields.t ................... ok
t/pod-coverage.t ...................... skipped: set RELEASE_TESTING to test POD
t/pod.t ............................... skipped: set RELEASE_TESTING to test POD
All tests successful.
Files=26, Tests=388, 34 wallclock secs ( 0.10 usr  0.18 sys + 23.91 cusr  7.45 csys = 31.64 CPU)
Result: PASS

------------------------------
PREREQUISITES
------------------------------

Prerequisite modules loaded:

requires:

    Module                       Need     Have     
    ---------------------------- -------- ---------
    Carp                         0        1.50     
    Class::Load                  0        0.25     
    Config::General              2.31     2.63     
    Data::Dump                   0        1.23     
    DateTime::Format::DateParse  0        0.05     
    Digest::MD5                  0        2.55     
    File::Basename               0        2.85     
    File::Rules                  0.02     0.02     
    File::Spec                   0        3.77     
    File::Temp                   0        0.2306   
    HTTP::Date                   0        6.02     
    Lucy                         0.006002 0.006002 
    Moose                        0        2.2011   
    MooseX::Getopt               0        0.74     
    MooseX::StrictConstructor    0        0.21     
    MooseX::Types::DateTime      0        0.13     
    MooseX::Types::Path::Class   0        0.09     
    MooseX::XSAccessor           0        0.009    
    namespace::autoclean         0        0.28     
    Path::Class                  0.32     0.37     
    Path::Class::File::Lockable  0        0.03     
    Path::Class::File::Stat      0.05     0.05     
    perl                         5.008003 5.029009 
    Scalar::Util                 0        1.50_11  
    Search::Query                0.307    0.307    
    Search::Query::Dialect::Lucy 0.202    0.202    
    Search::Tools                1.000    1.007    
    Sort::SQL                    0        0.08     
    SWISH::3                     1.000015 1.000015 
    SWISH::Filter                0.191    0.191    
    Sys::Hostname                0        1.22     
    Text::ParseWords             0        3.30     
    Time::HiRes                  0        1.9760   
    Try::Tiny                    0        0.30     
    Type::Tiny                   0        1.005_003
    Types::Standard              0        1.005_003

build_requires:

    Module                       Need     Have     
    ---------------------------- -------- ---------
    CAM::PDF                     0        1.60     
    Compress::Zlib               0        2.084    
    ExtUtils::MakeMaker          0        7.35_10  
    Test::LeakTrace              0        0.16     
    Test::More                   0        1.302162 

configure_requires:

    Module                       Need     Have     
    ---------------------------- -------- ---------
    ExtUtils::MakeMaker          0        7.35_10  

opt_requires:

    Module                       Need     Have     
    ---------------------------- -------- ---------
    DBI                          0        1.642    
    File::Find                   0        1.36     
    HTML::LinkExtor              0        3.69     
    HTML::Tagset                 0        3.20     
    HTTP::Cookies                0        6.04     
    HTTP::Message                0        6.18     
    HTTP::Server::Simple         0        0.52     
  ! HTTP::Server::Simple::Authen 0        n/a      
    JSON                         2.0      4.02     
    LWP::RobotUA                 0        6.37     
    Mail::Box                    0        3.006    
  ! Rose::DBx::TestDB            0        n/a      
    Term::ProgressBar            0        2.22     
  ! Test::HTTP::Server::Simple   0        n/a      
    URI                          0        1.76     
  ! WWW::Sitemap::XML            0        n/a      
    XML::Feed                    0        0.59     
  ! YAML::Syck                   0.72     n/a      


------------------------------
ENVIRONMENT AND OTHER CONTEXT
------------------------------

Environment variables:

    AUTOMATED_TESTING = 1
    DBD_MYSQL_TESTDB = test
    DBD_MYSQL_TESTHOST = localhost
    DBD_MYSQL_TESTPASSWORD = 
    DBD_MYSQL_TESTPORT = 3306
    DBD_MYSQL_TESTUSER = vegeta
    EXTENDED_TESTING = 1
    PATH = /home/vegeta/perl5/perlbrew/bin:/home/vegeta/perl5/perlbrew/perls/perl-5.29.9/bin:/home/vegeta/bin:/usr/bin:/bin:/usr/sbin:/sbin:/usr/X11R6/bin:/usr/local/bin:/usr/local/sbin
    PERL5LIB = 
    PERL5OPT = 
    PERL5_CPANPLUS_IS_RUNNING = 16163
    PERL5_CPAN_IS_RUNNING = 16163
    PERL5_CPAN_IS_RUNNING_IN_RECURSION = 76264,16163
    PERLBREW_HOME = /home/vegeta/.perlbrew
    PERLBREW_MANPATH = /home/vegeta/perl5/perlbrew/perls/perl-5.29.9/man
    PERLBREW_PATH = /home/vegeta/perl5/perlbrew/bin:/home/vegeta/perl5/perlbrew/perls/perl-5.29.9/bin
    PERLBREW_PERL = perl-5.29.9
    PERLBREW_ROOT = /home/vegeta/perl5/perlbrew
    PERLBREW_SHELLRC_VERSION = 0.86
    PERLBREW_VERSION = 0.86
    PERL_CR_SMOKER_CURRENT = Dezi-0.004003
    PERL_EXTUTILS_AUTOINSTALL = --defaultdeps
    PERL_MM_USE_DEFAULT = 1
    PERL_USE_UNSAFE_INC = 1
    SHELL = /usr/local/bin/bash
    TERM = xterm

Perl special variables (and OS-specific diagnostics, for MSWin32):

    $^X = /home/vegeta/perl5/perlbrew/perls/perl-5.29.9/bin/perl5.29.9
    $UID/$EUID = 1002 / 1002
    $GID = 1002 1002 1001
    $EGID = 1002 1002 1001

Perl module toolchain versions installed:

    Module              Have     
    ------------------- ---------
    CPAN                2.26     
    CPAN::Meta          2.150010 
    Cwd                 3.77     
    ExtUtils::CBuilder  0.280230 
    ExtUtils::Command   7.35_10  
    ExtUtils::Install   2.14     
    ExtUtils::MakeMaker 7.35_10  
    ExtUtils::Manifest  1.72     
    ExtUtils::ParseXS   3.40     
    File::Spec          3.77     
    JSON                4.02     
    JSON::PP            4.02     
    Module::Build       0.4224   
    Module::Signature   n/a      
    Parse::CPAN::Meta   2.150010 
    Test::Harness       3.42     
    Test::More          1.302162 
    YAML                1.27     
    YAML::Syck          n/a      
    version             0.9924_02


--

Summary of my perl5 (revision 5 version 29 subversion 9) configuration:
   
  Platform:
    osname=openbsd
    osvers=6.4
    archname=OpenBSD.amd64-openbsd-thread-multi
    uname='openbsd cpan-smoker-openbsd 6.4 generic.mp#364 amd64 '
    config_args='-de -Dprefix=/home/vegeta/perl5/perlbrew/perls/perl-5.29.9 -Dman1dir=none -Dman3dir=none -Dusemultiplicity -Duse64bitall -Dusethreads -Duse64bitint -Dusedevel -Aeval:scriptdir=/home/vegeta/perl5/perlbrew/perls/perl-5.29.9/bin'
    hint=recommended
    useposix=true
    d_sigaction=define
    useithreads=define
    usemultiplicity=define
    use64bitint=define
    use64bitall=define
    uselongdouble=undef
    usemymalloc=n
    default_inc_excludes_dot=define
    bincompat5005=undef
  Compiler:
    cc='cc'
    ccflags ='-pthread -fno-strict-aliasing -pipe -fstack-protector-strong -I/usr/local/include -D_FORTIFY_SOURCE=2'
    optimize='-O2'
    cppflags='-pthread -fno-strict-aliasing -pipe -fstack-protector-strong -I/usr/local/include'
    ccversion=''
    gccversion='4.2.1 Compatible OpenBSD Clang 6.0.0 (tags/RELEASE_600/final)'
    gccosandvers=''
    intsize=4
    longsize=8
    ptrsize=8
    doublesize=8
    byteorder=12345678
    doublekind=3
    d_longlong=define
    longlongsize=8
    d_longdbl=define
    longdblsize=16
    longdblkind=3
    ivtype='long'
    ivsize=8
    nvtype='double'
    nvsize=8
    Off_t='off_t'
    lseeksize=8
    alignbytes=8
    prototype=define
  Linker and Libraries:
    ld='cc'
    ldflags ='-pthread -Wl,-E  -fstack-protector-strong -L/usr/local/lib'
    libpth=/usr/lib /usr/local/lib
    libs=-lpthread -lm -lutil -lc
    perllibs=-lpthread -lm -lutil -lc
    libc=/usr/lib/libc.so.92.5
    so=so
    useshrplib=false
    libperl=libperl.a
    gnulibc_version=''
  Dynamic Linking:
    dlsrc=dl_dlopen.xs
    dlext=so
    d_dlsymun=undef
    ccdlflags=' '
    cccdlflags='-DPIC -fPIC '
    lddlflags='-shared -fPIC  -L/usr/local/lib -fstack-protector-strong'


Characteristics of this binary (from libperl): 
  Compile-time options:
    HAS_TIMES
    MULTIPLICITY
    PERLIO_LAYERS
    PERL_COPY_ON_WRITE
    PERL_DONT_CREATE_GVSV
    PERL_IMPLICIT_CONTEXT
    PERL_MALLOC_WRAP
    PERL_OP_PARENT
    PERL_PRESERVE_IVUV
    PERL_USE_DEVEL
    USE_64_BIT_ALL
    USE_64_BIT_INT
    USE_ITHREADS
    USE_LARGE_FILES
    USE_LOCALE
    USE_LOCALE_COLLATE
    USE_LOCALE_CTYPE
    USE_LOCALE_NUMERIC
    USE_LOCALE_TIME
    USE_PERLIO
    USE_PERL_ATOF
    USE_REENTRANT_API
    USE_THREAD_SAFE_LOCALE
  Locally applied patches:
    Devel::PatchPerl 1.52
  Built under openbsd
  Compiled at Mar 23 2019 11:53:14
  %ENV:
    PERL5LIB=""
    PERL5OPT=""
    PERL5_CPANPLUS_IS_RUNNING="16163"
    PERL5_CPAN_IS_RUNNING="16163"
    PERL5_CPAN_IS_RUNNING_IN_RECURSION="76264,16163"
    PERLBREW_HOME="/home/vegeta/.perlbrew"
    PERLBREW_MANPATH="/home/vegeta/perl5/perlbrew/perls/perl-5.29.9/man"
    PERLBREW_PATH="/home/vegeta/perl5/perlbrew/bin:/home/vegeta/perl5/perlbrew/perls/perl-5.29.9/bin"
    PERLBREW_PERL="perl-5.29.9"
    PERLBREW_ROOT="/home/vegeta/perl5/perlbrew"
    PERLBREW_SHELLRC_VERSION="0.86"
    PERLBREW_VERSION="0.86"
    PERL_CR_SMOKER_CURRENT="Dezi-0.004003"
    PERL_EXTUTILS_AUTOINSTALL="--defaultdeps"
    PERL_MM_USE_DEFAULT="1"
    PERL_USE_UNSAFE_INC="1"
  @INC:
    /home/vegeta/perl5/perlbrew/perls/perl-5.29.9/lib/site_perl/5.29.9/OpenBSD.amd64-openbsd-thread-multi
    /home/vegeta/perl5/perlbrew/perls/perl-5.29.9/lib/site_perl/5.29.9
    /home/vegeta/perl5/perlbrew/perls/perl-5.29.9/lib/5.29.9/OpenBSD.amd64-openbsd-thread-multi
    /home/vegeta/perl5/perlbrew/perls/perl-5.29.9/lib/5.29.9
    .