Dancer2-Plugin-FormValidator v1.03 Perl 5 v5.24.0 x86_64-linux

Status
Pass
From
Slaven Rezić
Dist
Dancer2-Plugin-FormValidator v1.03
Platform
Perl 5 v5.24.0 x86_64-linux
Date
2022-05-24 17:52:45
ID
50ebd01c-db8a-11ec-8d47-db6f2cbfd570
This distribution has been tested as part of the CPAN Testers
project, supporting the Perl programming language.  See
http://wiki.cpantesters.org/ for more information or email
questions to cpan-testers-discuss@perl.org


--
Dear Alexander Panteleev,

This is a computer-generated report for Dancer2-Plugin-FormValidator-1.03
on perl 5.24.0, created by CPAN-Reporter-1.2018.

Thank you for uploading your work to CPAN.  Congratulations!
All tests were successful.

Sections of this report:

    * Tester comments
    * Program output
    * Prerequisites
    * Environment and other context

------------------------------
TESTER COMMENTS
------------------------------

Additional comments from tester:

none provided

------------------------------
PROGRAM OUTPUT
------------------------------

Output from '/usr/bin/make test':

PERL_DL_NONLAZY=1 "/opt/perl-5.24.0/bin/perl" "-MExtUtils::Command::MM" "-MTest::Harness" "-e" "undef *Test::Harness::Switches; test_harness(0, 'blib/lib', 'blib/arch')" t/*.t
t/01_core_modules.t .................... ok
t/02_validators_modules.t .............. ok
t/03_pod.t ............................. ok
t/04_validators.t ...................... ok
t/05_input.t ........................... ok
t/06_validator.t ....................... ok
t/07_messages.t ........................ ok
t/08_messages_from_config.t ............ ok
t/09_messages_from_role.t .............. ok
t/10_extensions.t ...................... ok
t/11_hook_before.t ..................... ok
t/12_dsl_validate_form_success.t ....... ok
t/13_dsl_validate_from_unsuccess.t ..... ok
t/14_dsl_errors.t ...................... ok
t/15_validator_language.t .............. ok
t/16_validator_language_from_config.t .. ok
t/17_extensions_from_config.t .......... ok
t/18_validators_params.t ............... ok
t/19_dsl_validated.t ................... ok
t/20_validator_invalid_args.t .......... ok
t/21_get_request.t ..................... ok
All tests successful.
Files=21, Tests=138,  5 wallclock secs ( 0.03 usr  0.03 sys +  3.48 cusr  0.56 csys =  4.10 CPU)
Result: PASS

------------------------------
PREREQUISITES
------------------------------

Prerequisite modules loaded:

requires:

    Module                    Need     Have    
    ------------------------- -------- --------
    Carp                      0        1.40    
    constant                  0        1.33    
    Dancer2::Core::Hook       0        0.203001
    Dancer2::Plugin           0        0.203001
    Dancer2::Plugin::Deferred 0        0.007017
    Email::Valid              0        1.200   
    Hash::MultiValue          0        0.16    
    Hash::Util                0        0.19    
    List::Util                1.45     1.45    
    Module::Load              0        0.32    
    Moo                       0        2.002004
    Moo::Role                 0        2.002004
    namespace::clean          0        0.27    
    perl                      5.024000 5.024000
    Scalar::Util              0        1.45    
    Storable                  0        2.56    
    strict                    0        1.11    
    Types::Common::String     0        1.000005
    Types::Standard           0        1.000005
    utf8                      0        1.19    
    warnings                  0        1.36    

build_requires:

    Module                    Need     Have    
    ------------------------- -------- --------
    Dancer2                   0        0.203001
    ExtUtils::MakeMaker       0        7.24    
    FindBin                   0        1.51    
    HTTP::Request::Common     0        6.11    
    JSON::MaybeXS             0        1.003005
    Plack::Test               0        0       
    Test::More                0        1.302052
    Test::Pod                 0        1.51    
    URI::Escape               0        3.31    
    utf8::all                 0        0.021   

configure_requires:

    Module                    Need     Have    
    ------------------------- -------- --------
    ExtUtils::MakeMaker       0        7.24    


------------------------------
ENVIRONMENT AND OTHER CONTEXT
------------------------------

Environment variables:

    LANG = en_US.UTF-8
    LANGUAGE = en_US:en
    LC_ALL = en_US.UTF-8
    PATH = /usr/local/bin:/usr/bin:/bin:/usr/local/sbin:/usr/sbin:/sbin:/home/cpansand/bin/linux-gnu:/home/cpansand/bin/sh:/home/cpansand/bin:/usr/games:/home/cpansand/devel:/home/eserte/src/srezic-misc/scripts
    PERL5LIB = /home/cpansand/.cpan/build/2022052418/MooseX-Role-WarnOnConflict-0.01-2/blib/arch:/home/cpansand/.cpan/build/2022052418/MooseX-Role-WarnOnConflict-0.01-2/blib/lib
    PERL5OPT = 
    PERL5_CPANPLUS_IS_RUNNING = 12943
    PERL5_CPAN_IS_RUNNING = 12943
    PERL5_CPAN_IS_RUNNING_IN_RECURSION = 11748,12943
    PERLDOC = -MPod::Perldoc::ToTextOverstrike
    PERL_BATCH = yes
    PERL_CANARY_STABILITY_NOPROMPT = 1
    PERL_CPAN_REPORTER_CONFIG = /var/tmp/cpansmoker-1023/2022052418/cpanreporter_000_config.ini
    PERL_EXTUTILS_AUTOINSTALL = --defaultdeps
    PERL_USE_UNSAFE_INC = 1
    SHELL = /bin/zsh
    TERM = screen
    TMPDIR = /var/tmp/cpansmoker-1023/2022052418

Perl special variables (and OS-specific diagnostics, for MSWin32):

    $^X = /opt/perl-5.24.0/bin/perl
    $UID/$EUID = 1023 / 1023
    $GID = 1023 1023
    $EGID = 1023 1023

Perl module toolchain versions installed:

    Module              Have    
    ------------------- --------
    CPAN                2.28    
    CPAN::Meta          2.150010
    Cwd                 3.63    
    ExtUtils::CBuilder  0.280225
    ExtUtils::Command   7.24    
    ExtUtils::Install   2.04    
    ExtUtils::MakeMaker 7.24    
    ExtUtils::Manifest  1.70    
    ExtUtils::ParseXS   3.31    
    File::Spec          3.63    
    JSON                2.90    
    JSON::PP            2.27300 
    Module::Build       0.4220  
    Module::Signature   0.80    
    Parse::CPAN::Meta   2.150010
    Test::Harness       3.36    
    Test::More          1.302052
    YAML                1.17    
    YAML::Syck          1.29    
    version             0.9916  


--

Summary of my perl5 (revision 5 version 24 subversion 0) configuration:
   
  Platform:
    osname=linux, osvers=3.2.0-4-amd64, archname=x86_64-linux
    uname='linux cvrsnica-wheezy 3.2.0-4-amd64 #1 smp debian 3.2.54-2 x86_64 gnulinux '
    config_args='-ds -e -Dprefix=/opt/perl-5.24.0 -Dcf_email=srezic@cpan.org'
    hint=recommended, useposix=true, d_sigaction=define
    useithreads=undef, usemultiplicity=undef
    use64bitint=define, use64bitall=define, uselongdouble=undef
    usemymalloc=n, bincompat5005=undef
  Compiler:
    cc='cc', ccflags ='-fwrapv -fno-strict-aliasing -pipe -fstack-protector -I/usr/local/include -D_LARGEFILE_SOURCE -D_FILE_OFFSET_BITS=64 -D_FORTIFY_SOURCE=2',
    optimize='-O2',
    cppflags='-fwrapv -fno-strict-aliasing -pipe -fstack-protector -I/usr/local/include'
    ccversion='', gccversion='4.7.2', gccosandvers=''
    intsize=4, longsize=8, ptrsize=8, doublesize=8, byteorder=12345678, doublekind=3
    d_longlong=define, longlongsize=8, d_longdbl=define, longdblsize=16, longdblkind=3
    ivtype='long', ivsize=8, nvtype='double', nvsize=8, Off_t='off_t', lseeksize=8
    alignbytes=8, prototype=define
  Linker and Libraries:
    ld='cc', ldflags =' -fstack-protector -L/usr/local/lib'
    libpth=/usr/local/lib /usr/lib/gcc/x86_64-linux-gnu/4.7/include-fixed /usr/include/x86_64-linux-gnu /usr/lib /lib/x86_64-linux-gnu /lib/../lib /usr/lib/x86_64-linux-gnu /usr/lib/../lib /lib
    libs=-lpthread -lnsl -ldb -ldl -lm -lcrypt -lutil -lc
    perllibs=-lpthread -lnsl -ldl -lm -lcrypt -lutil -lc
    libc=libc-2.13.so, so=so, useshrplib=false, libperl=libperl.a
    gnulibc_version='2.13'
  Dynamic Linking:
    dlsrc=dl_dlopen.xs, dlext=so, d_dlsymun=undef, ccdlflags='-Wl,-E'
    cccdlflags='-fPIC', lddlflags='-shared -O2 -L/usr/local/lib -fstack-protector'


Characteristics of this binary (from libperl): 
  Compile-time options: HAS_TIMES PERLIO_LAYERS PERL_COPY_ON_WRITE
                        PERL_DONT_CREATE_GVSV
                        PERL_HASH_FUNC_ONE_AT_A_TIME_HARD PERL_MALLOC_WRAP
                        PERL_PRESERVE_IVUV USE_64_BIT_ALL USE_64_BIT_INT
                        USE_LARGE_FILES USE_LOCALE USE_LOCALE_COLLATE
                        USE_LOCALE_CTYPE USE_LOCALE_NUMERIC USE_LOCALE_TIME
                        USE_PERLIO USE_PERL_ATOF
  Built under linux
  Compiled at May 30 2016 08:43:25
  %ENV:
    PERL5LIB="/home/cpansand/.cpan/build/2022052418/MooseX-Role-WarnOnConflict-0.01-2/blib/arch:/home/cpansand/.cpan/build/2022052418/MooseX-Role-WarnOnConflict-0.01-2/blib/lib"
    PERL5OPT=""
    PERL5_CPANPLUS_IS_RUNNING="12943"
    PERL5_CPAN_IS_RUNNING="12943"
    PERL5_CPAN_IS_RUNNING_IN_RECURSION="11748,12943"
    PERLDOC="-MPod::Perldoc::ToTextOverstrike"
    PERL_BATCH="yes"
    PERL_CANARY_STABILITY_NOPROMPT="1"
    PERL_CPAN_REPORTER_CONFIG="/var/tmp/cpansmoker-1023/2022052418/cpanreporter_000_config.ini"
    PERL_EXTUTILS_AUTOINSTALL="--defaultdeps"
    PERL_USE_UNSAFE_INC="1"
  @INC:
    /home/cpansand/.cpan/build/2022052418/MooseX-Role-WarnOnConflict-0.01-2/blib/arch
    /home/cpansand/.cpan/build/2022052418/MooseX-Role-WarnOnConflict-0.01-2/blib/lib
    /opt/perl-5.24.0/lib/site_perl/5.24.0/x86_64-linux
    /opt/perl-5.24.0/lib/site_perl/5.24.0
    /opt/perl-5.24.0/lib/5.24.0/x86_64-linux
    /opt/perl-5.24.0/lib/5.24.0
    .