Report for mRuby-0.10

Back
From: metabase:user:314402c4-2aae-11df-837a-5e0a49663a4f
Subject: PASS mRuby-0.10 v5.22.0 GNU/Linux
Date: 2015-06-23T00:03:45Z

This distribution has been tested as part of the CPAN Testers
project, supporting the Perl programming language.  See
http://wiki.cpantesters.org/ for more information or email
questions to cpan-testers-discuss@perl.org


--
Dear karupanerura,

This is a computer-generated report for mRuby-0.10
on perl 5.22.0, created by CPAN-Reporter-1.2014.

Thank you for uploading your work to CPAN.  Congratulations!
All tests were successful.

Sections of this report:

    * Tester comments
    * Program output
    * Prerequisites
    * Environment and other context

------------------------------
TESTER COMMENTS
------------------------------

Additional comments from tester:

none provided

------------------------------
PROGRAM OUTPUT
------------------------------

Output from './Build test':

ruby ./minirake
(in /tmpfs/.cpan-build/mRuby-0.10-fFD5Yn/vendor/mruby)

Build summary:

================================================
      Config Name: host
 Output Directory: build/host
         Binaries: mrbc
    Included Gems:
             mruby-sprintf - standard Kernel#sprintf method
             mruby-print - standard print/puts/p
             mruby-math - standard Math module
             mruby-time - standard Time class
             mruby-struct - standard Struct class
             mruby-enum-ext - extensional Enumerable module
             mruby-string-ext - extensional String class
             mruby-numeric-ext - extensional Numeric class
             mruby-array-ext - extensional Array class
             mruby-hash-ext - extensional Hash class
             mruby-range-ext - extensional Range class
             mruby-proc-ext - extensional Proc class
             mruby-symbol-ext - extensional Symbol class
             mruby-random - Random class
             mruby-object-ext - extensional Object class
             mruby-objectspace - ObjectSpace class
             mruby-fiber - Fiber class
             mruby-enumerator - Enumerator class
             mruby-enum-lazy - Enumerable::Lazy class
             mruby-toplevel-ext - extended toplevel object (main) methods
             mruby-bin-mirb - mirb command
               - Binaries: mirb
             mruby-bin-mruby - mruby command
               - Binaries: mruby
             mruby-bin-strip - irep dump debug section remover command
               - Binaries: mruby-strip
             mruby-kernel-ext - extensional Kernel module
================================================

================================================
      Config Name: host-debug
 Output Directory: build/host-debug
         Binaries: mrbc
    Included Gems:
             mruby-sprintf - standard Kernel#sprintf method
             mruby-print - standard print/puts/p
             mruby-math - standard Math module
             mruby-time - standard Time class
             mruby-struct - standard Struct class
             mruby-enum-ext - extensional Enumerable module
             mruby-string-ext - extensional String class
             mruby-numeric-ext - extensional Numeric class
             mruby-array-ext - extensional Array class
             mruby-hash-ext - extensional Hash class
             mruby-range-ext - extensional Range class
             mruby-proc-ext - extensional Proc class
             mruby-symbol-ext - extensional Symbol class
             mruby-random - Random class
             mruby-object-ext - extensional Object class
             mruby-objectspace - ObjectSpace class
             mruby-fiber - Fiber class
             mruby-enumerator - Enumerator class
             mruby-enum-lazy - Enumerable::Lazy class
             mruby-toplevel-ext - extended toplevel object (main) methods
             mruby-bin-mirb - mirb command
               - Binaries: mirb
             mruby-bin-mruby - mruby command
               - Binaries: mruby
             mruby-bin-strip - irep dump debug section remover command
               - Binaries: mruby-strip
             mruby-kernel-ext - extensional Kernel module
             mruby-eval - standard Kernel#eval method
             mruby-bin-debugger - mruby debuggeer command
               - Binaries: mrdb
================================================

t/00_compile.t ... ok
t/01_simple.t .... ok
t/02_convert.t ... ok
t/03_overload.t .. ok
All tests successful.
Files=4, Tests=12,  1 wallclock secs ( 0.03 usr  0.02 sys +  0.29 cusr  0.04 csys =  0.38 CPU)
Result: PASS

------------------------------
PREREQUISITES
------------------------------

Prerequisite modules loaded:

requires:

    Module                Need     Have    
    --------------------- -------- --------
    Encode                0        2.73    
    Exporter              5.57     5.72    
    parent                0        0.234   
    perl                  5.008008 5.022000

build_requires:

    Module                Need     Have    
    --------------------- -------- --------
    Cwd::Guard            0        0.04    
    File::Which           0        1.18    
    Module::Build::XSUtil 0        0.15    
    Test::More            0        1.001014

configure_requires:

    Module                Need     Have    
    --------------------- -------- --------
    Module::Build::XSUtil 0.03     0.15    


------------------------------
ENVIRONMENT AND OTHER CONTEXT
------------------------------

Environment variables:

    DBIC_NO_WARN_BAD_PERL = 1
    LANG = C
    LC_ALL = de_DE.UTF-8
    PATH = /usr/local/bin:/usr/bin:/bin:/usr/local/sbin:/usr/sbin:/sbin:/home/eserte/bin/linux-gnu:/home/eserte/bin/sh:/home/eserte/bin:/usr/games:/home/eserte/devel:/home/eserte/src/srezic-misc/scripts
    PERL5LIB = 
    PERL5OPT = 
    PERL5_CPANPLUS_IS_RUNNING = 24135
    PERL5_CPAN_IS_RUNNING = 24135
    PERL5_CPAN_IS_RUNNING_IN_RECURSION = 24073,24135
    PERLDOC = -MPod::Perldoc::ToTextOverstrike
    PERL_BATCH = yes
    PERL_CANARY_STABILITY_NOPROMPT = 1
    PERL_CPAN_REPORTER_CONFIG = /var/tmp/cpansmoker-1001/cpanreporter_068_config.ini
    PERL_EXTUTILS_AUTOINSTALL = --defaultdeps
    PERL_HTML_DISPLAY_CLASS = HTML::Display::Mozilla
    PERL_PARALLEL_SMOKER = yes
    SHELL = /bin/zsh
    TERM = screen
    TMPDIR = /var/tmp/cpansmoker-1001

Perl special variables (and OS-specific diagnostics, for MSWin32):

    $^X = /bbbike/perl-5.22.0/bin/perl5.22.0
    $UID/$EUID = 1001 / 1001
    $GID = 1001 109 1001
    $EGID = 1001 109 1001

Perl module toolchain versions installed:

    Module              Have    
    ------------------- --------
    CPAN                2.10    
    CPAN::Meta          2.150001
    Cwd                 3.56    
    ExtUtils::CBuilder  0.280221
    ExtUtils::Command   1.20    
    ExtUtils::Install   2.04    
    ExtUtils::MakeMaker 7.04    
    ExtUtils::Manifest  1.70    
    ExtUtils::ParseXS   3.28    
    File::Spec          3.56    
    JSON                2.90    
    JSON::PP            2.27300 
    Module::Build       0.4214  
    Module::Signature   0.79    
    Parse::CPAN::Meta   1.4414  
    Test::Harness       3.35    
    Test::More          1.001014
    YAML                1.15    
    YAML::Syck          1.29    
    version             0.9912  


--

Summary of my perl5 (revision 5 version 22 subversion 0) configuration:
   
  Platform:
    osname=linux, osvers=3.2.0-4-amd64, archname=x86_64-linux
    uname='linux eserte 3.2.0-4-amd64 #1 smp debian 3.2.68-1+deb7u1 x86_64 gnulinux '
    config_args='-ds -e -Dprefix=/opt/perl-5.22.0 -Dcf_email=srezic@cpan.org'
    hint=recommended, useposix=true, d_sigaction=define
    useithreads=undef, usemultiplicity=undef
    use64bitint=define, use64bitall=define, uselongdouble=undef
    usemymalloc=n, bincompat5005=undef
  Compiler:
    cc='cc', ccflags ='-fwrapv -fno-strict-aliasing -pipe -fstack-protector -I/usr/local/include -D_LARGEFILE_SOURCE -D_FILE_OFFSET_BITS=64 -D_FORTIFY_SOURCE=2',
    optimize='-O2',
    cppflags='-fwrapv -fno-strict-aliasing -pipe -fstack-protector -I/usr/local/include'
    ccversion='', gccversion='4.7.2', gccosandvers=''
    intsize=4, longsize=8, ptrsize=8, doublesize=8, byteorder=12345678, doublekind=3
    d_longlong=define, longlongsize=8, d_longdbl=define, longdblsize=16, longdblkind=3
    ivtype='long', ivsize=8, nvtype='double', nvsize=8, Off_t='off_t', lseeksize=8
    alignbytes=8, prototype=define
  Linker and Libraries:
    ld='cc', ldflags =' -fstack-protector -L/usr/local/lib'
    libpth=/usr/local/lib /usr/lib/gcc/x86_64-linux-gnu/4.7/include-fixed /usr/include/x86_64-linux-gnu /usr/lib /lib/x86_64-linux-gnu /lib/../lib /usr/lib/x86_64-linux-gnu /usr/lib/../lib /lib
    libs=-lpthread -lnsl -ldb -ldl -lm -lcrypt -lutil -lc
    perllibs=-lpthread -lnsl -ldl -lm -lcrypt -lutil -lc
    libc=libc-2.13.so, so=so, useshrplib=false, libperl=libperl.a
    gnulibc_version='2.13'
  Dynamic Linking:
    dlsrc=dl_dlopen.xs, dlext=so, d_dlsymun=undef, ccdlflags='-Wl,-E'
    cccdlflags='-fPIC', lddlflags='-shared -O2 -L/usr/local/lib -fstack-protector'


Characteristics of this binary (from libperl): 
  Compile-time options: HAS_TIMES PERLIO_LAYERS PERL_DONT_CREATE_GVSV
                        PERL_HASH_FUNC_ONE_AT_A_TIME_HARD PERL_MALLOC_WRAP
                        PERL_NEW_COPY_ON_WRITE PERL_PRESERVE_IVUV
                        USE_64_BIT_ALL USE_64_BIT_INT USE_LARGE_FILES
                        USE_LOCALE USE_LOCALE_COLLATE USE_LOCALE_CTYPE
                        USE_LOCALE_NUMERIC USE_LOCALE_TIME USE_PERLIO
                        USE_PERL_ATOF
  Built under linux
  Compiled at Jun  1 2015 18:17:49
  %ENV:
    PERL5LIB=""
    PERL5OPT=""
    PERL5_CPANPLUS_IS_RUNNING="24135"
    PERL5_CPAN_IS_RUNNING="24135"
    PERL5_CPAN_IS_RUNNING_IN_RECURSION="24073,24135"
    PERLDOC="-MPod::Perldoc::ToTextOverstrike"
    PERL_BATCH="yes"
    PERL_CANARY_STABILITY_NOPROMPT="1"
    PERL_CPAN_REPORTER_CONFIG="/var/tmp/cpansmoker-1001/cpanreporter_068_config.ini"
    PERL_EXTUTILS_AUTOINSTALL="--defaultdeps"
    PERL_HTML_DISPLAY_CLASS="HTML::Display::Mozilla"
    PERL_PARALLEL_SMOKER="yes"
  @INC:
    /opt/perl-5.22.0/lib/site_perl/5.22.0/x86_64-linux
    /opt/perl-5.22.0/lib/site_perl/5.22.0
    /opt/perl-5.22.0/lib/5.22.0/x86_64-linux
    /opt/perl-5.22.0/lib/5.22.0
    .