Assert-Refute v0.1201 Perl 5 v5.16.3 aarch64-linux-thread-multi

Status
Pass
From
Nigel Horne
Dist
Assert-Refute v0.1201
Platform
Perl 5 v5.16.3 aarch64-linux-thread-multi
Date
2018-07-08 09:21:38
ID
5186f558-8290-11e8-b51b-04e7881a51ec
This distribution has been tested as part of the CPAN Testers
project, supporting the Perl programming language.  See
http://wiki.cpantesters.org/ for more information or email
questions to cpan-testers-discuss@perl.org


--
Dear Konstantin S. Uvarin,

This is a computer-generated report for Assert-Refute-0.1201
on perl 5.16.3, created by CPAN-Reporter-1.2018.

Thank you for uploading your work to CPAN.  Congratulations!
All tests were successful.

Sections of this report:

    * Tester comments
    * Program output
    * Prerequisites
    * Environment and other context

------------------------------
TESTER COMMENTS
------------------------------

Additional comments from tester:

this report is from an automated smoke testing program
and was not reviewed by a human for accuracy

------------------------------
PROGRAM OUTPUT
------------------------------

Output from '/usr/bin/make test':

PERL_DL_NONLAZY=1 "/home/njh/perl5/perlbrew/perls/perl-5.16.3/bin/perl" "-MExtUtils::Command::MM" "-MTest::Harness" "-e" "undef *Test::Harness::Switches; test_harness(0, 'blib/lib', 'blib/arch')" t/*.t
# Testing Assert::Refute 0.1201, Perl 5.016003, /home/njh/perl5/perlbrew/perls/perl-5.16.3/bin/perl
t/000-load.t .............................. ok
t/102-Contract-apply.t .................... ok
t/101-Report-refute.t ..................... ok
t/001-contract-signature.t ................ ok
t/103-Report-signature.t .................. ok
t/106-Build-to_scalar.t ................... ok
t/105-Report-readonly.t ................... ok
t/107-Basic-deep_diff.t ................... ok
t/109-Report-do_run.t ..................... ok
t/110-Build-build_refute.t ................ ok
t/111-Contract-adjust.t ................... ok
t/112-Report-refute-multiline.t ........... ok
t/113-Report-plan-tests.t ................. ok
t/114-Report-get_result_details-vs-tap.t .. ok
t/115-T-Tester.t .......................... ok
t/201-current_contract.t .................. ok
t/202-Build-build_refute.t ................ ok
t/203-T-Basic-smoke.t ..................... ok
t/205-inspect.t ........................... ok
t/204-T-Basic-all.t ....................... ok
t/206-signature.t ......................... ok
t/207-subcontract.t ....................... ok
t/211-Basic-use_ok.t ...................... ok
t/208-T-Basic-contract-is.t ............... ok
t/210-T-Basic-cmp_ok.t .................... ok
t/212-get_tap-exact.t ..................... ok
t/301-dies_like.t ......................... ok
t/213-Report-get_result_details.t ......... ok
t/214-plan-tests.t ........................ ok
t/302-warns_like.t ........................ ok
t/304-carp_refute-config.t ................ ok
t/303-refute_these.t ...................... ok
t/306-T-Array-array_of.t .................. ok
t/307-T-Array-is_sorted.t ................. ok
t/308-T-Hash-keys_are.t ................... ok
t/309-T-Hash-values_are.t ................. ok
t/310-numeric.t ........................... ok
Name "T::a" used only once: possible typo at t/311-T-Array-map-reduce.t line 27.
Name "T::b" used only once: possible typo at t/311-T-Array-map-reduce.t line 27.
t/311-T-Array-map-reduce.t ................ ok
t/401-minargs.t ........................... ok
t/402-Build-name-clash.t .................. ok
t/312-T-Scalar-maybe_is.t ................. ok
t/403-T-Hash-values_are-bad.t ............. ok
t/502-refute_these-config-0.13.t .......... ok
t/503-refute_these-v.0.15.t ............... ok
t/404-configure.t ......................... ok
t/601-Driver-More-happy-case.t ............ ok
t/504-Report-set_result-v.0.15.t .......... ok
t/603-Driver-More-popen.t ................. ok
All tests successful.
Files=48, Tests=246,  7 wallclock secs ( 0.59 usr  0.17 sys + 17.04 cusr  2.24 csys = 20.04 CPU)
Result: PASS

------------------------------
PREREQUISITES
------------------------------

Prerequisite modules loaded:

requires:

    Module              Need     Have    
    ------------------- -------- --------
    Data::Dumper        2        2.135_06
    parent              0        0.225   
    perl                5.006002 5.016003
    Scalar::Util        1.14     1.50    

build_requires:

    Module              Need     Have    
    ------------------- -------- --------
    Test::More          0.87     1.302136

configure_requires:

    Module              Need     Have    
    ------------------- -------- --------
    ExtUtils::MakeMaker 0        7.30    


------------------------------
ENVIRONMENT AND OTHER CONTEXT
------------------------------

Environment variables:

    AUTOMATED_TESTING = 1
    HARNESS_OPTIONS = j4
    LANG = en_US.UTF-8
    LANGUAGE = en_US.UTF-8
    LC_ALL = en_US.UTF-8
    PATH = /home/njh/perl5/perlbrew/bin:/home/njh/perl5/perlbrew/perls/perl-5.16.3/bin:/home/njh/src/njh/smoker/bin:/usr/bin:/bin
    PERL5LIB = /home/njh/.cpan/build/Mojo-Redis-3.02-0/blib/arch:/home/njh/.cpan/build/Mojo-Redis-3.02-0/blib/lib:/home/njh/.cpan/build/Protocol-Redis-1.0006-0/blib/arch:/home/njh/.cpan/build/Protocol-Redis-1.0006-0/blib/lib:/home/njh/.cpan/build/Mojolicious-7.87-0/blib/arch:/home/njh/.cpan/build/Mojolicious-7.87-0/blib/lib:/home/njh/.cpan/build/IO-Socket-IP-0.39-0/blib/arch:/home/njh/.cpan/build/IO-Socket-IP-0.39-0/blib/lib
    PERL5OPT = 
    PERL5_CPANPLUS_IS_RUNNING = 24117
    PERL5_CPAN_IS_RUNNING = 24117
    PERLBREW_HOME = /home/njh/.perlbrew
    PERLBREW_MANPATH = /home/njh/perl5/perlbrew/perls/perl-5.16.3/man
    PERLBREW_PATH = /home/njh/perl5/perlbrew/bin:/home/njh/perl5/perlbrew/perls/perl-5.16.3/bin
    PERLBREW_PERL = perl-5.16.3
    PERLBREW_ROOT = /home/njh/perl5/perlbrew
    PERLBREW_SHELLRC_VERSION = 0.83
    PERLBREW_VERSION = 0.83
    SHELL = /bin/sh
    TMPDIR = /tmp/testwrapper.24091

Perl special variables (and OS-specific diagnostics, for MSWin32):

    $^X = /home/njh/perl5/perlbrew/perls/perl-5.16.3/bin/perl
    $UID/$EUID = 1000 / 1000
    $GID = 1000 1000
    $EGID = 1000 1000

Perl module toolchain versions installed:

    Module              Have    
    ------------------- --------
    CPAN                2.16    
    CPAN::Meta          2.143240
    Cwd                 3.39_02 
    ExtUtils::CBuilder  0.280206
    ExtUtils::Command   7.30    
    ExtUtils::Install   2.06    
    ExtUtils::MakeMaker 7.30    
    ExtUtils::Manifest  1.70    
    ExtUtils::ParseXS   3.35    
    File::Spec          3.39_02 
    JSON                2.97001 
    JSON::PP            2.94    
    Module::Build       0.4224  
    Module::Signature   n/a     
    Parse::CPAN::Meta   1.4414  
    Test::Harness       3.39    
    Test::More          1.302136
    YAML                1.26    
    YAML::Syck          1.30    
    version             0.99    


--

Summary of my perl5 (revision 5 version 16 subversion 3) configuration:
   
  Platform:
    osname=linux, osvers=4.9.23-std-1, archname=aarch64-linux-thread-multi
    uname='linux scaleway 4.9.23-std-1 #1 smp mon apr 24 13:18:14 utc 2017 aarch64 gnulinux '
    config_args='-de -Dprefix=/home/njh/perl5/perlbrew/perls/perl-5.16.3 -Duseithreads -Dusemultiplicity -Dusedevel -Accflags=-O2 -W -Wformat=2 -Wswitch -Wshadow -Wwrite-strings -Wuninitialized -Wall -pipe -fomit-frame-pointer -D_FORTIFY_SOURCE=2 -Wpointer-arith -Wstrict-prototypes -fstack-protector -Wstack-protector -Wextra -Wbad-function-cast -Wcast-align -Wcast-qual -Wdisabled-optimization -Wendif-labels -Wfloat-equal -Wformat-nonliteral -Winline -Wmissing-declarations -Wmissing-prototypes -Wnested-externs -Wpointer-arith -Wundef -Wformat-security -Aeval:scriptdir=/home/njh/perl5/perlbrew/perls/perl-5.16.3/bin'
    hint=recommended, useposix=true, d_sigaction=define
    useithreads=define, usemultiplicity=define
    useperlio=define, d_sfio=undef, uselargefiles=define, usesocks=undef
    use64bitint=define, use64bitall=define, uselongdouble=undef
    usemymalloc=n, bincompat5005=undef
  Compiler:
    cc='cc', ccflags ='-D_REENTRANT -D_GNU_SOURCE -O2 -W -Wformat=2 -Wswitch -Wshadow -Wwrite-strings -Wuninitialized -Wall -pipe -fomit-frame-pointer -D_FORTIFY_SOURCE=2 -Wpointer-arith -Wstrict-prototypes -fstack-protector -Wstack-protector -Wextra -Wbad-function-cast -Wcast-align -Wcast-qual -Wdisabled-optimization -Wendif-labels -Wfloat-equal -Wformat-nonliteral -Winline -Wmissing-declarations -Wmissing-prototypes -Wnested-externs -Wpointer-arith -Wundef -Wformat-security -fno-strict-aliasing -I/usr/local/include -D_LARGEFILE_SOURCE -D_FILE_OFFSET_BITS=64',
    optimize='-O2',
    cppflags='-D_REENTRANT -D_GNU_SOURCE -O2 -W -Wformat=2 -Wswitch -Wshadow -Wwrite-strings -Wuninitialized -Wall -pipe -fomit-frame-pointer -D_FORTIFY_SOURCE=2 -Wpointer-arith -Wstrict-prototypes -fstack-protector -Wstack-protector -Wextra -Wbad-function-cast -Wcast-align -Wcast-qual -Wdisabled-optimization -Wendif-labels -Wfloat-equal -Wformat-nonliteral -Winline -Wmissing-declarations -Wmissing-prototypes -Wnested-externs -Wpointer-arith -Wundef -Wformat-security -fno-strict-aliasing -I/usr/local/include'
    ccversion='', gccversion='4.9.2', gccosandvers=''
    intsize=4, longsize=8, ptrsize=8, doublesize=8, byteorder=12345678
    d_longlong=define, longlongsize=8, d_longdbl=define, longdblsize=16
    ivtype='long', ivsize=8, nvtype='double', nvsize=8, Off_t='off_t', lseeksize=8
    alignbytes=8, prototype=define
  Linker and Libraries:
    ld='cc', ldflags =' -fstack-protector -L/usr/local/lib'
    libpth=/usr/local/lib /lib/aarch64-linux-gnu /lib/../lib /usr/lib/aarch64-linux-gnu /usr/lib/../lib /lib /usr/lib
    libs=-lnsl -ldl -lm -lcrypt -lutil -lpthread -lc
    perllibs=-lnsl -ldl -lm -lcrypt -lutil -lpthread -lc
    libc=libc-2.19.so, so=so, useshrplib=false, libperl=libperl.a
    gnulibc_version='2.19'
  Dynamic Linking:
    dlsrc=dl_dlopen.xs, dlext=so, d_dlsymun=undef, ccdlflags='-Wl,-E'
    cccdlflags='-fPIC', lddlflags='-shared -O2 -L/usr/local/lib -fstack-protector'


Characteristics of this binary (from libperl): 
  Compile-time options: HAS_TIMES MULTIPLICITY PERLIO_LAYERS
                        PERL_DONT_CREATE_GVSV PERL_IMPLICIT_CONTEXT
                        PERL_MALLOC_WRAP PERL_PRESERVE_IVUV PERL_USE_DEVEL
                        USE_64_BIT_ALL USE_64_BIT_INT USE_ITHREADS
                        USE_LARGE_FILES USE_LOCALE USE_LOCALE_COLLATE
                        USE_LOCALE_CTYPE USE_LOCALE_NUMERIC USE_PERLIO
                        USE_PERL_ATOF USE_REENTRANT_API
  Locally applied patches:
	Devel::PatchPerl 1.48
  Built under linux
  Compiled at Jun 22 2017 20:40:15
  %ENV:
    PERL5LIB="/home/njh/.cpan/build/Mojo-Redis-3.02-0/blib/arch:/home/njh/.cpan/build/Mojo-Redis-3.02-0/blib/lib:/home/njh/.cpan/build/Protocol-Redis-1.0006-0/blib/arch:/home/njh/.cpan/build/Protocol-Redis-1.0006-0/blib/lib:/home/njh/.cpan/build/Mojolicious-7.87-0/blib/arch:/home/njh/.cpan/build/Mojolicious-7.87-0/blib/lib:/home/njh/.cpan/build/IO-Socket-IP-0.39-0/blib/arch:/home/njh/.cpan/build/IO-Socket-IP-0.39-0/blib/lib"
    PERL5OPT=""
    PERL5_CPANPLUS_IS_RUNNING="24117"
    PERL5_CPAN_IS_RUNNING="24117"
    PERLBREW_HOME="/home/njh/.perlbrew"
    PERLBREW_MANPATH="/home/njh/perl5/perlbrew/perls/perl-5.16.3/man"
    PERLBREW_PATH="/home/njh/perl5/perlbrew/bin:/home/njh/perl5/perlbrew/perls/perl-5.16.3/bin"
    PERLBREW_PERL="perl-5.16.3"
    PERLBREW_ROOT="/home/njh/perl5/perlbrew"
    PERLBREW_SHELLRC_VERSION="0.83"
    PERLBREW_VERSION="0.83"
  @INC:
    /home/njh/.cpan/build/Mojo-Redis-3.02-0/blib/arch
    /home/njh/.cpan/build/Mojo-Redis-3.02-0/blib/lib
    /home/njh/.cpan/build/Protocol-Redis-1.0006-0/blib/arch
    /home/njh/.cpan/build/Protocol-Redis-1.0006-0/blib/lib
    /home/njh/.cpan/build/Mojolicious-7.87-0/blib/arch
    /home/njh/.cpan/build/Mojolicious-7.87-0/blib/lib
    /home/njh/.cpan/build/IO-Socket-IP-0.39-0/blib/arch
    /home/njh/.cpan/build/IO-Socket-IP-0.39-0/blib/lib
    /home/njh/perl5/perlbrew/perls/perl-5.16.3/lib/site_perl/5.16.3/aarch64-linux-thread-multi
    /home/njh/perl5/perlbrew/perls/perl-5.16.3/lib/site_perl/5.16.3
    /home/njh/perl5/perlbrew/perls/perl-5.16.3/lib/5.16.3/aarch64-linux-thread-multi
    /home/njh/perl5/perlbrew/perls/perl-5.16.3/lib/5.16.3
    .