Back
From: metabase:user:30977d10-2aae-11df-837a-5e0a49663a4f
Subject: PASS SWISH-Prog-0.75 v5.23.0 GNU/Linux
Date: 2015-08-04T12:35:41Z
This distribution has been tested as part of the CPAN Testers
project, supporting the Perl programming language. See
http://wiki.cpantesters.org/ for more information or email
questions to cpan-testers-discuss@perl.org
--
Dear Peter Karman,
This is a computer-generated report for SWISH-Prog-0.75
on perl 5.23.0, created by CPAN-Reporter-1.2014.
Thank you for uploading your work to CPAN. Congratulations!
All tests were successful.
Sections of this report:
* Tester comments
* Program output
* Prerequisites
* Environment and other context
------------------------------
TESTER COMMENTS
------------------------------
Additional comments from tester:
this report is from an automated smoke testing program
and was not reviewed by a human for accuracy
------------------------------
PROGRAM OUTPUT
------------------------------
Output from '/usr/bin/make test':
PERL_DL_NONLAZY=1 "/home/stro/perl/5.23.0t/bin/perl" "-MExtUtils::Command::MM" "-MTest::Harness" "-e" "undef *Test::Harness::Switches; test_harness(0, 'inc', 'blib/lib', 'blib/arch')" t/*.t
# testing SWISH::Prog version 0.75
Can't exec "swish-e": No such file or directory at /home/stro/cpan/build/5.23.0t/build/SWISH-Prog-0.75-etiPD6/blib/lib/SWISH/Prog/Native/Indexer.pm line 120.
t/00_synopsis.t ........... ok
Can't exec "swish-e": No such file or directory at /home/stro/cpan/build/5.23.0t/build/SWISH-Prog-0.75-etiPD6/blib/lib/SWISH/Prog/Native/Indexer.pm line 120.
t/01_fs.t ................. ok
# install Rose::DBx::TestDB to test the DBI aggregator
t/02_dbi.t ................ ok
Can't exec "swish-e": No such file or directory at /home/stro/cpan/build/5.23.0t/build/SWISH-Prog-0.75-etiPD6/blib/lib/SWISH/Prog/Native/Indexer.pm line 120.
t/03_object.t ............. ok
# install Mail::Box to test Mail aggregator
t/04_mail.t ............... ok
# set TEST_SPIDER env var to test the spider
t/05_spider.t ............. ok
t/06_config.t ............. ok
t/08_meta.t ............... ok
t/10_config.t ............. ok
Can't exec "swish-e": No such file or directory at /home/stro/cpan/build/5.23.0t/build/SWISH-Prog-0.75-etiPD6/blib/lib/SWISH/Prog/Native/Indexer.pm line 120.
t/11-leak-test.t .......... ok
Can't exec "swish-e": No such file or directory at /home/stro/cpan/build/5.23.0t/build/SWISH-Prog-0.75-etiPD6/blib/lib/SWISH/Prog/Native/Indexer.pm line 120.
t/12-merge.t .............. ok
# install Mail::Box to test MailFS aggregator
t/13_mail_fs.t ............ ok
Can't exec "swish-e": No such file or directory at /home/stro/cpan/build/5.23.0t/build/SWISH-Prog-0.75-etiPD6/blib/lib/SWISH/Prog/Native/Indexer.pm line 120.
t/14-search.t ............. ok
Can't exec "swish-e": No such file or directory at /home/stro/cpan/build/5.23.0t/build/SWISH-Prog-0.75-etiPD6/blib/lib/SWISH/Prog/Native/Indexer.pm line 120.
t/15-index-file-config.t .. ok
t/16-replace-rules.t ...... ok
t/17-spider-server.t ...... ok
t/18-utils.t .............. ok
t/pod-coverage.t .......... skipped: set RELEASE_TESTING to test POD
t/pod.t ................... skipped: set RELEASE_TESTING to test POD
All tests successful.
Files=19, Tests=185, 3 wallclock secs ( 0.06 usr 0.00 sys + 2.06 cusr 0.10 csys = 2.22 CPU)
Result: PASS
------------------------------
PREREQUISITES
------------------------------
Prerequisite modules loaded:
requires:
Module Need Have
---------------------------- -------- --------
Config::General 2.31 2.58
Data::Dump 0 1.23
File::Basename 0 2.85
File::Rules 0.02 0.02
File::Slurp 0 9999.19
File::Temp 0 0.2304
MIME::Types 0 2.11
Path::Class 0 0.35
perl 5.008003 5.023000
Rose::DateTime 0 0.540
Rose::ObjectX::CAF 0 0.03
Scalar::Util 0 1.42_01
Search::Query 0.17 0.305
Search::Tools 0.82 1.003
SWISH::3 1.000005 1.000013
SWISH::Filter 0.15 0.191
Test::More 0 1.001014
Time::HiRes 0 1.9727
XML::Simple 0 2.20
build_requires:
Module Need Have
---------------------------- -------- --------
ExtUtils::MakeMaker 6.59 7.04_01
configure_requires:
Module Need Have
---------------------------- -------- --------
ExtUtils::MakeMaker 6.59 7.04_01
opt_requires:
Module Need Have
---------------------------- -------- --------
DBI 0 1.633
File::Find 0 1.29
HTML::LinkExtor 0 3.69
HTML::Tagset 0 3.20
HTTP::Message 0 6.10
HTTP::Server::Simple 0 0.50
! HTTP::Server::Simple::Authen 0 n/a
JSON 2 2.90
LWP::RobotUA 0 6.13
! Mail::Box 0 n/a
! SWISH::API::Object 0.13 broken
Term::ProgressBar 0 2.17
! Test::HTTP::Server::Simple 0 n/a
URI 0 1.69
! WWW::Sitemap::XML 0 n/a
XML::Feed 0 0.52
YAML::Syck 0.72 1.29
------------------------------
ENVIRONMENT AND OTHER CONTEXT
------------------------------
Environment variables:
AUTOMATED_TESTING = 1
LANG = en_US.UTF-8
PATH = /usr/local/bin:/usr/bin:/bin:/usr/local/games:/usr/games
PERL5LIB =
PERL5OPT =
PERL5_CPANPLUS_IS_RUNNING = 27479
PERL5_CPAN_IS_RUNNING = 27479
PERL5_CPAN_IS_RUNNING_IN_RECURSION = 32316,27479
PERL_CR_SMOKER_CURRENT = SWISH-Prog-Lucy-0.25
PERL_EXTUTILS_AUTOINSTALL = --defaultdeps
PERL_MM_USE_DEFAULT = 1
SHELL = /bin/bash
TERM = xterm
Perl special variables (and OS-specific diagnostics, for MSWin32):
$^X = /home/stro/perl/5.23.0t/bin/perl
$UID/$EUID = 1000 / 1000
$GID = 1000 24 25 29 30 44 46 108 114 1000
$EGID = 1000 24 25 29 30 44 46 108 114 1000
Perl module toolchain versions installed:
Module Have
------------------- --------
CPAN 2.11
CPAN::Meta 2.150005
Cwd 3.56
ExtUtils::CBuilder 0.280223
ExtUtils::Command 1.20
ExtUtils::Install 2.04
ExtUtils::MakeMaker 7.04_01
ExtUtils::Manifest 1.70
ExtUtils::ParseXS 3.28
File::Spec 3.56
JSON 2.90
JSON::PP 2.27300
Module::Build 0.4214
Module::Signature 0.79
Parse::CPAN::Meta 1.4417
Test::Harness 3.35
Test::More 1.001014
YAML 1.15
YAML::Syck 1.29
version 0.9912
--
Summary of my perl5 (revision 5 version 23 subversion 0) configuration:
Platform:
osname=linux, osvers=3.16.0-4-amd64, archname=x86_64-linux-thread-multi
uname='linux vm-debian-001 3.16.0-4-amd64 #1 smp debian 3.16.7-ckt11-1 (2015-05-24) x86_64 gnulinux '
config_args=''
hint=recommended, useposix=true, d_sigaction=define
useithreads=define, usemultiplicity=define
use64bitint=define, use64bitall=define, uselongdouble=undef
usemymalloc=n, bincompat5005=undef
Compiler:
cc='cc', ccflags ='-D_REENTRANT -D_GNU_SOURCE -fwrapv -fno-strict-aliasing -pipe -fstack-protector-strong -I/usr/local/include -D_LARGEFILE_SOURCE -D_FILE_OFFSET_BITS=64 -D_FORTIFY_SOURCE=2',
optimize='-O2',
cppflags='-D_REENTRANT -D_GNU_SOURCE -fwrapv -fno-strict-aliasing -pipe -fstack-protector-strong -I/usr/local/include'
ccversion='', gccversion='4.9.2', gccosandvers=''
intsize=4, longsize=8, ptrsize=8, doublesize=8, byteorder=12345678, doublekind=3
d_longlong=define, longlongsize=8, d_longdbl=define, longdblsize=16, longdblkind=3
ivtype='long', ivsize=8, nvtype='double', nvsize=8, Off_t='off_t', lseeksize=8
alignbytes=8, prototype=define
Linker and Libraries:
ld='cc', ldflags =' -fstack-protector-strong -L/usr/local/lib'
libpth=/usr/local/lib /usr/lib/gcc/x86_64-linux-gnu/4.9/include-fixed /usr/include/x86_64-linux-gnu /usr/lib /lib/x86_64-linux-gnu /lib/../lib /usr/lib/x86_64-linux-gnu /usr/lib/../lib /lib
libs=-lpthread -lnsl -ldl -lm -lcrypt -lutil -lc
perllibs=-lpthread -lnsl -ldl -lm -lcrypt -lutil -lc
libc=libc-2.19.so, so=so, useshrplib=false, libperl=libperl.a
gnulibc_version='2.19'
Dynamic Linking:
dlsrc=dl_dlopen.xs, dlext=so, d_dlsymun=undef, ccdlflags='-Wl,-E'
cccdlflags='-fPIC', lddlflags='-shared -O2 -L/usr/local/lib -fstack-protector-strong'
Characteristics of this binary (from libperl):
Compile-time options: HAS_TIMES MULTIPLICITY PERLIO_LAYERS
PERL_DONT_CREATE_GVSV
PERL_HASH_FUNC_ONE_AT_A_TIME_HARD
PERL_IMPLICIT_CONTEXT PERL_MALLOC_WRAP
PERL_NEW_COPY_ON_WRITE PERL_PRESERVE_IVUV
USE_64_BIT_ALL USE_64_BIT_INT USE_ITHREADS
USE_LARGE_FILES USE_LOCALE USE_LOCALE_COLLATE
USE_LOCALE_CTYPE USE_LOCALE_NUMERIC USE_LOCALE_TIME
USE_PERLIO USE_PERL_ATOF USE_REENTRANT_API
Built under linux
Compiled at Jul 10 2015 03:39:03
%ENV:
PERL5LIB=""
PERL5OPT=""
PERL5_CPANPLUS_IS_RUNNING="27479"
PERL5_CPAN_IS_RUNNING="27479"
PERL5_CPAN_IS_RUNNING_IN_RECURSION="32316,27479"
PERL_CR_SMOKER_CURRENT="SWISH-Prog-Lucy-0.25"
PERL_EXTUTILS_AUTOINSTALL="--defaultdeps"
PERL_MM_USE_DEFAULT="1"
@INC:
/home/stro/perl/5.23.0t/lib/site_perl/5.23.0/x86_64-linux-thread-multi
/home/stro/perl/5.23.0t/lib/site_perl/5.23.0
/home/stro/perl/5.23.0t/lib/5.23.0/x86_64-linux-thread-multi
/home/stro/perl/5.23.0t/lib/5.23.0
.