Database-Async v0.017 Perl 5 v5.34.1 x86_64-linux-ld
- Status
- Pass
- From
- Andreas J. König (ANDK)
- Dist
-
Database-Async v0.017
- Platform
- Perl 5 v5.34.1 x86_64-linux-ld
- Date
- 2022-03-16 02:39:36
- ID
- 51a9e8c0-a4d2-11ec-a6f8-92bd9746c4f0
This distribution has been tested as part of the CPAN Testers
project, supporting the Perl programming language. See
http://wiki.cpantesters.org/ for more information or email
questions to cpan-testers-discuss@perl.org
--
Dear Tom Molesworth,
This is a computer-generated report for Database-Async-0.017
on perl 5.34.1, created by CPAN-Reporter-1.2018.
Thank you for uploading your work to CPAN. Congratulations!
All tests were successful.
Sections of this report:
* Tester comments
* Program output
* Prerequisites
* Environment and other context
------------------------------
TESTER COMMENTS
------------------------------
Additional comments from tester:
this report is from an automated smoke testing program
and was not reviewed by a human for accuracy
------------------------------
PROGRAM OUTPUT
------------------------------
Output from '/usr/bin/make test':
PERL_DL_NONLAZY=1 "/tmp/basesmoker-reloperl-XRst/bin/perl" "-MExtUtils::Command::MM" "-MTest::Harness" "-e" "undef *Test::Harness::Switches; test_harness(0, 'blib/lib', 'blib/arch')" t/*.t
t/00-check-deps.t ...... ok
t/00-compile.t ......... ok
#
# Versions for all modules listed in MYMETA.json (including optional ones):
#
# === Configure Requires ===
#
# Module Want Have
# ------------------- ---- ----
# ExtUtils::MakeMaker any 7.64
#
# === Build Requires ===
#
# Module Want Have
# ------------------- ---- ----
# ExtUtils::MakeMaker any 7.64
#
# === Test Requires ===
#
# Module Want Have
# ------------------- ----- --------
# ExtUtils::MakeMaker any 7.64
# File::Spec any 3.80
# IO::Handle any 1.46
# IPC::Open3 any 1.21
# Test::CheckDeps 0.010 0.010
# Test::Fatal 0.010 0.016
# Test::More 0.98 1.302190
# Test::Refcount 0.07 0.10
#
# === Test Recommends ===
#
# Module Want Have
# ---------- -------- --------
# CPAN::Meta 2.120900 2.150010
#
# === Runtime Requires ===
#
# Module Want Have
# ------------------------ ----- --------
# Class::Method::Modifiers any 2.13
# Future 0.40 0.48
# Future::AsyncAwait 0.33 0.56
# IO::Async 0.68 0.801
# IO::Async::Notifier 0.68 0.801
# JSON::MaybeUTF8 any 2.000
# List::Util 1.50 1.61
# List::UtilsBy any 0.11
# Log::Any 1.050 1.710
# Module::Load any 0.36
# Path::Tiny 0.108 0.122
# Ryu 3.002 3.002
# Ryu::Async 0.016 0.020
# Scalar::Util 1.50 1.61
# Syntax::Keyword::Try 0.11 0.27
# Template 3.000 3.010
# URI any 5.10
# URI::db 0.19 0.19
# YAML::XS any 0.83
# curry any 2.000001
# indirect any 0.39
# mro any 1.25_001
# parent any 0.238
#
t/00-report-prereqs.t .. ok
t/new.t ................ ok
t/pool.t ............... ok
All tests successful.
Files=5, Tests=71, 2 wallclock secs ( 0.04 usr 0.01 sys + 1.06 cusr 0.40 csys = 1.51 CPU)
Result: PASS
------------------------------
PREREQUISITES
------------------------------
Prerequisite modules loaded:
requires:
Module Need Have
------------------------ ----- --------
Class::Method::Modifiers 0 2.13
curry 0 2.000001
Future 0.40 0.48
Future::AsyncAwait 0.33 0.56
indirect 0 0.39
IO::Async 0.68 0.801
IO::Async::Notifier 0.68 0.801
JSON::MaybeUTF8 0 2.000
List::Util 1.50 1.61
List::UtilsBy 0 0.11
Log::Any 1.050 1.710
Module::Load 0 0.36
mro 0 1.25_001
parent 0 0.238
Path::Tiny 0.108 0.122
perl 5.024 5.034001
Ryu 3.002 3.002
Ryu::Async 0.016 0.020
Scalar::Util 1.50 1.61
Syntax::Keyword::Try 0.11 0.27
Template 3.000 3.010
URI 0 5.10
URI::db 0.19 0.19
YAML::XS 0 0.83
build_requires:
Module Need Have
------------------------ ----- --------
ExtUtils::MakeMaker 0 7.64
File::Spec 0 3.80
IO::Handle 0 1.46
IPC::Open3 0 1.21
Test::CheckDeps 0.010 0.010
Test::Fatal 0.010 0.016
Test::More 0.98 1.302190
Test::Refcount 0.07 0.10
configure_requires:
Module Need Have
------------------------ ----- --------
ExtUtils::MakeMaker 0 7.64
------------------------------
ENVIRONMENT AND OTHER CONTEXT
------------------------------
Environment variables:
AUTOMATED_TESTING = 1
LANG = en_US.utf8
PATH = /home/sand/bin:/usr/local/bin:/usr/local/sbin:/usr/sbin:/usr/bin:/sbin:/bin:/usr/games:/usr/local/games:/snap/bin:/usr/local/perl/bin:/usr/X11/bin
PERL = /tmp/basesmoker-reloperl-XRst/bin/perl
PERL5LIB = /tmp/loop_over_bdir-3068283-io51eL/triceps-2.1.0-0/blib/arch:/tmp/loop_over_bdir-3068283-io51eL/triceps-2.1.0-0/blib/lib:/tmp/loop_over_bdir-3068283-io51eL/DBIx-Migration-Directories-0.12-0/blib/arch:/tmp/loop_over_bdir-3068283-io51eL/DBIx-Migration-Directories-0.12-0/blib/lib:/tmp/loop_over_bdir-3068283-io51eL/App-oo_modulino_zsh_completion_helper-0.04-0/blib/arch:/tmp/loop_over_bdir-3068283-io51eL/App-oo_modulino_zsh_completion_helper-0.04-0/blib/lib:/tmp/loop_over_bdir-3068283-io51eL/downsexta-0/blib/arch:/tmp/loop_over_bdir-3068283-io51eL/downsexta-0/blib/lib
PERL5OPT =
PERL5_CPANPLUS_IS_RUNNING = 3068316
PERL5_CPAN_IS_RUNNING = 3068316
PERL_CANARY_STABILITY_NOPROMPT = 1
PERL_MM_USE_DEFAULT = 1
PERL_USE_UNSAFE_INC = 1
SHELL = /usr/bin/zsh
TERM = screen
Perl special variables (and OS-specific diagnostics, for MSWin32):
$^X = /tmp/basesmoker-reloperl-XRst/bin/perl
$UID/$EUID = 1005 / 1005
$GID = 1005 1005
$EGID = 1005 1005
Perl module toolchain versions installed:
Module Have
------------------- --------
CPAN 2.33
CPAN::Meta 2.150010
Cwd 3.80
ExtUtils::CBuilder 0.280236
ExtUtils::Command 7.64
ExtUtils::Install 2.20
ExtUtils::MakeMaker 7.64
ExtUtils::Manifest 1.73
ExtUtils::ParseXS 3.43
File::Spec 3.80
JSON 4.05
JSON::PP 4.06
Module::Build 0.4231
Module::Signature 0.88
Parse::CPAN::Meta 2.150010
Test::Harness 3.43
Test::More 1.302190
YAML 1.30
YAML::Syck 1.34
version 0.9929
--
Summary of my perl5 (revision 5 version 34 subversion 1) configuration:
Commit id: 1181cf72936404b890ef41362f533fe2c2626f9b
Platform:
osname=linux
osvers=5.4.0-100-generic
archname=x86_64-linux-ld
uname='linux k93focal 5.4.0-100-generic #113-ubuntu smp thu feb 3 18:43:29 utc 2022 x86_64 x86_64 x86_64 gnulinux '
config_args='-Dprefix=/home/sand/src/perl/repoperls/installed-perls/host/k93focal/v5.34.1/7dc8 -Dmyhostname=k93focal -Dinstallusrbinperl=n -Uversiononly -Dusedevel -des -Ui_db -Dlibswanted=cl pthread socket inet nsl gdbm dbm malloc dl ld sun m crypt sec util c cposix posix ucb BSD gdbm_compat -Uuseithreads -Duselongdouble -DEBUGGING=-g'
hint=recommended
useposix=true
d_sigaction=define
useithreads=undef
usemultiplicity=undef
use64bitint=define
use64bitall=define
uselongdouble=define
usemymalloc=n
default_inc_excludes_dot=define
Compiler:
cc='cc'
ccflags ='-fwrapv -fno-strict-aliasing -pipe -fstack-protector-strong -I/usr/local/include -D_LARGEFILE_SOURCE -D_FILE_OFFSET_BITS=64'
optimize='-O2 -g'
cppflags='-fwrapv -fno-strict-aliasing -pipe -fstack-protector-strong -I/usr/local/include'
ccversion=''
gccversion='9.3.0'
gccosandvers=''
intsize=4
longsize=8
ptrsize=8
doublesize=8
byteorder=12345678
doublekind=3
d_longlong=define
longlongsize=8
d_longdbl=define
longdblsize=16
longdblkind=3
ivtype='long'
ivsize=8
nvtype='long double'
nvsize=16
Off_t='off_t'
lseeksize=8
alignbytes=16
prototype=define
Linker and Libraries:
ld='cc'
ldflags =' -fstack-protector-strong -L/usr/local/lib'
libpth=/usr/local/lib /usr/lib/x86_64-linux-gnu /usr/lib /usr/lib64
libs=-lpthread -lnsl -ldl -lm -lcrypt -lutil -lc
perllibs=-lpthread -lnsl -ldl -lm -lcrypt -lutil -lc
libc=libc-2.31.so
so=so
useshrplib=false
libperl=libperl.a
gnulibc_version='2.31'
Dynamic Linking:
dlsrc=dl_dlopen.xs
dlext=so
d_dlsymun=undef
ccdlflags='-Wl,-E'
cccdlflags='-fPIC'
lddlflags='-shared -O2 -g -L/usr/local/lib -fstack-protector-strong'
Characteristics of this binary (from libperl):
Compile-time options:
HAS_TIMES
PERLIO_LAYERS
PERL_COPY_ON_WRITE
PERL_DONT_CREATE_GVSV
PERL_MALLOC_WRAP
PERL_OP_PARENT
PERL_PRESERVE_IVUV
PERL_USE_DEVEL
USE_64_BIT_ALL
USE_64_BIT_INT
USE_LARGE_FILES
USE_LOCALE
USE_LOCALE_COLLATE
USE_LOCALE_CTYPE
USE_LOCALE_NUMERIC
USE_LOCALE_TIME
USE_LONG_DOUBLE
USE_PERLIO
USE_PERL_ATOF
Built under linux
Compiled at Mar 14 2022 03:27:19
%ENV:
PERL="/tmp/basesmoker-reloperl-XRst/bin/perl"
PERL5LIB="/tmp/loop_over_bdir-3068283-io51eL/triceps-2.1.0-0/blib/arch:/tmp/loop_over_bdir-3068283-io51eL/triceps-2.1.0-0/blib/lib:/tmp/loop_over_bdir-3068283-io51eL/DBIx-Migration-Directories-0.12-0/blib/arch:/tmp/loop_over_bdir-3068283-io51eL/DBIx-Migration-Directories-0.12-0/blib/lib:/tmp/loop_over_bdir-3068283-io51eL/App-oo_modulino_zsh_completion_helper-0.04-0/blib/arch:/tmp/loop_over_bdir-3068283-io51eL/App-oo_modulino_zsh_completion_helper-0.04-0/blib/lib:/tmp/loop_over_bdir-3068283-io51eL/downsexta-0/blib/arch:/tmp/loop_over_bdir-3068283-io51eL/downsexta-0/blib/lib"
PERL5OPT=""
PERL5_CPANPLUS_IS_RUNNING="3068316"
PERL5_CPAN_IS_RUNNING="3068316"
PERL_CANARY_STABILITY_NOPROMPT="1"
PERL_MM_USE_DEFAULT="1"
PERL_USE_UNSAFE_INC="1"
@INC:
/tmp/loop_over_bdir-3068283-io51eL/triceps-2.1.0-0/blib/arch
/tmp/loop_over_bdir-3068283-io51eL/triceps-2.1.0-0/blib/lib
/tmp/loop_over_bdir-3068283-io51eL/DBIx-Migration-Directories-0.12-0/blib/arch
/tmp/loop_over_bdir-3068283-io51eL/DBIx-Migration-Directories-0.12-0/blib/lib
/tmp/loop_over_bdir-3068283-io51eL/App-oo_modulino_zsh_completion_helper-0.04-0/blib/arch
/tmp/loop_over_bdir-3068283-io51eL/App-oo_modulino_zsh_completion_helper-0.04-0/blib/lib
/tmp/loop_over_bdir-3068283-io51eL/downsexta-0/blib/arch
/tmp/loop_over_bdir-3068283-io51eL/downsexta-0/blib/lib
/home/sand/src/perl/repoperls/installed-perls/host/k93focal/v5.34.1/7dc8/lib/site_perl/5.34.1/x86_64-linux-ld
/home/sand/src/perl/repoperls/installed-perls/host/k93focal/v5.34.1/7dc8/lib/site_perl/5.34.1
/home/sand/src/perl/repoperls/installed-perls/host/k93focal/v5.34.1/7dc8/lib/5.34.1/x86_64-linux-ld
/home/sand/src/perl/repoperls/installed-perls/host/k93focal/v5.34.1/7dc8/lib/5.34.1
.