Report for Dancer2-Plugin-REST-1.01

Back
From: metabase:user:320bfe00-2aae-11df-837a-5e0a49663a4f
Subject: PASS Dancer2-Plugin-REST-1.01 v5.22.3 RC3 GNU/Linux
Date: 2016-08-26T08:30:17Z

This distribution has been tested as part of the CPAN Testers
project, supporting the Perl programming language.  See
http://wiki.cpantesters.org/ for more information or email
questions to cpan-testers-discuss@perl.org


--
Dear Yanick Champoux,

This is a computer-generated report for Dancer2-Plugin-REST-1.01
on perl 5.22.3, created by CPAN-Reporter-1.2018.

Thank you for uploading your work to CPAN.  Congratulations!
All tests were successful.

Sections of this report:

    * Tester comments
    * Program output
    * Prerequisites
    * Environment and other context

------------------------------
TESTER COMMENTS
------------------------------

Additional comments from tester:

this report is from an automated smoke testing program
and was not reviewed by a human for accuracy

------------------------------
PROGRAM OUTPUT
------------------------------

Output from '/usr/bin/make test':

PERL_DL_NONLAZY=1 "/home/sand/src/perl/repoperls/installed-perls/perl/v5.22.3-RC3/109d/bin/perl" "-MExtUtils::Command::MM" "-MTest::Harness" "-e" "undef *Test::Harness::Switches; test_harness(0, 'blib/lib', 'blib/arch')" t/*.t
t/00-compile.t ........................ ok
# 
# Versions for all modules listed in MYMETA.json (including optional ones):
# 
# === Configure Requires ===
# 
#     Module              Want Have
#     ------------------- ---- ----
#     ExtUtils::MakeMaker  any 7.24
# 
# === Build Requires ===
# 
#     Module              Want Have
#     ------------------- ---- ----
#     ExtUtils::MakeMaker  any 7.24
# 
# === Test Requires ===
# 
#     Module                     Want     Have
#     ---------------------- -------- --------
#     Dancer2                0.203000 0.203000
#     Dancer2::Core::Request      any 0.203000
#     Data::Dumper                any    2.161
#     ExtUtils::MakeMaker         any     7.24
#     File::Spec                  any     3.62
#     HTTP::Request::Common       any     6.11
#     IO::Handle                  any     1.35
#     IPC::Open3                  any     1.18
#     JSON                        any     2.90
#     Module::Runtime             any    0.014
#     Plack::Test                 any    undef
#     Test::More                  any 1.302054
# 
# === Test Recommends ===
# 
#     Module         Want     Have
#     ---------- -------- --------
#     CPAN::Meta 2.120900 2.150005
# 
# === Runtime Requires ===
# 
#     Module                  Want     Have
#     ------------------- -------- --------
#     Carp                     any     1.36
#     Dancer2             0.203000 0.203000
#     Dancer2::Core::HTTP 0.203000 0.203000
#     Dancer2::Plugin          any 0.203000
#     List::Util               any  1.46_02
#     strict                   any     1.09
#     warnings                 any     1.34
# 
t/00-report-prereqs.t ................. ok
t/02_prepare_serializer_for_format.t .. ok
t/03_resource.t ....................... ok
t/04_helpers.t ........................ ok
t/04_plugin_settings.t ................ ok
t/05_named_captures.t ................. ok
t/06_tcp_server.t ..................... ok
All tests successful.
Files=8, Tests=47,  9 wallclock secs ( 0.04 usr  0.06 sys +  3.60 cusr  0.53 csys =  4.23 CPU)
Result: PASS

------------------------------
PREREQUISITES
------------------------------

Prerequisite modules loaded:

requires:

    Module                 Need     Have    
    ---------------------- -------- --------
    Carp                   0        1.36    
    Dancer2                0.203000 0.203000
    Dancer2::Core::HTTP    0.203000 0.203000
    Dancer2::Plugin        0        0.203000
    List::Util             0        1.46_02 
    perl                   5.012000 5.022003
    strict                 0        1.09    
    warnings               0        1.34    

build_requires:

    Module                 Need     Have    
    ---------------------- -------- --------
    Dancer2                0.203000 0.203000
    Dancer2::Core::Request 0        0.203000
    Data::Dumper           0        2.161   
    ExtUtils::MakeMaker    0        7.24    
    File::Spec             0        3.62    
    HTTP::Request::Common  0        6.11    
    IO::Handle             0        1.35    
    IPC::Open3             0        1.18    
    JSON                   0        2.90    
    Module::Runtime        0        0.014   
    Plack::Test            0        0       
    Test::More             0        1.302054

configure_requires:

    Module                 Need     Have    
    ---------------------- -------- --------
    ExtUtils::MakeMaker    0        7.24    


------------------------------
ENVIRONMENT AND OTHER CONTEXT
------------------------------

Environment variables:

    AUTOMATED_TESTING = 1
    LANG = en_US.UTF-8
    LANGUAGE = en_US:en
    PATH = /usr/lib/ccache:/home/sand/bin:/usr/local/bin:/usr/bin:/bin:/usr/games:/usr/local/perl/bin:/usr/X11/bin:/sbin:/usr/sbin
    PERL5LIB = 
    PERL5OPT = 
    PERL5_CPANPLUS_IS_RUNNING = 14816
    PERL5_CPAN_IS_RUNNING = 14816
    PERL_CANARY_STABILITY_NOPROMPT = 1
    PERL_MM_USE_DEFAULT = 1
    SHELL = /usr/bin/zsh
    TERM = screen

Perl special variables (and OS-specific diagnostics, for MSWin32):

    $^X = /home/sand/src/perl/repoperls/installed-perls/perl/v5.22.3-RC3/109d/bin/perl
    $UID/$EUID = 1005 / 1005
    $GID = 1005 1005
    $EGID = 1005 1005

Perl module toolchain versions installed:

    Module              Have      
    ------------------- ----------
    CPAN                2.15      
    CPAN::Meta          2.150005  
    Cwd                 3.62      
    ExtUtils::CBuilder  0.280224  
    ExtUtils::Command   7.24      
    ExtUtils::Install   2.04      
    ExtUtils::MakeMaker 7.24      
    ExtUtils::Manifest  1.70      
    ExtUtils::ParseXS   3.28      
    File::Spec          3.62      
    JSON                2.90      
    JSON::PP            2.27300_01
    Module::Build       0.4218    
    Module::Signature   0.80      
    Parse::CPAN::Meta   1.4422    
    Test::Harness       3.36      
    Test::More          1.302054  
    YAML                1.18      
    YAML::Syck          1.29      
    version             0.9917    


--

Summary of my perl5 (revision 5 version 22 subversion 3) configuration:
  Commit id: caf571efd1ab92ed6c7334a30070c0d96f5dfe7e
  Platform:
    osname=linux, osvers=4.3.0-1-amd64, archname=x86_64-linux-thread-multi-ld
    uname='linux k83 4.3.0-1-amd64 #1 smp debian 4.3.3-7 (2016-01-19) x86_64 gnulinux '
    config_args='-Dprefix=/home/sand/src/perl/repoperls/installed-perls/perl/v5.22.3-RC3/109d -Dmyhostname=k83 -Dinstallusrbinperl=n -Uversiononly -Dusedevel -des -Ui_db -Dlibswanted=cl pthread socket inet nsl gdbm dbm malloc dl ld sun m crypt sec util c cposix posix ucb BSD gdbm_compat -Duseithreads -Duselongdouble -DDEBUGGING=-g'
    hint=recommended, useposix=true, d_sigaction=define
    useithreads=define, usemultiplicity=define
    use64bitint=define, use64bitall=define, uselongdouble=define
    usemymalloc=n, bincompat5005=undef
  Compiler:
    cc='cc', ccflags ='-D_REENTRANT -D_GNU_SOURCE -fwrapv -fno-strict-aliasing -pipe -fstack-protector-strong -I/usr/local/include -D_LARGEFILE_SOURCE -D_FILE_OFFSET_BITS=64 -D_FORTIFY_SOURCE=2',
    optimize='-O2 -g',
    cppflags='-D_REENTRANT -D_GNU_SOURCE -fwrapv -fno-strict-aliasing -pipe -fstack-protector-strong -I/usr/local/include'
    ccversion='', gccversion='5.3.1 20160121', gccosandvers=''
    intsize=4, longsize=8, ptrsize=8, doublesize=8, byteorder=12345678, doublekind=3
    d_longlong=define, longlongsize=8, d_longdbl=define, longdblsize=16, longdblkind=3
    ivtype='long', ivsize=8, nvtype='long double', nvsize=16, Off_t='off_t', lseeksize=8
    alignbytes=16, prototype=define
  Linker and Libraries:
    ld='cc', ldflags =' -fstack-protector-strong -L/usr/local/lib'
    libpth=/usr/local/lib /usr/lib/gcc/x86_64-linux-gnu/5/include-fixed /usr/include/x86_64-linux-gnu /usr/lib /lib/x86_64-linux-gnu /lib/../lib /usr/lib/x86_64-linux-gnu /usr/lib/../lib /lib
    libs=-lpthread -lnsl -lgdbm -ldl -lm -lcrypt -lutil -lc -lgdbm_compat
    perllibs=-lpthread -lnsl -ldl -lm -lcrypt -lutil -lc
    libc=libc-2.21.so, so=so, useshrplib=false, libperl=libperl.a
    gnulibc_version='2.21'
  Dynamic Linking:
    dlsrc=dl_dlopen.xs, dlext=so, d_dlsymun=undef, ccdlflags='-Wl,-E'
    cccdlflags='-fPIC', lddlflags='-shared -O2 -g -L/usr/local/lib -fstack-protector-strong'


Characteristics of this binary (from libperl): 
  Compile-time options: HAS_TIMES MULTIPLICITY PERLIO_LAYERS
                        PERL_DONT_CREATE_GVSV
                        PERL_HASH_FUNC_ONE_AT_A_TIME_HARD
                        PERL_IMPLICIT_CONTEXT PERL_MALLOC_WRAP
                        PERL_NEW_COPY_ON_WRITE PERL_PRESERVE_IVUV
                        PERL_USE_DEVEL USE_64_BIT_ALL USE_64_BIT_INT
                        USE_ITHREADS USE_LARGE_FILES USE_LOCALE
                        USE_LOCALE_COLLATE USE_LOCALE_CTYPE
                        USE_LOCALE_NUMERIC USE_LOCALE_TIME USE_LONG_DOUBLE
                        USE_PERLIO USE_PERL_ATOF USE_REENTRANT_API
  Locally applied patches:
	RC3
  Built under linux
  Compiled at Aug 13 2016 22:07:22
  %ENV:
    PERL5LIB=""
    PERL5OPT=""
    PERL5_CPANPLUS_IS_RUNNING="14816"
    PERL5_CPAN_IS_RUNNING="14816"
    PERL_CANARY_STABILITY_NOPROMPT="1"
    PERL_MM_USE_DEFAULT="1"
  @INC:
    /home/sand/src/perl/repoperls/installed-perls/perl/v5.22.3-RC3/109d/lib/site_perl/5.22.3/x86_64-linux-thread-multi-ld
    /home/sand/src/perl/repoperls/installed-perls/perl/v5.22.3-RC3/109d/lib/site_perl/5.22.3
    /home/sand/src/perl/repoperls/installed-perls/perl/v5.22.3-RC3/109d/lib/5.22.3/x86_64-linux-thread-multi-ld
    /home/sand/src/perl/repoperls/installed-perls/perl/v5.22.3-RC3/109d/lib/5.22.3
    .