Report for Spreadsheet-Simple-1.0.0

Back
From: metabase:user:30ae4450-2aae-11df-837a-5e0a49663a4f
Subject: PASS Spreadsheet-Simple-1.0.0 v5.18.1 
Date: 2014-02-15T11:01:57Z

This distribution has been tested as part of the CPAN Testers
project, supporting the Perl programming language.  See
http://wiki.cpantesters.org/ for more information or email
questions to cpan-testers-discuss@perl.org


--
Dear Dylan William Hardison,

This is a computer-generated report for Spreadsheet-Simple-1.0.0
on perl 5.18.1, created by CPAN-Reporter-1.2010_01.

Thank you for uploading your work to CPAN.  Congratulations!
All tests were successful.

Sections of this report:

    * Tester comments
    * Program output
    * Prerequisites
    * Environment and other context

------------------------------
TESTER COMMENTS
------------------------------

Additional comments from tester:

this report is from an automated smoke testing program
and was not reviewed by a human for accuracy

------------------------------
PROGRAM OUTPUT
------------------------------

Output from 'C:\strawberry181\c\bin\dmake.exe test':

C:\strawberry181\perl\bin\perl.exe "-MExtUtils::Command::MM" "-e" "test_harness(0, 'blib\lib', 'blib\arch')" t/*.t
# Testing Spreadsheet::Simple 1.0.0, Perl 5.018001, C:\strawberry181\perl\bin\perl.exe
t/000-load.t .............. ok
Class::MOP::load_class is deprecated at C:/strawberry181/perl/site/lib/Class/MOP.pm line 73.
	Class::MOP::load_class('Spreadsheet::Simple::Document') called at C:\strawberry181\cpan\build\Spreadsheet-Simple-1.0.0-sno4tR\blib\lib/Spreadsheet/Simple.pm line 62
	Spreadsheet::Simple::new_document('Spreadsheet::Simple=HASH(0x998ab4)') called at t/001-basic.t line 11
Class::MOP::load_class is deprecated at C:/strawberry181/perl/site/lib/Class/MOP.pm line 73.
	Class::MOP::load_class('Spreadsheet::Simple::Row') called at C:\strawberry181\cpan\build\Spreadsheet-Simple-1.0.0-sno4tR\blib\lib/Spreadsheet/Simple/Types.pm line 37
	Spreadsheet::Simple::Types::__ANON__('ARRAY(0x1493194)') called at C:/strawberry181/perl/site/lib/Moose/Meta/TypeCoercion.pm line 68
	Moose::Meta::TypeCoercion::__ANON__('ARRAY(0x1493194)') called at C:/strawberry181/perl/site/lib/Moose/Meta/TypeCoercion.pm line 103
	Moose::Meta::TypeCoercion::coerce('Moose::Meta::TypeCoercion=HASH(0x1459bbc)', 'ARRAY(0x1493194)') called at C:/strawberry181/perl/site/lib/Moose/Meta/TypeConstraint.pm line 149
	Moose::Meta::TypeConstraint::coerce('Moose::Meta::TypeConstraint::Parameterizable=HASH(0x1454314)', 'ARRAY(0x1493194)') called at C:/strawberry181/perl/vendor/lib/MooseX/Types/TypeDecorator.pm line 175
	MooseX::Types::TypeDecorator::_try_delegate('MooseX::Types::TypeDecorator=HASH(0x14866e4)', 'coerce', 'ARRAY(0x1493194)') called at C:/strawberry181/perl/vendor/lib/MooseX/Types/TypeDecorator.pm line 140
	MooseX::Types::TypeDecorator::AUTOLOAD('MooseX::Types::TypeDecorator=HASH(0x14866e4)', 'ARRAY(0x1493194)') called at C:/strawberry181/perl/site/lib/Moose/Meta/Attribute.pm line 1251
	Moose::Meta::Attribute::_coerce_and_verify('Moose::Meta::Class::__ANON__::SERIAL::1=HASH(0x1599644)', 'ARRAY(0x1493194)', 'Spreadsheet::Simple::Sheet=HASH(0x1497fe4)') called at C:/strawberry181/perl/site/lib/Moose/Meta/Attribute.pm line 514
	Moose::Meta::Attribute::initialize_instance_slot('Moose::Meta::Class::__ANON__::SERIAL::1=HASH(0x1599644)', 'Moose::Meta::Instance=HASH(0x15ae38c)', 'Spreadsheet::Simple::Sheet=HASH(0x1497fe4)', 'HASH(0x1498074)') called at C:/strawberry181/perl/site/lib/Class/MOP/Class.pm line 529
	Class::MOP::Class::_construct_instance('Moose::Meta::Class=HASH(0x149443c)', 'HASH(0x1498074)') called at C:/strawberry181/perl/site/lib/Class/MOP/Class.pm line 499
	Class::MOP::Class::new_object('Moose::Meta::Class=HASH(0x149443c)', 'HASH(0x1498074)') called at C:/strawberry181/perl/site/lib/Moose/Meta/Class.pm line 278
	Moose::Meta::Class::new_object('Moose::Meta::Class=HASH(0x149443c)', 'HASH(0x1498074)') called at C:/strawberry181/perl/site/lib/Moose/Object.pm line 27
	Moose::Object::new('Spreadsheet::Simple::Sheet', 'name', 'test', 'rows', 'ARRAY(0x1493194)') called at C:\strawberry181\cpan\build\Spreadsheet-Simple-1.0.0-sno4tR\blib\lib/Spreadsheet/Simple/Document.pm line 31
	Spreadsheet::Simple::Document::new_sheet('Spreadsheet::Simple::Document=HASH(0xbd3b94)', 'name', 'test', 'rows', 'ARRAY(0x1493194)') called at t/001-basic.t line 16
t/001-basic.t ............. ok
Class::MOP::load_class is deprecated at C:/strawberry181/perl/site/lib/Class/MOP.pm line 73.
	Class::MOP::load_class() called at C:\strawberry181\cpan\build\Spreadsheet-Simple-1.0.0-sno4tR\blib\lib/Spreadsheet/Simple/Types.pm line 26
	Spreadsheet::Simple::Types::__ANON__() called at C:/strawberry181/perl/site/lib/Moose/Meta/TypeCoercion.pm line 68
	Moose::Meta::TypeCoercion::__ANON__() called at C:/strawberry181/perl/site/lib/Moose/Meta/TypeCoercion.pm line 103
	Moose::Meta::TypeCoercion::coerce() called at C:/strawberry181/perl/site/lib/Moose/Meta/TypeConstraint.pm line 149
	Moose::Meta::TypeConstraint::coerce() called at C:/strawberry181/perl/vendor/lib/MooseX/Types/TypeDecorator.pm line 175
	MooseX::Types::TypeDecorator::_try_delegate() called at C:/strawberry181/perl/vendor/lib/MooseX/Types/TypeDecorator.pm line 140
	MooseX::Types::TypeDecorator::AUTOLOAD() called at C:/strawberry181/perl/site/lib/Moose/Meta/Attribute.pm line 1251
	Moose::Meta::Attribute::_coerce_and_verify() called at C:/strawberry181/perl/site/lib/Moose/Meta/Attribute.pm line 514
	Moose::Meta::Attribute::initialize_instance_slot() called at C:/strawberry181/perl/site/lib/Class/MOP/Class.pm line 529
	Class::MOP::Class::_construct_instance() called at C:/strawberry181/perl/site/lib/Class/MOP/Class.pm line 499
	Class::MOP::Class::new_object() called at C:/strawberry181/perl/site/lib/Moose/Meta/Class.pm line 278
	Moose::Meta::Class::new_object() called at C:/strawberry181/perl/site/lib/Moose/Object.pm line 27
	Moose::Object::new() called at t/002-row.t line 10
	Test::Exception::lives_ok() called at t/002-row.t line 11
t/002-row.t ............... ok
t/003-cell.t .............. ok
t/100-excel.t ............. ok
Class::MOP::load_class is deprecated at C:/strawberry181/perl/site/lib/Class/MOP.pm line 73.
	Class::MOP::load_class('Spreadsheet::Simple::Reader::Excel') called at C:\strawberry181\cpan\build\Spreadsheet-Simple-1.0.0-sno4tR\blib\lib/Spreadsheet/Simple.pm line 43
	Spreadsheet::Simple::_build_reader('Spreadsheet::Simple=HASH(0x998a9c)') called at reader Spreadsheet::Simple::reader (defined at C:\strawberry181\cpan\build\Spreadsheet-Simple-1.0.0-sno4tR\blib\lib/Spreadsheet/Simple.pm line 24) line 7
	Spreadsheet::Simple::reader('Spreadsheet::Simple=HASH(0x998a9c)') called at C:/strawberry181/perl/site/lib/Moose/Meta/Method/Delegation.pm line 96
	Spreadsheet::Simple::read_file('Spreadsheet::Simple=HASH(0x998a9c)', 't/data/100-excel.xls') called at t/101-excel.t line 21
t/101-excel.t ............. ok
t/release-pod-coverage.t .. skipped: these tests are for release candidate testing
t/release-pod-syntax.t .... skipped: these tests are for release candidate testing
All tests successful.
Files=8, Tests=92, 10 wallclock secs ( 0.08 usr +  0.04 sys =  0.12 CPU)
Result: PASS

------------------------------
PREREQUISITES
------------------------------

Prerequisite modules loaded:

requires:

    Module                    Need Have    
    ------------------------- ---- --------
    Moose                     0    2.1202  
    Moose::Role               0    2.1202  
    MooseX::Types             0    0.36    
    MooseX::Types::Moose      0    0.36    
    MooseX::Types::Structured 0    0.28    
    namespace::autoclean      0    0.13    
    Spreadsheet::ParseExcel   0.59 0.59    
    strict                    0    1.07    
    warnings                  0    1.18    

build_requires:

    Module                    Need Have    
    ------------------------- ---- --------
    Path::Class               0.25 0.33    
    Test::Exception           0    0.32    
    Test::More                0    1.001002

configure_requires:

    Module                    Need Have    
    ------------------------- ---- --------
    ExtUtils::MakeMaker       6.30 6.72    


------------------------------
ENVIRONMENT AND OTHER CONTEXT
------------------------------

Environment variables:

    AUTOMATED_TESTING = 1
    COMSPEC = C:\WINDOWS\system32\cmd.exe
    NUMBER_OF_PROCESSORS = 1
    PATH = C:\Program Files\Far Manager\;C:\WINDOWS\system32;C:\WINDOWS;C:\WINDOWS\System32\Wbem;C:\strawberry181\c\bin;C:\strawberry181\perl\site\bin;C:\strawberry181\perl\bin
    PERL5LIB = 
    PERL5OPT = 
    PERL5_CPANPLUS_IS_RUNNING = 9056
    PERL5_CPAN_IS_RUNNING = 9056
    PERL5_CPAN_IS_RUNNING_IN_RECURSION = 3964,9056
    PERL_CR_SMOKER_CURRENT = Spreadsheet-Simple-1.0.0
    PERL_EXTUTILS_AUTOINSTALL = --defaultdeps
    PERL_HASH_SEED = 0x11111111
    PERL_MM_USE_DEFAULT = 1
    PROCESSOR_IDENTIFIER = x86 Family 16 Model 5 Stepping 3, AuthenticAMD
    TEMP = C:\DOCUME~1\c\LOCALS~1\Temp
    TERM = dumb

Perl special variables (and OS-specific diagnostics, for MSWin32):

    $^X = C:\strawberry181\perl\bin\perl.exe
    $UID/$EUID = 0 / 0
    $GID = 0
    $EGID = 0
    Win32::GetOSName = WinXP/.Net
    Win32::GetOSVersion = Service Pack 3, 5, 1, 2600, 2, 3, 0, 256, 1
    Win32::FsType = NTFS
    Win32::IsAdminUser = 1

Perl module toolchain versions installed:

    Module              Have    
    ------------------- --------
    CPAN                2.00    
    CPAN::Meta          2.132140
    Cwd                 3.40    
    ExtUtils::CBuilder  0.280210
    ExtUtils::Command   1.17    
    ExtUtils::Install   1.59    
    ExtUtils::MakeMaker 6.72    
    ExtUtils::Manifest  1.63    
    ExtUtils::ParseXS   3.22    
    File::Spec          3.40    
    JSON                2.59    
    JSON::PP            2.27202 
    Module::Build       0.4204  
    Module::Signature   n/a     
    Parse::CPAN::Meta   1.4405  
    Test::Harness       3.30    
    Test::More          1.001002
    YAML                0.88    
    YAML::Syck          1.27    
    version             0.9902  


--

Summary of my perl5 (revision 5 version 18 subversion 1) configuration:
   
  Platform:
    osname=MSWin32, osvers=4.0, archname=MSWin32-x86-multi-thread-64int
    uname='Win32 strawberry-perl 5.18.1.1 #1 Tue Aug 13 19:20:13 2013 i386'
    config_args='undef'
    hint=recommended, useposix=true, d_sigaction=undef
    useithreads=define, usemultiplicity=define
    useperlio=define, d_sfio=undef, uselargefiles=define, usesocks=undef
    use64bitint=define, use64bitall=undef, uselongdouble=undef
    usemymalloc=n, bincompat5005=undef
  Compiler:
    cc='gcc', ccflags =' -s -O2 -DWIN32  -DPERL_TEXTMODE_SCRIPTS -DPERL_IMPLICIT_CONTEXT -DPERL_IMPLICIT_SYS -DUSE_PERLIO -fno-strict-aliasing -mms-bitfields',
    optimize='-s -O2',
    cppflags='-DWIN32'
    ccversion='', gccversion='4.7.3', gccosandvers=''
    intsize=4, longsize=4, ptrsize=4, doublesize=8, byteorder=12345678
    d_longlong=define, longlongsize=8, d_longdbl=define, longdblsize=12
    ivtype='long long', ivsize=8, nvtype='double', nvsize=8, Off_t='long long', lseeksize=8
    alignbytes=8, prototype=define
  Linker and Libraries:
    ld='g++', ldflags ='-s -L"C:\strawberry181\perl\lib\CORE" -L"C:\strawberry181\c\lib"'
    libpth=C:\strawberry181\c\lib C:\strawberry181\c\i686-w64-mingw32\lib
    libs=-lmoldname -lkernel32 -luser32 -lgdi32 -lwinspool -lcomdlg32 -ladvapi32 -lshell32 -lole32 -loleaut32 -lnetapi32 -luuid -lws2_32 -lmpr -lwinmm -lversion -lodbc32 -lodbccp32 -lcomctl32
    perllibs=-lmoldname -lkernel32 -luser32 -lgdi32 -lwinspool -lcomdlg32 -ladvapi32 -lshell32 -lole32 -loleaut32 -lnetapi32 -luuid -lws2_32 -lmpr -lwinmm -lversion -lodbc32 -lodbccp32 -lcomctl32
    libc=, so=dll, useshrplib=true, libperl=libperl518.a
    gnulibc_version=''
  Dynamic Linking:
    dlsrc=dl_win32.xs, dlext=dll, d_dlsymun=undef, ccdlflags=' '
    cccdlflags=' ', lddlflags='-mdll -s -L"C:\strawberry181\perl\lib\CORE" -L"C:\strawberry181\c\lib"'


Characteristics of this binary (from libperl): 
  Compile-time options: HAS_TIMES HAVE_INTERP_INTERN MULTIPLICITY
                        PERLIO_LAYERS PERL_DONT_CREATE_GVSV
                        PERL_HASH_FUNC_ONE_AT_A_TIME_HARD
                        PERL_IMPLICIT_CONTEXT PERL_IMPLICIT_SYS
                        PERL_MALLOC_WRAP PERL_PRESERVE_IVUV PERL_SAWAMPERSAND
                        USE_64_BIT_INT USE_ITHREADS USE_LARGE_FILES
                        USE_LOCALE USE_LOCALE_COLLATE USE_LOCALE_CTYPE
                        USE_LOCALE_NUMERIC USE_PERLIO USE_PERL_ATOF
  Built under MSWin32
  Compiled at Aug 13 2013 19:29:16
  %ENV:
    PERL5_CPANPLUS_IS_RUNNING="9056"
    PERL5_CPAN_IS_RUNNING="9056"
    PERL5_CPAN_IS_RUNNING_IN_RECURSION="3964,9056"
    PERL_CR_SMOKER_CURRENT="Spreadsheet-Simple-1.0.0"
    PERL_EXTUTILS_AUTOINSTALL="--defaultdeps"
    PERL_HASH_SEED="0x11111111"
    PERL_MM_USE_DEFAULT="1"
  @INC:
    C:/strawberry181/perl/site/lib
    C:/strawberry181/perl/vendor/lib
    C:/strawberry181/perl/lib
    .