Benchmark-Perl-Formance v0.55 Perl 5 v5.30.2 amd64-freebsd
- Status
- Pass
- From
- Slaven Rezić
- Dist
-
Benchmark-Perl-Formance v0.55
- Platform
- Perl 5 v5.30.2 amd64-freebsd
- Date
- 2021-09-17 13:22:34
- ID
- 51ba53c2-17ba-11ec-b35e-d2331f24ea8f
This distribution has been tested as part of the CPAN Testers
project, supporting the Perl programming language. See
http://wiki.cpantesters.org/ for more information or email
questions to cpan-testers-discuss@perl.org
--
Dear Steffen Schwigon,
This is a computer-generated report for Benchmark-Perl-Formance-0.55
on perl 5.30.2, created by CPAN-Reporter-1.2018.
Thank you for uploading your work to CPAN. Congratulations!
All tests were successful.
Sections of this report:
* Tester comments
* Program output
* Prerequisites
* Environment and other context
------------------------------
TESTER COMMENTS
------------------------------
Additional comments from tester:
none provided
------------------------------
PROGRAM OUTPUT
------------------------------
Output from '/usr/bin/make test':
PERL_DL_NONLAZY=1 "/usr/perl5.30.2p/bin/perl5.30.2" "-MExtUtils::Command::MM" "-MTest::Harness" "-e" "undef *Test::Harness::Switches; test_harness(0, 'blib/lib', 'blib/arch')" t/*.t
t/00-compile.t ......... ok
#
# Testing Benchmark::Perl::Formance 0.55, Perl 5.030002, /usr/perl5.30.2p/bin/perl5.30.2
t/00-load.t ............ ok
t/author-eol.t ......... skipped: these tests are for testing by the author
t/author-pod-syntax.t .. skipped: these tests are for testing by the author
t/basic.t .............. ok
#
# Sample run. May take some seconds...
# Run DPath...
# Run Fib...
# Run FibOO...
# Run Mem...
# Run MatrixReal...
# Run Prime...
# Run Rx...
# Run RxMicro...
# Run Shootout::fasta...
# Run Shootout::regexdna...
# Run Shootout::binarytrees...
# Run Shootout::revcomp...
# Run Shootout::nbody...
# Run Shootout::spectralnorm...
#
# perlformance.perl5.DPath.dpath : 0.059750
# perlformance.perl5.Fib : 0.097348
# perlformance.perl5.FibOO : 0.030175
# perlformance.perl5.MatrixReal.det.005 : 0.315403
# perlformance.perl5.MatrixReal.det_LR.005 : 0.327383
# perlformance.perl5.MatrixReal.inverse.005 : 0.913184
# perlformance.perl5.MatrixReal.invert_LR.005 : 0.741382
# perlformance.perl5.MatrixReal.matrix_squared.005 : 0.096581
# perlformance.perl5.MatrixReal.matrix_times_itself.005 : 0.073599
# perlformance.perl5.MatrixReal.to_negative_one.005 : 0.392700
# perlformance.perl5.Mem.allocate : 0.671105
# perlformance.perl5.Mem.copy : 1.301885
# perlformance.perl5.Prime.math_primality : 0.002849
# perlformance.perl5.Rx.regexes.fieldsplit1 : 0.989854
# perlformance.perl5.Rx.regexes.fieldsplit2 : 0.008249
# perlformance.perl5.Rx.regexes.pathological : 0.524623
# perlformance.perl5.RxMicro.code-literal : 0.330213
# perlformance.perl5.RxMicro.code-runtime : 0.163059
# perlformance.perl5.RxMicro.precompile-access : 0.475995
# perlformance.perl5.RxMicro.runtime-compile : 0.747471
# perlformance.perl5.RxMicro.runtime-compile-nocache : 0.759800
# perlformance.perl5.Shootout.binarytrees : 0.239063
# perlformance.perl5.Shootout.fasta : 0.154899
# perlformance.perl5.Shootout.nbody : 0.045401
# perlformance.perl5.Shootout.spectralnorm : 1.217661
t/samplerun.t .......... ok
All tests successful.
Files=6, Tests=21, 31 wallclock secs ( 0.02 usr 0.02 sys + 7.84 cusr 0.97 csys = 8.85 CPU)
Result: PASS
------------------------------
PREREQUISITES
------------------------------
Prerequisite modules loaded:
requires:
Module Need Have
--------------------- ---- --------
Config::Perl::V 0 0.33
Data::DPath 0 0.58
Data::Structure::Util 0 0.16
Data::YAML::Writer 0 0.0.7
Devel::Platform::Info 0 1.00
JSON 0 4.03
List::Util 0 1.59
Math::MatrixReal 0 2.13
Math::Primality 0 0.08
Module::Pluggable 0 5.2
Module::Runtime 0 0.016
Sys::Hostname 0 1.22
Sys::Info 0 0.7811
build_requires:
Module Need Have
--------------------- ---- --------
Data::YAML::Reader 0 0.0.7
ExtUtils::MakeMaker 0 7.62
File::Spec 0 3.78
IO::Handle 0 1.45
IPC::Open3 0 1.20
Test::More 0.88 1.302186
configure_requires:
Module Need Have
--------------------- ---- --------
ExtUtils::MakeMaker 0 7.62
------------------------------
ENVIRONMENT AND OTHER CONTEXT
------------------------------
Environment variables:
PATH = /usr/local/bin:/usr/bin:/bin:/usr/local/sbin:/usr/sbin:/sbin:/home/cpansand/bin/sh:/home/cpansand/bin:/usr/games:/home/cpansand/devel:/usr/home/eserte/src/srezic-misc/scripts
PERL5LIB =
PERL5OPT =
PERL5_CPANPLUS_IS_RUNNING = 35981
PERL5_CPAN_IS_RUNNING = 35981
PERL5_CPAN_IS_RUNNING_IN_RECURSION = 34381,35981
PERL_BATCH = yes
PERL_CANARY_STABILITY_NOPROMPT = 1
PERL_CPAN_REPORTER_CONFIG = /var/tmp/cpansmoker-1023/2021091713/cpanreporter_000_config.ini
PERL_EXTUTILS_AUTOINSTALL = --defaultdeps
PERL_USE_UNSAFE_INC = 1
SHELL = /bin/sh
TMPDIR = /var/tmp/cpansmoker-1023/2021091713
Perl special variables (and OS-specific diagnostics, for MSWin32):
$^X = /usr/perl5.30.2p/bin/perl5.30.2
$UID/$EUID = 1023 / 1023
$GID = 1023 1023
$EGID = 1023 1023
Perl module toolchain versions installed:
Module Have
------------------- --------
CPAN 2.28
CPAN::Meta 2.150010
Cwd 3.78
ExtUtils::CBuilder 0.280235
ExtUtils::Command 7.62
ExtUtils::Install 2.20
ExtUtils::MakeMaker 7.62
ExtUtils::Manifest 1.72
ExtUtils::ParseXS 3.40
File::Spec 3.78
JSON 4.03
JSON::PP 4.06
Module::Build 0.4231
Module::Signature 0.87
Parse::CPAN::Meta 2.150010
Test::Harness 3.42
Test::More 1.302186
YAML 1.30
YAML::Syck 1.34
version 0.9924
--
Summary of my perl5 (revision 5 version 30 subversion 2) configuration:
Platform:
osname=freebsd
osvers=12.1-stable
archname=amd64-freebsd
uname='freebsd cloud1.bbbike.org 12.1-stable freebsd 12.1-stable 300cf9f9b89(stable12) generic amd64 '
config_args='-ds -e -Dprefix=/usr/perl5.30.2p -Dcf_email=srezic@cpan.org -Doptimize=-O2 -pipe'
hint=recommended
useposix=true
d_sigaction=define
useithreads=undef
usemultiplicity=undef
use64bitint=define
use64bitall=define
uselongdouble=undef
usemymalloc=n
default_inc_excludes_dot=define
bincompat5005=undef
Compiler:
cc='cc'
ccflags ='-DHAS_FPSETMASK -DHAS_FLOATINGPOINT_H -fno-strict-aliasing -pipe -fstack-protector-strong -I/usr/local/include'
optimize='-O2 -pipe'
cppflags='-DHAS_FPSETMASK -DHAS_FLOATINGPOINT_H -fno-strict-aliasing -pipe -fstack-protector-strong -I/usr/local/include'
ccversion=''
gccversion='FreeBSD Clang 9.0.1 (git@github.com:llvm/llvm-project.git c1a0a213378a458fbea1a5c77b315c7dce08fd05)'
gccosandvers=''
intsize=4
longsize=8
ptrsize=8
doublesize=8
byteorder=12345678
doublekind=3
d_longlong=define
longlongsize=8
d_longdbl=define
longdblsize=16
longdblkind=3
ivtype='long'
ivsize=8
nvtype='double'
nvsize=8
Off_t='off_t'
lseeksize=8
alignbytes=8
prototype=define
Linker and Libraries:
ld='cc'
ldflags ='-pthread -Wl,-E -fstack-protector-strong -L/usr/local/lib'
libpth=/usr/lib /usr/local/lib /usr/lib/clang/9.0.1/lib /usr/lib
libs=-lpthread -lgdbm -ldl -lm -lcrypt -lutil -lc
perllibs=-lpthread -ldl -lm -lcrypt -lutil -lc
libc=
so=so
useshrplib=false
libperl=libperl.a
gnulibc_version=''
Dynamic Linking:
dlsrc=dl_dlopen.xs
dlext=so
d_dlsymun=undef
ccdlflags=' '
cccdlflags='-DPIC -fPIC'
lddlflags='-shared -L/usr/local/lib -fstack-protector-strong'
Characteristics of this binary (from libperl):
Compile-time options:
HAS_TIMES
PERLIO_LAYERS
PERL_COPY_ON_WRITE
PERL_DONT_CREATE_GVSV
PERL_MALLOC_WRAP
PERL_OP_PARENT
PERL_PRESERVE_IVUV
USE_64_BIT_ALL
USE_64_BIT_INT
USE_LARGE_FILES
USE_LOCALE
USE_LOCALE_COLLATE
USE_LOCALE_CTYPE
USE_LOCALE_NUMERIC
USE_LOCALE_TIME
USE_PERLIO
USE_PERL_ATOF
Built under freebsd
Compiled at Mar 14 2020 21:35:07
%ENV:
PERL5LIB=""
PERL5OPT=""
PERL5_CPANPLUS_IS_RUNNING="35981"
PERL5_CPAN_IS_RUNNING="35981"
PERL5_CPAN_IS_RUNNING_IN_RECURSION="34381,35981"
PERL_BATCH="yes"
PERL_CANARY_STABILITY_NOPROMPT="1"
PERL_CPAN_REPORTER_CONFIG="/var/tmp/cpansmoker-1023/2021091713/cpanreporter_000_config.ini"
PERL_EXTUTILS_AUTOINSTALL="--defaultdeps"
PERL_USE_UNSAFE_INC="1"
@INC:
/usr/perl5.30.2p/lib/site_perl/5.30.2/amd64-freebsd
/usr/perl5.30.2p/lib/site_perl/5.30.2
/usr/perl5.30.2p/lib/5.30.2/amd64-freebsd
/usr/perl5.30.2p/lib/5.30.2
.