GraphQL v0.54 Perl 5 v5.30.2 i86pc-solaris-thread-multi-64

Status
Pass
From
David Cantrell (DCANTRELL)
Dist
GraphQL v0.54
Platform
Perl 5 v5.30.2 i86pc-solaris-thread-multi-64
Date
2022-03-25 14:46:14
ID
51c57a0c-ac4a-11ec-8fb6-c4d4f42c6a9d
This distribution has been tested as part of the CPAN Testers
project, supporting the Perl programming language.  See
http://wiki.cpantesters.org/ for more information or email
questions to cpan-testers-discuss@perl.org


--
Dear Ed J,

This is a computer-generated report for GraphQL-0.54
on perl 5.30.2, created by CPAN-Reporter-1.2018.

Thank you for uploading your work to CPAN.  Congratulations!
All tests were successful.

Sections of this report:

    * Tester comments
    * Program output
    * Prerequisites
    * Environment and other context

------------------------------
TESTER COMMENTS
------------------------------

Additional comments from tester:

this report is from an automated smoke testing program
and was not reviewed by a human for accuracy

------------------------------
PROGRAM OUTPUT
------------------------------

Output from '/usr/bin/make test':

PERL_DL_NONLAZY=1 "/home/david/cpantesting/perl-5.30.2/bin/perl" "-MExtUtils::Command::MM" "-MTest::Harness" "-e" "undef *Test::Harness::Switches; test_harness(0, 'blib/lib', 'blib/arch')" t/*.t
# Testing GraphQL 0.54, Perl 5.030002, /home/david/cpantesting/perl-5.30.2/bin/perl
t/00-load.t ...................... ok
# 
# Versions for all modules listed in MYMETA.json (including optional ones):
# 
# === Configure Requires ===
# 
#     Module              Want Have Where                                                    Howbig
#     ------------------- ---- ---- -------------------------------------------------------- ------
#     ExtUtils::MakeMaker 6.64 7.62 /home/david/cpantesting/perl-5.30.2/lib/site_perl/5.30.2 109336
# 
# === Build Requires ===
# 
#     Module              Want Have Where                                                    Howbig
#     ------------------- ---- ---- -------------------------------------------------------- ------
#     ExtUtils::MakeMaker  any 7.62 /home/david/cpantesting/perl-5.30.2/lib/site_perl/5.30.2 109336
# 
# === Test Requires ===
# 
#     Module           Want     Have Where                                                    Howbig
#     --------------- ----- -------- -------------------------------------------------------- ------
#     Test::Deep      1.127    1.130 /home/david/cpantesting/perl-5.30.2/lib/site_perl/5.30.2  50125
#     Test::Exception  0.42     0.43 /home/david/cpantesting/perl-5.30.2/lib/site_perl/5.30.2  15465
#     Test::More       0.88 1.302190 /home/david/cpantesting/perl-5.30.2/lib/site_perl/5.30.2  52979
# 
# === Runtime Requires ===
# 
#     Module                        Want     Have Where                                                                                  Howbig
#     ------------------------- -------- -------- -------------------------------------------------------------------------------------- ------
#     Attribute::Handlers            any     1.01 /home/david/cpantesting/perl-5.30.2/lib/5.30.2                                          30449
#     DateTime                       any     1.57 /home/david/cpantesting/perl-5.30.2/lib/site_perl/5.30.2/i86pc-solaris-thread-multi-64 137213
#     DateTime::Format::ISO8601      any     0.16 /home/david/cpantesting/perl-5.30.2/lib/site_perl/5.30.2                                46285
#     Devel::StrictMode              any    0.003 /home/david/cpantesting/perl-5.30.2/lib/site_perl/5.30.2                                 3601
#     Function::Parameters      2.001001 2.001003 /home/david/cpantesting/perl-5.30.2/lib/site_perl/5.30.2/i86pc-solaris-thread-multi-64  46584
#     Import::Into              1.002003 1.002005 /home/david/cpantesting/perl-5.30.2/lib/site_perl/5.30.2                                 8200
#     JSON::MaybeXS             1.003009 1.004003 /home/david/cpantesting/perl-5.30.2/lib/site_perl/5.30.2                                 9692
#     JSON::PP                      2.92     4.02 /home/david/cpantesting/perl-5.30.2/lib/5.30.2                                         100557
#     Module::Runtime                any    0.016 /home/david/cpantesting/perl-5.30.2/lib/site_perl/5.30.2                                17521
#     Moo                            any 2.005004 /home/david/cpantesting/perl-5.30.2/lib/site_perl/5.30.2                                34356
#     MooX::Thunking                0.07     0.08 /home/david/cpantesting/perl-5.30.2/lib/site_perl/5.30.2                                 2601
#     Pegex                         0.64     0.75 /home/david/cpantesting/perl-5.30.2/lib/site_perl/5.30.2                                  750
#     Return::Type                   any    0.007 /home/david/cpantesting/perl-5.30.2/lib/site_perl/5.30.2                                 7354
#     Type::Tiny                     any 1.012004 /home/david/cpantesting/perl-5.30.2/lib/site_perl/5.30.2                                70464
#     curry                          any 2.000001 /home/david/cpantesting/perl-5.30.2/lib/site_perl/5.30.2                                 2653
# 
# === Runtime Suggests ===
# 
#     Module             Want    Have Where                                                                                  Howbig
#     ---------------- ------ ------- -------------------------------------------------------------------------------------- ------
#     Cpanel::JSON::XS 3.0237    4.25 /home/david/cpantesting/perl-5.30.2/lib/site_perl/5.30.2/i86pc-solaris-thread-multi-64  90634
#     JSON::XS            any missing                                                                                             0
# 
t/00-report-prereqs.t ............ ok
t/directives.t ................... ok
t/execution-abstract.t ........... ok
t/execution-directives.t ......... ok
t/execution-execute.t ............ ok
t/execution-lists.t .............. ok
t/execution-nonnull.t ............ ok
t/execution-resolve.t ............ ok
t/execution-schema.t ............. ok
t/execution-sync.t ............... ok
t/execution-variables.t .......... ok
t/language-block-string-value.t .. ok
t/language-lexer.t ............... ok
t/language-parser.t .............. ok
t/language-schema-parser.t ....... ok
t/perl.t ......................... ok
t/subscribe.t .................... ok
t/type-definition.t .............. ok
t/type-enum.t .................... ok
Cannot serialize regexp without callbacks; serializing using callbacks at /home/david/cpantesting/perl-5.30.2/lib/site_perl/5.30.2/Type/Tiny.pm line 871.
t/type-interface.t ............... ok
t/type-introspection.t ........... ok
t/type-schema.t .................. ok
t/util-buildschema.t ............. ok
All tests successful.
Files=24, Tests=387, 73 wallclock secs ( 0.82 usr  0.37 sys + 58.09 cusr  9.97 csys = 69.25 CPU)
Result: PASS

------------------------------
PREREQUISITES
------------------------------

Prerequisite modules loaded:

requires:

    Module                    Need     Have    
    ------------------------- -------- --------
    Attribute::Handlers       0        1.01    
    curry                     0        2.000001
    DateTime                  0        1.57    
    DateTime::Format::ISO8601 0        0.16    
    Devel::StrictMode         0        0.003   
    Function::Parameters      2.001001 2.001003
    Import::Into              1.002003 1.002005
    JSON::MaybeXS             1.003009 1.004003
    JSON::PP                  2.92     4.02    
    Module::Runtime           0        0.016   
    Moo                       0        2.005004
    MooX::Thunking            0.07     0.08    
    Pegex                     0.64     0.75    
    perl                      5.014    5.030002
    Return::Type              0        0.007   
    Type::Tiny                0        1.012004

build_requires:

    Module                    Need     Have    
    ------------------------- -------- --------
    ExtUtils::MakeMaker       0        7.62    
    Test::Deep                1.127    1.130   
    Test::Exception           0.42     0.43    
    Test::More                0.88     1.302190

configure_requires:

    Module                    Need     Have    
    ------------------------- -------- --------
    ExtUtils::MakeMaker       6.64     7.62    


------------------------------
ENVIRONMENT AND OTHER CONTEXT
------------------------------

Environment variables:

    AUTOMATED_TESTING = 1
    LANG = en_GB.UTF-8
    NONINTERACTIVE_TESTING = 1
    PATH = /home/david/perl5/perlbrew/bin:/home/david/perl5/perlbrew/perls/perl-5.32.0/bin:/usr/bin:/usr/sbin:/sbin:/usr/gnu/bin:/home/david/bin:/opt/ooce/bin:/home/david/.fzf.git/bin:/home/david/bin:/opt/ooce/bin:/home/david/bin:/opt/ooce/bin
    PERL = 5.30.2
    PERL5LIB = 
    PERL5OPT = 
    PERL5_CPANPLUS_IS_RUNNING = 26434
    PERL5_CPAN_IS_RUNNING = 26434
    PERLBREW_HOME = /home/david/.perlbrew
    PERLBREW_MANPATH = /home/david/perl5/perlbrew/perls/perl-5.32.0/man
    PERLBREW_PATH = /home/david/perl5/perlbrew/bin:/home/david/perl5/perlbrew/perls/perl-5.32.0/bin
    PERLBREW_PERL = perl-5.32.0
    PERLBREW_ROOT = /home/david/perl5/perlbrew
    PERLBREW_SHELLRC_VERSION = 0.89
    PERLBREW_VERSION = 0.89
    PERLVER = 5.30.2
    PERL_INLINE_DIRECTORY = /home/david/.Inline-5.30.2
    PERL_MM_USE_DEFAULT = 1
    PERL_USE_UNSAFE_INC = 0
    SHELL = /bin/bash
    TERM = screen

Perl special variables (and OS-specific diagnostics, for MSWin32):

    $^X = /home/david/cpantesting/perl-5.30.2/bin/perl
    $UID/$EUID = 100 / 100
    $GID = 1 1 100
    $EGID = 1 1 100

Perl module toolchain versions installed:

    Module              Have    
    ------------------- --------
    CPAN                2.22    
    CPAN::Meta          2.150010
    Cwd                 3.78    
    ExtUtils::CBuilder  0.280231
    ExtUtils::Command   7.62    
    ExtUtils::Install   2.14    
    ExtUtils::MakeMaker 7.62    
    ExtUtils::Manifest  1.72    
    ExtUtils::ParseXS   3.40    
    File::Spec          3.78    
    JSON                4.05    
    JSON::PP            4.02    
    Module::Build       0.4231  
    Module::Signature   n/a     
    Parse::CPAN::Meta   2.150010
    Test::Harness       3.42    
    Test::More          1.302190
    YAML                1.30    
    YAML::Syck          n/a     
    version             0.9924  


--

Summary of my perl5 (revision 5 version 30 subversion 2) configuration:
   
  Platform:
    osname=solaris
    osvers=2.11
    archname=i86pc-solaris-thread-multi-64
    uname='sunos cpantesting-illumos 5.11 omnios-r151036-4a32ffb911 i86pc i386 i86pc '
    config_args='-de -Dcc=gcc -Dprefix=/home/david/cpantesting/perl-5.30.2 -Dusethreads'
    hint=recommended
    useposix=true
    d_sigaction=define
    useithreads=define
    usemultiplicity=define
    use64bitint=define
    use64bitall=define
    uselongdouble=undef
    usemymalloc=n
    default_inc_excludes_dot=define
    bincompat5005=undef
  Compiler:
    cc='gcc'
    ccflags ='-D_REENTRANT -fwrapv -fno-strict-aliasing -pipe -fstack-protector-strong -m64 -D_LARGEFILE_SOURCE -D_FILE_OFFSET_BITS=64 -D_FORTIFY_SOURCE=2 -DPERL_USE_SAFE_PUTENV'
    optimize='-O'
    cppflags='-D_REENTRANT -fwrapv -fno-strict-aliasing -pipe -fstack-protector-strong'
    ccversion=''
    gccversion='9.3.0'
    gccosandvers=''
    intsize=4
    longsize=8
    ptrsize=8
    doublesize=8
    byteorder=12345678
    doublekind=3
    d_longlong=define
    longlongsize=8
    d_longdbl=define
    longdblsize=16
    longdblkind=3
    ivtype='long'
    ivsize=8
    nvtype='double'
    nvsize=8
    Off_t='off_t'
    lseeksize=8
    alignbytes=8
    prototype=define
  Linker and Libraries:
    ld='gcc'
    ldflags =' -fstack-protector-strong -L/usr/gnu/lib -m64 '
    libpth=/opt/gcc-9/lib /opt/gcc-9/lib/gcc/x86_64-pc-solaris2.11/9.3.0/include-fixed /usr/lib /usr/gnu/lib /usr/ccs/lib
    libs=-lpthread -lsocket -lnsl -ldl -lm -lc
    perllibs=-lpthread -lsocket -lnsl -ldl -lm -lc
    libc=/lib/libc.so
    so=so
    useshrplib=true
    libperl=libperl.so
    gnulibc_version=''
  Dynamic Linking:
    dlsrc=dl_dlopen.xs
    dlext=so
    d_dlsymun=undef
    ccdlflags='  -R /home/david/cpantesting/perl-5.30.2/lib/5.30.2/i86pc-solaris-thread-multi-64/CORE'
    cccdlflags='-fPIC'
    lddlflags=' -shared -m64 -L/usr/gnu/lib -fstack-protector-strong'


Characteristics of this binary (from libperl): 
  Compile-time options:
    HAS_TIMES
    MULTIPLICITY
    PERLIO_LAYERS
    PERL_COPY_ON_WRITE
    PERL_DONT_CREATE_GVSV
    PERL_IMPLICIT_CONTEXT
    PERL_MALLOC_WRAP
    PERL_OP_PARENT
    PERL_PRESERVE_IVUV
    PERL_USE_SAFE_PUTENV
    USE_64_BIT_ALL
    USE_64_BIT_INT
    USE_ITHREADS
    USE_LARGE_FILES
    USE_LOCALE
    USE_LOCALE_COLLATE
    USE_LOCALE_CTYPE
    USE_LOCALE_NUMERIC
    USE_LOCALE_TIME
    USE_PERLIO
    USE_PERL_ATOF
    USE_REENTRANT_API
    USE_THREAD_SAFE_LOCALE
  Built under solaris
  Compiled at Dec 12 2020 00:49:07
  %ENV:
    PERL="5.30.2"
    PERL5LIB=""
    PERL5OPT=""
    PERL5_CPANPLUS_IS_RUNNING="26434"
    PERL5_CPAN_IS_RUNNING="26434"
    PERLBREW_HOME="/home/david/.perlbrew"
    PERLBREW_MANPATH="/home/david/perl5/perlbrew/perls/perl-5.32.0/man"
    PERLBREW_PATH="/home/david/perl5/perlbrew/bin:/home/david/perl5/perlbrew/perls/perl-5.32.0/bin"
    PERLBREW_PERL="perl-5.32.0"
    PERLBREW_ROOT="/home/david/perl5/perlbrew"
    PERLBREW_SHELLRC_VERSION="0.89"
    PERLBREW_VERSION="0.89"
    PERLVER="5.30.2"
    PERL_INLINE_DIRECTORY="/home/david/.Inline-5.30.2"
    PERL_MM_USE_DEFAULT="1"
    PERL_USE_UNSAFE_INC="0"
  @INC:
    /home/david/cpantesting/perl-5.30.2/lib/site_perl/5.30.2/i86pc-solaris-thread-multi-64
    /home/david/cpantesting/perl-5.30.2/lib/site_perl/5.30.2
    /home/david/cpantesting/perl-5.30.2/lib/5.30.2/i86pc-solaris-thread-multi-64
    /home/david/cpantesting/perl-5.30.2/lib/5.30.2