Google-Ads-AdWords-Client v5.2.0 Perl 5 v5.22.2 x86_64-linux

Status
Pass
From
Slaven Rezić (SREZIC)
Dist
Google-Ads-AdWords-Client v5.2.0
Platform
Perl 5 v5.22.2 x86_64-linux
Date
2018-03-01 03:40:43
ID
51e118f6-1d02-11e8-876c-c9360b1e88f3
This distribution has been tested as part of the CPAN Testers
project, supporting the Perl programming language.  See
http://wiki.cpantesters.org/ for more information or email
questions to cpan-testers-discuss@perl.org


--
Dear Nadine Sundquist,

This is a computer-generated report for Google-Ads-AdWords-Client-5.2.0
on perl 5.22.2, created by CPAN-Reporter-1.2018.

Thank you for uploading your work to CPAN.  Congratulations!
All tests were successful.

Sections of this report:

    * Tester comments
    * Program output
    * Prerequisites
    * Environment and other context

------------------------------
TESTER COMMENTS
------------------------------

Additional comments from tester:

none provided

------------------------------
PROGRAM OUTPUT
------------------------------

Output from './Build test':

t/001_require.t ....................... ok
t/011_Client.t ........................ ok
t/012_Serializer.t .................... ok
 clientCustomerId=INSERT_CLIENT_CUSTOMER_ID_HERE server=https://adwords.google.com service=CampaignService method=get responseTime=2429 requestId=07a93c67b1dd3ff5242c98d436ba7043 operations=1 isFault=yes faultMessage=[PolicyViolationError.POLICY_ERROR @ operations[0].operand.criterion.text; trigger:'MED'] at /home/cpansand/.cpan/build/2018030103/Google-Ads-AdWords-Client-5.2.0-5/blib/lib/Google/Ads/AdWords/Deserializer.pm line 83
t/013_Deserializer.t .................. ok
t/014_XPathSAXParser.t ................ ok
 clientCustomerId=INSERT_CLIENT_CUSTOMER_ID_HERE server=https://adwords.google.com service=CampaignService method=get responseTime=2429 requestId=07a93c67b1dd3ff5242c98d436ba7043 operations=1 isFault=yes faultMessage=[RequiredError.REQUIRED @ operations[0].operand.advertisingChannelType] at lib/Google/Ads/AdWords/Deserializer.pm line 83
t/015_RequestStats.t .................. ok
t/017_OAuth2ApplicationsHandler.t ..... ok
t/018_MapUtils.t ...................... ok
t/019_OAuth2ServiceAccountsHandler.t .. ok
t/020_GenerateOfflineCredentials.t .... ok
t/021_ReportingConfiguration.t ........ ok
Unescaped left brace in regex is deprecated, passed through in regex; marked by <-- HERE in m/ReportDownloadError\s{ <-- HERE [^}]+}/ at t/022_ReportUtils.t line 60.
t/022_ReportUtils.t ................... ok
t/023_AdsUtilityRegistry.t ............ ok
Unescaped left brace in regex is deprecated, passed through in regex; marked by <-- HERE in m/BatchJobHandlerError\s{ <-- HERE [^}]+}/ at t/024_BatchJobHandler.t line 136.
t/024_BatchJobHandler.t ............... ok
push on reference is experimental at lib/Google/Ads/AdWords/Utilities/QueryBuilder.pm line 49.
push on reference is experimental at lib/Google/Ads/AdWords/Utilities/QueryBuilder.pm line 72.
push on reference is experimental at lib/Google/Ads/AdWords/Utilities/ReportQueryBuilder.pm line 46.
t/025_ReportQueryBuilder.t ............ ok
push on reference is experimental at lib/Google/Ads/AdWords/Utilities/QueryBuilder.pm line 49.
push on reference is experimental at lib/Google/Ads/AdWords/Utilities/QueryBuilder.pm line 72.
push on reference is experimental at lib/Google/Ads/AdWords/Utilities/ServiceQueryBuilder.pm line 45.
push on reference is experimental at lib/Google/Ads/AdWords/Utilities/ServiceQueryBuilder.pm line 46.
t/026_ServiceQueryBuilder.t ........... ok
All tests successful.
Files=16, Tests=5914,  6 wallclock secs ( 0.24 usr  0.18 sys +  4.58 cusr  0.74 csys =  5.74 CPU)
Result: PASS

------------------------------
PREREQUISITES
------------------------------

Prerequisite modules loaded:

requires:

    Module                    Need    Have      
    ------------------------- ------- ----------
    Class::Load               0       0.24      
    Class::Std::Fast          0       0.0.8     
    Crypt::OpenSSL::RSA       0       0.28      
    Cwd                       0       3.62      
    Data::Uniqid              0       0.12      
    Date::Format              0       2.24      
    Date::Parse               0       2.30      
    Digest::SHA               0       5.98      
    File::Basename            0       2.85      
    File::HomeDir             0       1.002     
    File::Path                0       2.15      
    File::Spec                0       3.62      
    File::Temp                0       0.2304    
    Getopt::Long              0       2.5       
    HTTP::Server::Simple::CGI 0       0         
    IO::Socket::SSL           0       2.056     
    JSON::Parse               0       0.53      
    List::Util                0       1.49      
    Log::Log4perl             0       1.49      
    LWP::Protocol::https      0       6.07      
    LWP::UserAgent            0       6.32      
    Math::Random::MT          0       1.17      
    perl                      v5.14.0 5.022002  
    POSIX                     0       1.53_01   
    SOAP::WSDL                v2.0.10 3.003     
    Template                  0       2.27      
    URI::Escape               0       3.31      
    XML::LibXML               0       2.0130    
    XML::Simple               0       2.24      
    XML::XPath                0       1.42      

build_requires:

    Module                    Need    Have      
    ------------------------- ------- ----------
    Class::Std::Fast          v0.0.5  0.0.8     
    Config::Properties        0       1.80      
    Module::Build             0       0.4224    
    Test::Deep                0       1.127     
    Test::Exception           0       0.43      
    Test::MockObject          0       1.20161202
    Test::MockObject::Extends 0       1.20161202
    Test::More                0       1.302122  

configure_requires:

    Module                    Need    Have      
    ------------------------- ------- ----------
    Module::Build             0.40    0.4224    


------------------------------
ENVIRONMENT AND OTHER CONTEXT
------------------------------

Environment variables:

    LANG = C
    PATH = /usr/local/bin:/usr/bin:/bin:/usr/local/sbin:/usr/sbin:/sbin:/home/cpansand/bin/linux-gnu:/home/cpansand/bin/sh:/home/cpansand/bin:/usr/games:/home/cpansand/devel:/home/eserte/src/srezic-misc/scripts
    PERL5LIB = 
    PERL5OPT = 
    PERL5_CPANPLUS_IS_RUNNING = 1693
    PERL5_CPAN_IS_RUNNING = 1693
    PERL5_CPAN_IS_RUNNING_IN_RECURSION = 29125,1693
    PERLDOC = -MPod::Perldoc::ToTextOverstrike
    PERL_BATCH = yes
    PERL_CANARY_STABILITY_NOPROMPT = 1
    PERL_CPAN_REPORTER_CONFIG = /var/tmp/cpansmoker-1023/2018030103/cpanreporter_000_config.ini
    PERL_EXTUTILS_AUTOINSTALL = --defaultdeps
    PERL_USE_UNSAFE_INC = 1
    SHELL = /usr/bin/zsh
    TERM = screen
    TMPDIR = /var/tmp/cpansmoker-1023/2018030103

Perl special variables (and OS-specific diagnostics, for MSWin32):

    $^X = /opt/perl-5.22.2/bin/perl
    $UID/$EUID = 1023 / 1023
    $GID = 1023 1023
    $EGID = 1023 1023

Perl module toolchain versions installed:

    Module              Have    
    ------------------- --------
    CPAN                2.16    
    CPAN::Meta          2.150010
    Cwd                 3.62    
    ExtUtils::CBuilder  0.280230
    ExtUtils::Command   7.32    
    ExtUtils::Install   2.06    
    ExtUtils::MakeMaker 7.32    
    ExtUtils::Manifest  1.70    
    ExtUtils::ParseXS   3.35    
    File::Spec          3.62    
    JSON                2.97001 
    JSON::PP            2.95    
    Module::Build       0.4224  
    Module::Signature   0.81    
    Parse::CPAN::Meta   2.150010
    Test::Harness       3.39    
    Test::More          1.302122
    YAML                1.24    
    YAML::Syck          1.30    
    version             0.9918  


--

Summary of my perl5 (revision 5 version 22 subversion 2) configuration:
   
  Platform:
    osname=linux, osvers=4.9.0-3-amd64, archname=x86_64-linux
    uname='linux debian9 4.9.0-3-amd64 #1 smp debian 4.9.30-2+deb9u1 (2017-06-18) x86_64 gnulinux '
    config_args='-ds -e -Dprefix=/opt/perl-5.22.2 -Dcf_email=srezic@cpan.org'
    hint=recommended, useposix=true, d_sigaction=define
    useithreads=undef, usemultiplicity=undef
    use64bitint=define, use64bitall=define, uselongdouble=undef
    usemymalloc=n, bincompat5005=undef
  Compiler:
    cc='cc', ccflags ='-fwrapv -fno-strict-aliasing -pipe -fstack-protector-strong -I/usr/local/include -D_LARGEFILE_SOURCE -D_FILE_OFFSET_BITS=64',
    optimize='-O2',
    cppflags='-fwrapv -fno-strict-aliasing -pipe -fstack-protector-strong -I/usr/local/include'
    ccversion='', gccversion='6.3.0 20170516', gccosandvers=''
    intsize=4, longsize=8, ptrsize=8, doublesize=8, byteorder=12345678, doublekind=3
    d_longlong=define, longlongsize=8, d_longdbl=define, longdblsize=16, longdblkind=3
    ivtype='long', ivsize=8, nvtype='double', nvsize=8, Off_t='off_t', lseeksize=8
    alignbytes=8, prototype=define
  Linker and Libraries:
    ld='cc', ldflags =' -fstack-protector-strong -L/usr/local/lib'
    libpth=/usr/local/lib /usr/lib/gcc/x86_64-linux-gnu/6/include-fixed /usr/include/x86_64-linux-gnu /usr/lib /lib/x86_64-linux-gnu /lib/../lib /usr/lib/x86_64-linux-gnu /usr/lib/../lib /lib
    libs=-lpthread -lnsl -lgdbm -ldb -ldl -lm -lcrypt -lutil -lc -lgdbm_compat
    perllibs=-lpthread -lnsl -ldl -lm -lcrypt -lutil -lc
    libc=libc-2.24.so, so=so, useshrplib=false, libperl=libperl.a
    gnulibc_version='2.24'
  Dynamic Linking:
    dlsrc=dl_dlopen.xs, dlext=so, d_dlsymun=undef, ccdlflags='-Wl,-E'
    cccdlflags='-fPIC', lddlflags='-shared -O2 -L/usr/local/lib -fstack-protector-strong'


Characteristics of this binary (from libperl): 
  Compile-time options: HAS_TIMES PERLIO_LAYERS PERL_DONT_CREATE_GVSV
                        PERL_HASH_FUNC_ONE_AT_A_TIME_HARD PERL_MALLOC_WRAP
                        PERL_NEW_COPY_ON_WRITE PERL_PRESERVE_IVUV
                        USE_64_BIT_ALL USE_64_BIT_INT USE_LARGE_FILES
                        USE_LOCALE USE_LOCALE_COLLATE USE_LOCALE_CTYPE
                        USE_LOCALE_NUMERIC USE_LOCALE_TIME USE_PERLIO
                        USE_PERL_ATOF
  Built under linux
  Compiled at Jun 22 2017 19:24:38
  %ENV:
    PERL5LIB=""
    PERL5OPT=""
    PERL5_CPANPLUS_IS_RUNNING="1693"
    PERL5_CPAN_IS_RUNNING="1693"
    PERL5_CPAN_IS_RUNNING_IN_RECURSION="29125,1693"
    PERLDOC="-MPod::Perldoc::ToTextOverstrike"
    PERL_BATCH="yes"
    PERL_CANARY_STABILITY_NOPROMPT="1"
    PERL_CPAN_REPORTER_CONFIG="/var/tmp/cpansmoker-1023/2018030103/cpanreporter_000_config.ini"
    PERL_EXTUTILS_AUTOINSTALL="--defaultdeps"
    PERL_USE_UNSAFE_INC="1"
  @INC:
    /opt/perl-5.22.2/lib/site_perl/5.22.2/x86_64-linux
    /opt/perl-5.22.2/lib/site_perl/5.22.2
    /opt/perl-5.22.2/lib/5.22.2/x86_64-linux
    /opt/perl-5.22.2/lib/5.22.2
    .