Report for Test-Differences-0.62

Back
From: metabase:user:9762ed18-1c33-11e1-8beb-fb37bdc4c604
Subject: PASS Test-Differences-0.62 v5.19.11 GNU/Linux
Date: 2014-06-28T10:24:00Z

This distribution has been tested as part of the CPAN Testers
project, supporting the Perl programming language.  See
http://wiki.cpantesters.org/ for more information or email
questions to cpan-testers-discuss@perl.org


--
Dear David Cantrell,

This is a computer-generated report for Test-Differences-0.62
on perl 5.19.11, created by CPAN-Reporter-1.2011.

Thank you for uploading your work to CPAN.  Congratulations!
All tests were successful.

Sections of this report:

    * Tester comments
    * Program output
    * Prerequisites
    * Environment and other context

------------------------------
TESTER COMMENTS
------------------------------

Additional comments from tester:

none provided

------------------------------
PROGRAM OUTPUT
------------------------------

Output from './Build test':

# Testing Test::Differences 0.62, Perl 5.019011, /home/kevin/perl5/perlbrew/perls/perl-5.19.11/bin/perl5.19.11
t/00-load.t ......... ok
t/boilerplate.t ..... ok
t/column-headers.t .. ok
t/diff_styles.t ..... ok
t/example.t ......... ok
t/flatten.t ......... ok
t/pass.t ............ ok
t/pod-coverage.t .... ok
t/pod.t ............. ok
t/regression.t ...... ok
t/struct.t .......... ok
# This test misuses TODO: these TODOs are actually real tests.
t/test.t ............ ok
t/text_vs_data.t .... ok
t/undef.t ........... ok
All tests successful.
Files=14, Tests=47,  3 wallclock secs ( 0.17 usr  0.04 sys +  2.12 cusr  0.16 csys =  2.49 CPU)
Result: PASS

------------------------------
PREREQUISITES
------------------------------

Prerequisite modules loaded:

requires:

    Module              Need  Have    
    ------------------- ----- --------
    Capture::Tiny       0.24  0.24    
    Data::Dumper        2.126 2.151   
    Test::More          0     1.001003
    Text::Diff          0.35  1.41    

configure_requires:

    Module              Need  Have    
    ------------------- ----- --------
    ExtUtils::MakeMaker 0     6.98    


------------------------------
ENVIRONMENT AND OTHER CONTEXT
------------------------------

Environment variables:

    LANG = en_GB.UTF-8
    LANGUAGE = en_GB:en
    LC_COLLATE = en_GB.UTF-8
    LC_CTYPE = en_GB.UTF-8
    LC_MESSAGES = en_GB.UTF-8
    LC_TIME = en_DK.utf8
    PATH = /home/kevin/perl5/perlbrew/bin:/home/kevin/perl5/perlbrew/perls/perl-5.19.11/bin:/home/kevin/perl5/perlbrew/bin:/home/kevin/perl5/perlbrew/perls/perl-5.8.4/bin:/home/kevin/bin:/usr/local/sbin:/usr/local/bin:/usr/sbin:/usr/bin:/sbin:/bin:/usr/games:/usr/local/games
    PERL5LIB = 
    PERL5OPT = 
    PERL5_CPANPLUS_IS_RUNNING = 18486
    PERL5_CPAN_IS_RUNNING = 18486
    PERLBREW_BASHRC_VERSION = 0.61
    PERLBREW_HOME = /home/kevin/.perlbrew
    PERLBREW_MANPATH = /home/kevin/perl5/perlbrew/perls/perl-5.19.11/man
    PERLBREW_PATH = /home/kevin/perl5/perlbrew/bin:/home/kevin/perl5/perlbrew/perls/perl-5.19.11/bin
    PERLBREW_PERL = perl-5.19.11
    PERLBREW_ROOT = /home/kevin/perl5/perlbrew
    PERLBREW_VERSION = 0.61
    SHELL = /bin/bash
    TERM = screen

Perl special variables (and OS-specific diagnostics, for MSWin32):

    $^X = /home/kevin/perl5/perlbrew/perls/perl-5.19.11/bin/perl5.19.11
    $UID/$EUID = 1001 / 1001
    $GID = 1001 4 20 21 24 25 26 29 30 39 40 44 46 104 105 112 119 122 132 1000 1001
    $EGID = 1001 4 20 21 24 25 26 29 30 39 40 44 46 104 105 112 119 122 132 1000 1001

Perl module toolchain versions installed:

    Module              Have    
    ------------------- --------
    CPAN                2.05    
    CPAN::Meta          2.141520
    Cwd                 3.47    
    ExtUtils::CBuilder  0.280216
    ExtUtils::Command   1.18    
    ExtUtils::Install   1.68    
    ExtUtils::MakeMaker 6.98    
    ExtUtils::Manifest  1.63    
    ExtUtils::ParseXS   3.24    
    File::Spec          3.47    
    JSON                2.90    
    JSON::PP            2.27203 
    Module::Build       0.4205  
    Module::Signature   n/a     
    Parse::CPAN::Meta   1.4414  
    Test::Harness       3.30    
    Test::More          1.001003
    YAML                0.90    
    YAML::Syck          n/a     
    version             0.9908  


--

Summary of my perl5 (revision 5 version 19 subversion 11) configuration:
   
  Platform:
    osname=linux, osvers=3.8.0-35-generic, archname=i686-linux-thread-multi
    uname='linux vinny 3.8.0-35-generic #50-ubuntu smp tue dec 3 01:25:33 utc 2013 i686 i686 i686 gnulinux '
    config_args='-de -Dprefix=/home/kevin/perl5/perlbrew/perls/perl-5.19.11 -Dusethreads -Dusedevel -Aeval:scriptdir=/home/kevin/perl5/perlbrew/perls/perl-5.19.11/bin'
    hint=recommended, useposix=true, d_sigaction=define
    useithreads=define, usemultiplicity=define
    use64bitint=undef, use64bitall=undef, uselongdouble=undef
    usemymalloc=n, bincompat5005=undef
  Compiler:
    cc='cc', ccflags ='-D_REENTRANT -D_GNU_SOURCE -fwrapv -fno-strict-aliasing -pipe -fstack-protector -I/usr/local/include -D_LARGEFILE_SOURCE -D_FILE_OFFSET_BITS=64',
    optimize='-O2',
    cppflags='-D_REENTRANT -D_GNU_SOURCE -fwrapv -fno-strict-aliasing -pipe -fstack-protector -I/usr/local/include'
    ccversion='', gccversion='4.7.3', gccosandvers=''
    intsize=4, longsize=4, ptrsize=4, doublesize=8, byteorder=1234
    d_longlong=define, longlongsize=8, d_longdbl=define, longdblsize=12
    ivtype='long', ivsize=4, nvtype='double', nvsize=8, Off_t='off_t', lseeksize=8
    alignbytes=4, prototype=define
  Linker and Libraries:
    ld='cc', ldflags =' -fstack-protector -L/usr/local/lib'
    libpth=/usr/local/lib /usr/lib/gcc/i686-linux-gnu/4.7/include-fixed /usr/include/i386-linux-gnu /usr/lib /lib/i386-linux-gnu /lib/../lib /usr/lib/i386-linux-gnu /usr/lib/../lib /lib
    libs=-lnsl -ldl -lm -lcrypt -lutil -lpthread -lc
    perllibs=-lnsl -ldl -lm -lcrypt -lutil -lpthread -lc
    libc=libc-2.17.so, so=so, useshrplib=false, libperl=libperl.a
    gnulibc_version='2.17'
  Dynamic Linking:
    dlsrc=dl_dlopen.xs, dlext=so, d_dlsymun=undef, ccdlflags='-Wl,-E'
    cccdlflags='-fPIC', lddlflags='-shared -O2 -L/usr/local/lib -fstack-protector'


Characteristics of this binary (from libperl): 
  Compile-time options: HAS_TIMES MULTIPLICITY PERLIO_LAYERS
                        PERL_DONT_CREATE_GVSV
                        PERL_HASH_FUNC_ONE_AT_A_TIME_HARD
                        PERL_IMPLICIT_CONTEXT PERL_MALLOC_WRAP
                        PERL_NEW_COPY_ON_WRITE PERL_PRESERVE_IVUV
                        PERL_USE_DEVEL USE_ITHREADS USE_LARGE_FILES
                        USE_LOCALE USE_LOCALE_COLLATE USE_LOCALE_CTYPE
                        USE_LOCALE_NUMERIC USE_PERLIO USE_PERL_ATOF
                        USE_REENTRANT_API
  Built under linux
  Compiled at May  4 2014 23:57:22
  %ENV:
    PERL5LIB=""
    PERL5OPT=""
    PERL5_CPANPLUS_IS_RUNNING="18486"
    PERL5_CPAN_IS_RUNNING="18486"
    PERLBREW_BASHRC_VERSION="0.61"
    PERLBREW_HOME="/home/kevin/.perlbrew"
    PERLBREW_MANPATH="/home/kevin/perl5/perlbrew/perls/perl-5.19.11/man"
    PERLBREW_PATH="/home/kevin/perl5/perlbrew/bin:/home/kevin/perl5/perlbrew/perls/perl-5.19.11/bin"
    PERLBREW_PERL="perl-5.19.11"
    PERLBREW_ROOT="/home/kevin/perl5/perlbrew"
    PERLBREW_VERSION="0.61"
  @INC:
    /home/kevin/perl5/perlbrew/perls/perl-5.19.11/lib/site_perl/5.19.11/i686-linux-thread-multi
    /home/kevin/perl5/perlbrew/perls/perl-5.19.11/lib/site_perl/5.19.11
    /home/kevin/perl5/perlbrew/perls/perl-5.19.11/lib/5.19.11/i686-linux-thread-multi
    /home/kevin/perl5/perlbrew/perls/perl-5.19.11/lib/5.19.11
    .