Report for App-Dochazka-CLI-0.237

Back
From: metabase:user:320bfe00-2aae-11df-837a-5e0a49663a4f
Subject: PASS App-Dochazka-CLI-0.237 v5.25.3 GNU/Linux
Date: 2016-09-04T23:21:34Z

This distribution has been tested as part of the CPAN Testers
project, supporting the Perl programming language.  See
http://wiki.cpantesters.org/ for more information or email
questions to cpan-testers-discuss@perl.org


--
Dear Nathan Cutler,

This is a computer-generated report for App-Dochazka-CLI-0.237
on perl 5.25.3, created by CPAN-Reporter-1.2018.

Thank you for uploading your work to CPAN.  Congratulations!
All tests were successful.

Sections of this report:

    * Tester comments
    * Program output
    * Prerequisites
    * Environment and other context

------------------------------
TESTER COMMENTS
------------------------------

Additional comments from tester:

this report is from an automated smoke testing program
and was not reviewed by a human for accuracy

------------------------------
PROGRAM OUTPUT
------------------------------

Output from './Build test':

t/001-init.t ................. skipped: Can't connect to server
t/cmd_active/activity.t ...... skipped: Can't connect to server
t/cmd_active/employee.t ...... skipped: Can't connect to server
t/cmd_active/interval.t ...... skipped: Can't connect to server
t/cmd_admin/activity.t ....... skipped: Can't connect to server
t/cmd_admin/employee-utf8.t .. skipped: Can't connect to server
t/cmd_admin/employee.t ....... skipped: Can't connect to server
t/cmd_admin/history.t ........ skipped: Can't connect to server
t/cmd_inactive/activity.t .... skipped: Can't connect to server
t/cmd_inactive/employee.t .... skipped: Can't connect to server
t/cmd_passerby/activity.t .... skipped: Can't connect to server
t/cmd_passerby/employee.t .... skipped: Can't connect to server
t/cmd_passerby/schedule.t .... skipped: Can't connect to server
t/parser/completion.t ........ ok
t/parser/parse_test.t ........ ok
t/parser/possible_words.t .... ok
t/parser/rest_test.t ......... ok
t/parser/semantic_tree.t ..... ok
t/util/auth.t ................ skipped: Can't connect to server
t/util/datelist.t ............ ok
t/util/determine_employee.t .. skipped: Can't connect to server
t/util/truncate.t ............ ok
t/util/ts.t .................. ok
All tests successful.
Files=23, Tests=1863, 12 wallclock secs ( 0.20 usr  0.05 sys +  7.36 cusr  0.70 csys =  8.31 CPU)
Result: PASS

------------------------------
PREREQUISITES
------------------------------

Prerequisite modules loaded:

requires:

    Module                Need  Have    
    --------------------- ----- --------
    App::CELL             0.209 0.220   
    App::Dochazka::Common 0.199 0.204   
    Date::Calc            0     6.4     
    File::HomeDir         0     1.00    
    File::ShareDir        1.00  1.102   
    File::Slurp           0     9999.19 
    File::Temp            0     0.2304  
    Getopt::Long          2.32  2.49    
    HTTP::Cookies         0     6.01    
    HTTP::Request         0     6.11    
    JSON                  0     2.90    
    LWP::UserAgent        0     6.15    
    Params::Validate      1.06  1.24    
    perl                  5.012 5.025003
    Term::ReadKey         0     2.33    
  ! Term::ReadLine::Gnu   0     n/a     
    Text::Table           0     1.131   
    Web::MREST::CLI       0.281 0.283   

build_requires:

    Module                Need  Have    
    --------------------- ----- --------
    App::CELL             0.209 0.220   
    App::Dochazka::Common 0.199 0.204   
    Date::Calc            0     6.4     
    Params::Validate      1.06  1.24    
    Test::Deep            0     1.120   
    Test::Fatal           0     0.014   
    Test::Warnings        0     0.026   
    Web::MREST::CLI       0.28  0.283   

configure_requires:

    Module                Need  Have    
    --------------------- ----- --------
    Module::Build         0.37  0.4220  
    Software::License     0     0.103012


------------------------------
ENVIRONMENT AND OTHER CONTEXT
------------------------------

Environment variables:

    AUTOMATED_TESTING = 1
    LANG = en_US.UTF-8
    LANGUAGE = en_US:en
    PATH = /home/sand/bin:/usr/local/bin:/usr/bin:/bin:/usr/games:/usr/local/perl/bin:/usr/X11/bin:/sbin:/usr/sbin
    PERL5LIB = 
    PERL5OPT = 
    PERL5_CPANPLUS_IS_RUNNING = 31569
    PERL5_CPAN_IS_RUNNING = 31569
    PERL_CANARY_STABILITY_NOPROMPT = 1
    PERL_MM_USE_DEFAULT = 1
    SHELL = /usr/bin/zsh
    TERM = screen

Perl special variables (and OS-specific diagnostics, for MSWin32):

    $^X = /home/sand/src/perl/repoperls/installed-perls/perl/v5.25.3/79cc/bin/perl
    $UID/$EUID = 1005 / 1005
    $GID = 1005 1005
    $EGID = 1005 1005

Perl module toolchain versions installed:

    Module              Have    
    ------------------- --------
    CPAN                2.15    
    CPAN::Meta          2.150010
    Cwd                 3.64    
    ExtUtils::CBuilder  0.280225
    ExtUtils::Command   7.24    
    ExtUtils::Install   2.04    
    ExtUtils::MakeMaker 7.24    
    ExtUtils::Manifest  1.70    
    ExtUtils::ParseXS   3.33    
    File::Spec          3.64    
    JSON                2.90    
    JSON::PP            2.27400 
    Module::Build       0.4220  
    Module::Signature   0.80    
    Parse::CPAN::Meta   2.150010
    Test::Harness       3.36    
    Test::More          1.302052
    YAML                1.18    
    YAML::Syck          1.29    
    version             0.9917  


--

Summary of my perl5 (revision 5 version 25 subversion 3) configuration:
  Commit id: c137098022dcef5e7ea32608e5299276efea6457
  Platform:
    osname=linux
    osvers=4.7.0-1-amd64
    archname=x86_64-linux
    uname='linux k83 4.7.0-1-amd64 #1 smp debian 4.7.2-1 (2016-08-28) x86_64 gnulinux '
    config_args='-Dprefix=/home/sand/src/perl/repoperls/installed-perls/perl/v5.25.3/79cc -Dmyhostname=k83 -Dinstallusrbinperl=n -Uversiononly -Dusedevel -des -Ui_db -Dlibswanted=cl pthread socket inet nsl gdbm dbm malloc dl ld sun m crypt sec util c cposix posix ucb BSD gdbm_compat -Uuseithreads -Uuselongdouble -DDEBUGGING=-g'
    hint=recommended
    useposix=true
    d_sigaction=define
    useithreads=undef
    usemultiplicity=undef
    use64bitint=define
    use64bitall=define
    uselongdouble=undef
    usemymalloc=n
    bincompat5005=undef
  Compiler:
    cc='cc'
    ccflags ='-fwrapv -fno-strict-aliasing -pipe -fstack-protector-strong -I/usr/local/include -D_LARGEFILE_SOURCE -D_FILE_OFFSET_BITS=64'
    optimize='-O2 -g'
    cppflags='-fwrapv -fno-strict-aliasing -pipe -fstack-protector-strong -I/usr/local/include'
    ccversion=''
    gccversion='6.2.0 20160830'
    gccosandvers=''
    intsize=4
    longsize=8
    ptrsize=8
    doublesize=8
    byteorder=12345678
    doublekind=3
    d_longlong=define
    longlongsize=8
    d_longdbl=define
    longdblsize=16
    longdblkind=3
    ivtype='long'
    ivsize=8
    nvtype='double'
    nvsize=8
    Off_t='off_t'
    lseeksize=8
    alignbytes=8
    prototype=define
  Linker and Libraries:
    ld='cc'
    ldflags =' -fstack-protector-strong -L/usr/local/lib'
    libpth=/usr/local/lib /usr/lib/gcc/x86_64-linux-gnu/6/include-fixed /usr/include/x86_64-linux-gnu /usr/lib /lib/x86_64-linux-gnu /lib/../lib /usr/lib/x86_64-linux-gnu /usr/lib/../lib /lib
    libs=-lpthread -lnsl -lgdbm -ldl -lm -lcrypt -lutil -lc -lgdbm_compat
    perllibs=-lpthread -lnsl -ldl -lm -lcrypt -lutil -lc
    libc=libc-2.24.so
    so=so
    useshrplib=false
    libperl=libperl.a
    gnulibc_version='2.24'
  Dynamic Linking:
    dlsrc=dl_dlopen.xs
    dlext=so
    d_dlsymun=undef
    ccdlflags='-Wl,-E'
    cccdlflags='-fPIC'
    lddlflags='-shared -O2 -g -L/usr/local/lib -fstack-protector-strong'


Characteristics of this binary (from libperl): 
  Compile-time options:
    HAS_TIMES
    PERLIO_LAYERS
    PERL_COPY_ON_WRITE
    PERL_DONT_CREATE_GVSV
    PERL_HASH_FUNC_ONE_AT_A_TIME_HARD
    PERL_MALLOC_WRAP
    PERL_OP_PARENT
    PERL_PRESERVE_IVUV
    PERL_USE_DEVEL
    USE_64_BIT_ALL
    USE_64_BIT_INT
    USE_LARGE_FILES
    USE_LOCALE
    USE_LOCALE_COLLATE
    USE_LOCALE_CTYPE
    USE_LOCALE_NUMERIC
    USE_LOCALE_TIME
    USE_PERLIO
    USE_PERL_ATOF
  Built under linux
  Compiled at Sep  4 2016 18:50:30
  %ENV:
    PERL5LIB=""
    PERL5OPT=""
    PERL5_CPANPLUS_IS_RUNNING="31569"
    PERL5_CPAN_IS_RUNNING="31569"
    PERL_CANARY_STABILITY_NOPROMPT="1"
    PERL_MM_USE_DEFAULT="1"
  @INC:
    /home/sand/src/perl/repoperls/installed-perls/perl/v5.25.3/79cc/lib/site_perl/5.25.3/x86_64-linux
    /home/sand/src/perl/repoperls/installed-perls/perl/v5.25.3/79cc/lib/site_perl/5.25.3
    /home/sand/src/perl/repoperls/installed-perls/perl/v5.25.3/79cc/lib/5.25.3/x86_64-linux
    /home/sand/src/perl/repoperls/installed-perls/perl/v5.25.3/79cc/lib/5.25.3
    .