Report for Mastodon-Client-0.012

Back
From: metabase:user:314402c4-2aae-11df-837a-5e0a49663a4f
Subject: PASS Mastodon-Client-0.012 v5.10.1 FreeBSD
Date: 2017-06-09T12:36:55Z

This distribution has been tested as part of the CPAN Testers
project, supporting the Perl programming language.  See
http://wiki.cpantesters.org/ for more information or email
questions to cpan-testers-discuss@perl.org


--
Dear Jose Joaquin Atria,

This is a computer-generated report for Mastodon-Client-0.012
on perl 5.10.1, created by CPAN-Reporter-1.2018.

Thank you for uploading your work to CPAN.  Congratulations!
All tests were successful.

Sections of this report:

    * Tester comments
    * Program output
    * Prerequisites
    * Environment and other context

------------------------------
TESTER COMMENTS
------------------------------

Additional comments from tester:

none provided

------------------------------
PROGRAM OUTPUT
------------------------------

Output from '/usr/bin/make test':

PERL_DL_NONLAZY=1 "/usr/perl5.10.1/bin/perl" "-MExtUtils::Command::MM" "-MTest::Harness" "-e" "undef *Test::Harness::Switches; test_harness(0, 'blib/lib', 'blib/arch')" t/*.t
t/00_basic.t ............ ok
t/01_entities.t ......... ok
t/02_entity_coercion.t .. ok
t/05_authorize.t ........ ok
t/10_tcp.t .............. ok
t/author-pod-syntax.t ... skipped: these tests are for testing by the author
All tests successful.
Files=6, Tests=168, 37 wallclock secs ( 0.45 usr  0.21 sys + 27.27 cusr  6.52 csys = 34.45 CPU)
Result: PASS

------------------------------
PREREQUISITES
------------------------------

Prerequisite modules loaded:

requires:

    Module                      Need     Have    
    --------------------------- -------- --------
    AnyEvent                    7.13     7.13    
    AnyEvent::Emitter           0.02     0.02    
    AnyEvent::HTTP              2.23     2.23    
    Carp                        0        1.38    
    Class::Load                 0        0.24    
    Data::Dumper                0        2.161   
    DateTime                    1.42     1.43    
    DateTime::Format::Strptime  1.73     1.73    
    Encode                      0        2.89    
    HTTP::Request::Common       0        6.11    
    Image::Info                 0        1.40    
    JSON::MaybeXS               1.003009 1.003009
    List::Util                  1.47     1.47    
    Log::Any                    1.049    1.049   
    LWP::UserAgent              6.25     6.26    
    MIME::Base64                0        3.15    
    Moo                         2.003002 2.003002
    Moo::Role                   0        2.003002
    Path::Tiny                  0        0.104   
    perl                        5.010    5.010001
    strict                      0        1.04    
    Try::Tiny                   0.28     0.28    
    Type::Library               0        1.000006
    Type::Params                1.000006 1.000006
    Type::Utils                 0        1.000006
    Types::Common::String       1.000006 1.000006
    Types::Path::Tiny           0.005    0.005   
    Types::Standard             1.000006 1.000006
    URI                         1.71     1.71    
    URI::QueryParam             0        1.71    
    warnings                    0        1.06    

build_requires:

    Module                      Need     Have    
    --------------------------- -------- --------
    AnyEvent                    7.13     7.13    
    Config::Tiny                0        2.23    
    diagnostics                 0        1.17    
    ExtUtils::MakeMaker         0        7.24    
    HTML::FormatText::WithLinks 0        0.15    
    lib                         0        0.62    
    Lingua::EN::Inflexion       0        0.001001
    Log::Any::Adapter           0        1.049   
    parent                      0        0.236   
    Plack                       1.0043   1.0043  
    Plack::Component            0        0       
    Plack::Runner               0        0       
    Plack::Util                 0        0       
    Term::ANSIColor             0        4.05    
    Test::Exception             0.043    0.43    
    Test::More                  1.302078 1.302085
    Test::Pod                   1.51     1.51    
    Test::TCP                   2.17     2.19    
    Test::Warnings              0.026    0.026   

configure_requires:

    Module                      Need     Have    
    --------------------------- -------- --------
    ExtUtils::MakeMaker         0        7.24    
    perl                        v5.10.0  5.010001


------------------------------
ENVIRONMENT AND OTHER CONTEXT
------------------------------

Environment variables:

    LC_ALL = de_DE.ISO8859-1
    PATH = /usr/local/bin:/usr/bin:/bin:/usr/local/sbin:/usr/sbin:/sbin:/home/cpansand/bin/freebsd9.3:/home/cpansand/bin/sh:/home/cpansand/bin:/usr/games:/home/cpansand/devel:/usr/home/eserte/src/srezic-misc/scripts
    PERL5LIB = /home/eserte/.cpan/build/2017060912/Perinci-CmdLine-Easy-1.18-2/blib/arch:/home/eserte/.cpan/build/2017060912/Perinci-CmdLine-Easy-1.18-2/blib/lib:/home/eserte/.cpan/build/2017060912/App-PMUtils-0.68-3/blib/arch:/home/eserte/.cpan/build/2017060912/App-PMUtils-0.68-3/blib/lib:/home/eserte/.cpan/build/2017060912/Module-CheckVersion-0.08-3/blib/arch:/home/eserte/.cpan/build/2017060912/Module-CheckVersion-0.08-3/blib/lib:/home/eserte/.cpan/build/2017060912/CPAN-Info-FromURL-0.08-3/blib/arch:/home/eserte/.cpan/build/2017060912/CPAN-Info-FromURL-0.08-3/blib/lib:/home/eserte/.cpan/build/2017060912/Crypt-EECDH-1.004-4/blib/arch:/home/eserte/.cpan/build/2017060912/Crypt-EECDH-1.004-4/blib/lib
    PERL5OPT = 
    PERL5_CPANPLUS_IS_RUNNING = 73768
    PERL5_CPAN_IS_RUNNING = 73768
    PERL5_CPAN_IS_RUNNING_IN_RECURSION = 73716,73768
    PERLDOC = -MPod::Perldoc::ToTextOverstrike
    PERL_BATCH = yes
    PERL_CANARY_STABILITY_NOPROMPT = 1
    PERL_CPAN_REPORTER_CONFIG = /var/tmp/cpansmoker-1023/2017060912/cpanreporter_000_config.ini
    PERL_EXTUTILS_AUTOINSTALL = --defaultdeps
    SHELL = /usr/local/bin/zsh
    TERM = screen
    TMPDIR = /var/tmp/cpansmoker-1023/2017060912

Perl special variables (and OS-specific diagnostics, for MSWin32):

    $^X = /usr/perl5.10.1/bin/perl
    $UID/$EUID = 1023 / 1023
    $GID = 1023 1023
    $EGID = 1023 1023

Perl module toolchain versions installed:

    Module              Have    
    ------------------- --------
    CPAN                2.16    
    CPAN::Meta          2.150010
    Cwd                 3.62    
    ExtUtils::CBuilder  0.280224
    ExtUtils::Command   7.24    
    ExtUtils::Install   2.12    
    ExtUtils::MakeMaker 7.24    
    ExtUtils::Manifest  1.70    
    ExtUtils::ParseXS   3.30    
    File::Spec          3.62    
    JSON                2.93    
    JSON::PP            2.27400 
    Module::Build       0.4224  
    Module::Signature   0.79    
    Parse::CPAN::Meta   2.150010
    Test::Harness       3.39    
    Test::More          1.302085
    YAML                1.23    
    YAML::Syck          1.30    
    version             0.9918  


--

Summary of my perl5 (revision 5 version 10 subversion 1) configuration:
   
  Platform:
    osname=freebsd, osvers=9.2-release-p4, archname=amd64-freebsd
    uname='freebsd cvrsnica-freebsd-92 9.2-release-p4 freebsd 9.2-release-p4 #0: tue apr 8 18:08:22 utc 2014 root@amd64-builder.daemonology.net:usrobjusrsrcsysgeneric amd64 '
    config_args='-ds -e -Dprefix=/usr/perl5.10.1'
    hint=recommended, useposix=true, d_sigaction=define
    useithreads=undef, usemultiplicity=undef
    useperlio=define, d_sfio=undef, uselargefiles=define, usesocks=undef
    use64bitint=define, use64bitall=define, uselongdouble=undef
    usemymalloc=n, bincompat5005=undef
  Compiler:
    cc='cc', ccflags ='-DHAS_FPSETMASK -DHAS_FLOATINGPOINT_H -fno-strict-aliasing -pipe -fstack-protector -I/usr/local/include',
    optimize='-O',
    cppflags='-DHAS_FPSETMASK -DHAS_FLOATINGPOINT_H -fno-strict-aliasing -pipe -fstack-protector -I/usr/local/include'
    ccversion='', gccversion='4.2.1 20070831 patched [FreeBSD]', gccosandvers=''
    intsize=4, longsize=8, ptrsize=8, doublesize=8, byteorder=12345678
    d_longlong=define, longlongsize=8, d_longdbl=define, longdblsize=16
    ivtype='long', ivsize=8, nvtype='double', nvsize=8, Off_t='off_t', lseeksize=8
    alignbytes=8, prototype=define
  Linker and Libraries:
    ld='cc', ldflags ='-Wl,-E  -fstack-protector -L/usr/local/lib'
    libpth=/usr/lib /usr/local/lib
    libs=-lgdbm -lm -lcrypt -lutil -lc
    perllibs=-lm -lcrypt -lutil -lc
    libc=, so=so, useshrplib=false, libperl=libperl.a
    gnulibc_version=''
  Dynamic Linking:
    dlsrc=dl_dlopen.xs, dlext=so, d_dlsymun=undef, ccdlflags=' '
    cccdlflags='-DPIC -fPIC', lddlflags='-shared  -L/usr/local/lib -fstack-protector'


Characteristics of this binary (from libperl): 
  Compile-time options: PERL_DONT_CREATE_GVSV PERL_MALLOC_WRAP USE_64_BIT_ALL
                        USE_64_BIT_INT USE_LARGE_FILES USE_PERLIO
  Built under freebsd
  Compiled at May 15 2014 23:30:26
  %ENV:
    PERL5LIB="/home/eserte/.cpan/build/2017060912/Perinci-CmdLine-Easy-1.18-2/blib/arch:/home/eserte/.cpan/build/2017060912/Perinci-CmdLine-Easy-1.18-2/blib/lib:/home/eserte/.cpan/build/2017060912/App-PMUtils-0.68-3/blib/arch:/home/eserte/.cpan/build/2017060912/App-PMUtils-0.68-3/blib/lib:/home/eserte/.cpan/build/2017060912/Module-CheckVersion-0.08-3/blib/arch:/home/eserte/.cpan/build/2017060912/Module-CheckVersion-0.08-3/blib/lib:/home/eserte/.cpan/build/2017060912/CPAN-Info-FromURL-0.08-3/blib/arch:/home/eserte/.cpan/build/2017060912/CPAN-Info-FromURL-0.08-3/blib/lib:/home/eserte/.cpan/build/2017060912/Crypt-EECDH-1.004-4/blib/arch:/home/eserte/.cpan/build/2017060912/Crypt-EECDH-1.004-4/blib/lib"
    PERL5OPT=""
    PERL5_CPANPLUS_IS_RUNNING="73768"
    PERL5_CPAN_IS_RUNNING="73768"
    PERL5_CPAN_IS_RUNNING_IN_RECURSION="73716,73768"
    PERLDOC="-MPod::Perldoc::ToTextOverstrike"
    PERL_BATCH="yes"
    PERL_CANARY_STABILITY_NOPROMPT="1"
    PERL_CPAN_REPORTER_CONFIG="/var/tmp/cpansmoker-1023/2017060912/cpanreporter_000_config.ini"
    PERL_EXTUTILS_AUTOINSTALL="--defaultdeps"
  @INC:
    /home/eserte/.cpan/build/2017060912/Perinci-CmdLine-Easy-1.18-2/blib/arch
    /home/eserte/.cpan/build/2017060912/Perinci-CmdLine-Easy-1.18-2/blib/lib
    /home/eserte/.cpan/build/2017060912/App-PMUtils-0.68-3/blib/arch
    /home/eserte/.cpan/build/2017060912/App-PMUtils-0.68-3/blib/lib
    /home/eserte/.cpan/build/2017060912/Module-CheckVersion-0.08-3/blib/arch
    /home/eserte/.cpan/build/2017060912/Module-CheckVersion-0.08-3/blib/lib
    /home/eserte/.cpan/build/2017060912/CPAN-Info-FromURL-0.08-3/blib/arch
    /home/eserte/.cpan/build/2017060912/CPAN-Info-FromURL-0.08-3/blib/lib
    /home/eserte/.cpan/build/2017060912/Crypt-EECDH-1.004-4/blib/arch
    /home/eserte/.cpan/build/2017060912/Crypt-EECDH-1.004-4/blib/lib
    /usr/perl5.10.1/lib/5.10.1/amd64-freebsd
    /usr/perl5.10.1/lib/5.10.1
    /usr/perl5.10.1/lib/site_perl/5.10.1/amd64-freebsd
    /usr/perl5.10.1/lib/site_perl/5.10.1
    .