Lingua-Identify-CLD v0.10 Perl 5 v5.12.1 armv6l-linux-thread-multi

Status
Pass
From
Nigel Horne
Dist
Lingua-Identify-CLD v0.10
Platform
Perl 5 v5.12.1 armv6l-linux-thread-multi
Date
2019-07-26 07:16:43
ID
5262662a-af75-11e9-9f15-f392782a880d
This distribution has been tested as part of the CPAN Testers
project, supporting the Perl programming language.  See
http://wiki.cpantesters.org/ for more information or email
questions to cpan-testers-discuss@perl.org


--
Dear Alberto Manuel Brandao Simoes,

This is a computer-generated report for Lingua-Identify-CLD-0.10
on perl 5.12.1, created by CPAN-Reporter-1.2018.

Thank you for uploading your work to CPAN.  Congratulations!
All tests were successful.

Sections of this report:

    * Tester comments
    * Program output
    * Prerequisites
    * Environment and other context

------------------------------
TESTER COMMENTS
------------------------------

Additional comments from tester:

this report is from an automated smoke testing program
and was not reviewed by a human for accuracy

------------------------------
PROGRAM OUTPUT
------------------------------

Output from './Build test':

cc -I/home/njh/perl5/perlbrew/perls/perl-5.12.1/lib/5.12.1/armv6l-linux-thread-multi/CORE -fPIC -c -D_REENTRANT -D_GNU_SOURCE -Os -W -Wformat=2 -Wswitch -Wshadow -Wwrite-strings -Wuninitialized -Wall -pipe -fomit-frame-pointer -pedantic -D_FORTIFY_SOURCE=2 -Wpointer-arith -Wstrict-prototypes -fstack-protector -Wstack-protector -Wextra -Wbad-function-cast -Wcast-align -Wcast-qual -Wdisabled-optimization -Wendif-labels -Wfloat-equal -Wformat-nonliteral -Winline -Wmissing-declarations -Wmissing-prototypes -Wnested-externs -Wpointer-arith -Wundef -Wformat-security -fno-strict-aliasing -I/usr/local/include -D_LARGEFILE_SOURCE -D_FILE_OFFSET_BITS=64 -O2 -o /tmp/user/1000/testwrapper.18000/5mWSqVweTF/library.o /tmp/user/1000/testwrapper.18000/5mWSqVweTF/library.c
/tmp/user/1000/testwrapper.18000/5mWSqVweTF/library.c:1:7: warning: no previous prototype for ‘answer’ [-Wmissing-prototypes]
   int answer(void) {
       ^~~~~~
cc -I/home/njh/perl5/perlbrew/perls/perl-5.12.1/lib/5.12.1/armv6l-linux-thread-multi/CORE -fPIC -c -D_REENTRANT -D_GNU_SOURCE -Os -W -Wformat=2 -Wswitch -Wshadow -Wwrite-strings -Wuninitialized -Wall -pipe -fomit-frame-pointer -pedantic -D_FORTIFY_SOURCE=2 -Wpointer-arith -Wstrict-prototypes -fstack-protector -Wstack-protector -Wextra -Wbad-function-cast -Wcast-align -Wcast-qual -Wdisabled-optimization -Wendif-labels -Wfloat-equal -Wformat-nonliteral -Winline -Wmissing-declarations -Wmissing-prototypes -Wnested-externs -Wpointer-arith -Wundef -Wformat-security -fno-strict-aliasing -I/usr/local/include -D_LARGEFILE_SOURCE -D_FILE_OFFSET_BITS=64 -O2 -o /tmp/user/1000/testwrapper.18000/5mWSqVweTF/test.o /tmp/user/1000/testwrapper.18000/5mWSqVweTF/test.c
/tmp/user/1000/testwrapper.18000/5mWSqVweTF/test.c:3:5: warning: function declaration isn’t a prototype [-Wstrict-prototypes]
 int main() {
     ^~~~
cc -shared -O2 -L/usr/local/lib -fstack-protector -o /tmp/user/1000/testwrapper.18000/5mWSqVweTF/libfoo.so /tmp/user/1000/testwrapper.18000/5mWSqVweTF/library.o
cc -fstack-protector -L/usr/local/lib -o /tmp/user/1000/testwrapper.18000/5mWSqVweTF/foo /tmp/user/1000/testwrapper.18000/5mWSqVweTF/test.o -L/tmp/user/1000/testwrapper.18000/5mWSqVweTF -lfoo

** Preparing XS code
t/manifest.t ...... skipped: Author tests not required for installation
t/02-html.t ....... ok
# Testing Lingua::Identify::CLD 0.10, Perl 5.012001, /mnt/nas/home/pi2/njh/perl5/perlbrew/perls/perl-5.12.1/bin/perl
t/00-load.t ....... ok
t/01-identify.t ... ok
t/pod-coverage.t .. skipped: Set AUTHOR_TESTS to enable author tests
t/pod.t ........... skipped: Set AUTHOR_TESTS to enable author tests
All tests successful.
Files=6, Tests=27,  3 wallclock secs ( 0.27 usr  0.14 sys +  3.69 cusr  1.03 csys =  5.13 CPU)
Result: PASS

------------------------------
PREREQUISITES
------------------------------

Prerequisite modules loaded:

requires:

    Module               Need  Have    
    -------------------- ----- --------
    perl                 5.008 5.012001
    XSLoader             0.10  0.16    

build_requires:

    Module               Need  Have    
    -------------------- ----- --------
    Config::AutoConf     0.17  0.317   
    ExtUtils::CBuilder   0.27  0.280216
    ExtUtils::LibBuilder 0.04  0.08    
    ExtUtils::ParseXS    0     3.18    
    Test::More           0     1.302136

configure_requires:

    Module               Need  Have    
    -------------------- ----- --------
    Config::AutoConf     0.16  0.317   
    ExtUtils::LibBuilder 0.04  0.08    
    Module::Build        0.38  0.4218  


------------------------------
ENVIRONMENT AND OTHER CONTEXT
------------------------------

Environment variables:

    AUTOMATED_TESTING = 1
    HARNESS_OPTIONS = j4
    LANG = en_GB.UTF-8
    PATH = /home/njh/perl5/perlbrew/bin:/home/njh/perl5/perlbrew/perls/perl-5.12.1/bin:/home/njh/src/njh/smoker/bin:/usr/bin:/bin
    PERL5LIB = /var/tmp/build/ExtUtils-LibBuilder-0.08-1/blib/arch:/var/tmp/build/ExtUtils-LibBuilder-0.08-1/blib/lib:/var/tmp/build/Config-AutoConf-0.317-1/blib/arch:/var/tmp/build/Config-AutoConf-0.317-1/blib/lib:/var/tmp/build/DateTime-Format-ISO8601-0.08-1/blib/arch:/var/tmp/build/DateTime-Format-ISO8601-0.08-1/blib/lib:/var/tmp/build/DateTime-Format-Builder-0.82-1/blib/arch:/var/tmp/build/DateTime-Format-Builder-0.82-1/blib/lib:/var/tmp/build/Data-Cmp-0.006-6/blib/arch:/var/tmp/build/Data-Cmp-0.006-6/blib/lib:/var/tmp/build/Cwalitee-Common-0.002-6/blib/arch:/var/tmp/build/Cwalitee-Common-0.002-6/blib/lib:/var/tmp/build/PERLANCAR-Module-List-0.004003-6/blib/arch:/var/tmp/build/PERLANCAR-Module-List-0.004003-6/blib/lib:/var/tmp/build/Complete-Module-0.260-8/blib/arch:/var/tmp/build/Complete-Module-0.260-8/blib/lib:/var/tmp/build/Filesys-Cap-0.02-8/blib/arch:/var/tmp/build/Filesys-Cap-0.02-8/blib/lib:/var/tmp/build/UUID-Random-0.04-8/blib/arch:/var/tmp/build/UUID-Random-0.04-8/blib/lib:/var/tmp/build/Complete-Path-0.24-8/blib/arch:/var/tmp/build/Complete-Path-0.24-8/blib/lib:/var/tmp/build/Complete-Util-0.602-14/blib/arch:/var/tmp/build/Complete-Util-0.602-14/blib/lib:/var/tmp/build/Log-ger-0.028-15/blib/arch:/var/tmp/build/Log-ger-0.028-15/blib/lib:/var/tmp/build/Complete-Common-0.22-14/blib/arch:/var/tmp/build/Complete-Common-0.22-14/blib/lib:/var/tmp/build/CPAN-Changes-0.400002-6/blib/arch:/var/tmp/build/CPAN-Changes-0.400002-6/blib/lib:/var/tmp/build/version-0.9924-1/blib/arch:/var/tmp/build/version-0.9924-1/blib/lib
    PERL5OPT = 
    PERL5_CPANPLUS_IS_RUNNING = 18015
    PERL5_CPAN_IS_RUNNING = 18015
    PERL5_CPAN_IS_RUNNING_IN_RECURSION = 17972,18015
    PERLBREW_HOME = /home/njh/.perlbrew
    PERLBREW_MANPATH = /home/njh/perl5/perlbrew/perls/perl-5.12.1/man
    PERLBREW_PATH = /home/njh/perl5/perlbrew/bin:/home/njh/perl5/perlbrew/perls/perl-5.12.1/bin
    PERLBREW_PERL = perl-5.12.1
    PERLBREW_ROOT = /home/njh/perl5/perlbrew
    PERLBREW_SHELLRC_VERSION = 0.84
    PERLBREW_VERSION = 0.84
    SHELL = /bin/sh
    TEMP = /tmp/user/1000
    TMPDIR = /tmp/user/1000/testwrapper.18000

Perl special variables (and OS-specific diagnostics, for MSWin32):

    $^X = /mnt/nas/home/pi2/njh/perl5/perlbrew/perls/perl-5.12.1/bin/perl
    $UID/$EUID = 1000 / 1000
    $GID = 1000 4 20 24 25 27 29 30 44 46 60 100 101 108 995 997 998 999 1000
    $EGID = 1000 4 20 24 25 27 29 30 44 46 60 100 101 108 995 997 998 999 1000

Perl module toolchain versions installed:

    Module              Have    
    ------------------- --------
    CPAN                2.16    
    CPAN::Meta          2.150005
    Cwd                 3.47    
    ExtUtils::CBuilder  0.280216
    ExtUtils::Command   7.30    
    ExtUtils::Install   2.06    
    ExtUtils::MakeMaker 7.30    
    ExtUtils::Manifest  1.70    
    ExtUtils::ParseXS   3.18    
    File::Spec          3.47    
    JSON                2.90    
    JSON::PP            2.27400 
    Module::Build       0.4218  
    Module::Signature   0.70    
    Parse::CPAN::Meta   1.4422  
    Test::Harness       3.36    
    Test::More          1.302136
    YAML                1.28    
    YAML::Syck          1.30    
    version             0.9924  


--

Summary of my perl5 (revision 5 version 12 subversion 1) configuration:
   
  Platform:
    osname=linux, osvers=3.2.27+, archname=armv6l-linux-thread-multi
    uname='linux pi 3.2.27+ #250 preempt thu oct 18 19:03:02 bst 2012 armv6l gnulinux '
    config_args='-de -Dprefix=/home/njh/perl5/perlbrew/perls/perl-5.12.1 -Duseithreads -Dusemultiplicity -Accflags=-Os -W -Wformat=2 -Wswitch -Wshadow -Wwrite-strings -Wuninitialized -Wall -pipe -fomit-frame-pointer -pedantic -D_FORTIFY_SOURCE=2 -Wpointer-arith -Wstrict-prototypes -fstack-protector -Wstack-protector -Wextra -Wbad-function-cast -Wcast-align -Wcast-qual -Wdisabled-optimization -Wendif-labels -Wfloat-equal -Wformat-nonliteral -Winline -Wmissing-declarations -Wmissing-prototypes -Wnested-externs -Wpointer-arith -Wundef -Wformat-security -Aeval:scriptdir=/home/njh/perl5/perlbrew/perls/perl-5.12.1/bin'
    hint=recommended, useposix=true, d_sigaction=define
    useithreads=define, usemultiplicity=define
    useperlio=define, d_sfio=undef, uselargefiles=define, usesocks=undef
    use64bitint=undef, use64bitall=undef, uselongdouble=undef
    usemymalloc=n, bincompat5005=undef
  Compiler:
    cc='cc', ccflags ='-D_REENTRANT -D_GNU_SOURCE -Os -W -Wformat=2 -Wswitch -Wshadow -Wwrite-strings -Wuninitialized -Wall -pipe -fomit-frame-pointer -pedantic -D_FORTIFY_SOURCE=2 -Wpointer-arith -Wstrict-prototypes -fstack-protector -Wstack-protector -Wextra -Wbad-function-cast -Wcast-align -Wcast-qual -Wdisabled-optimization -Wendif-labels -Wfloat-equal -Wformat-nonliteral -Winline -Wmissing-declarations -Wmissing-prototypes -Wnested-externs -Wpointer-arith -Wundef -Wformat-security -fno-strict-aliasing -I/usr/local/include -D_LARGEFILE_SOURCE -D_FILE_OFFSET_BITS=64',
    optimize='-O2',
    cppflags='-D_REENTRANT -D_GNU_SOURCE -Os -W -Wformat=2 -Wswitch -Wshadow -Wwrite-strings -Wuninitialized -Wall -pipe -fomit-frame-pointer -pedantic -D_FORTIFY_SOURCE=2 -Wpointer-arith -Wstrict-prototypes -fstack-protector -Wstack-protector -Wextra -Wbad-function-cast -Wcast-align -Wcast-qual -Wdisabled-optimization -Wendif-labels -Wfloat-equal -Wformat-nonliteral -Winline -Wmissing-declarations -Wmissing-prototypes -Wnested-externs -Wpointer-arith -Wundef -Wformat-security -fno-strict-aliasing -I/usr/local/include'
    ccversion='', gccversion='4.6.3', gccosandvers=''
    intsize=4, longsize=4, ptrsize=4, doublesize=8, byteorder=1234
    d_longlong=define, longlongsize=8, d_longdbl=define, longdblsize=8
    ivtype='long', ivsize=4, nvtype='double', nvsize=8, Off_t='off_t', lseeksize=8
    alignbytes=8, prototype=define
  Linker and Libraries:
    ld='cc', ldflags =' -fstack-protector -L/usr/local/lib'
    libpth=/usr/local/lib /lib/arm-linux-gnueabihf /lib /usr/lib/arm-linux-gnueabihf /usr/lib
    libs=-lnsl -lgdbm -ldb -ldl -lm -lcrypt -lutil -lpthread -lc -lgdbm_compat
    perllibs=-lnsl -ldl -lm -lcrypt -lutil -lpthread -lc
    libc=, so=so, useshrplib=false, libperl=libperl.a
    gnulibc_version='2.13'
  Dynamic Linking:
    dlsrc=dl_dlopen.xs, dlext=so, d_dlsymun=undef, ccdlflags='-Wl,-E'
    cccdlflags='-fPIC', lddlflags='-shared -O2 -L/usr/local/lib -fstack-protector'


Characteristics of this binary (from libperl): 
  Compile-time options: MULTIPLICITY PERL_DONT_CREATE_GVSV
                        PERL_IMPLICIT_CONTEXT PERL_MALLOC_WRAP USE_ITHREADS
                        USE_LARGE_FILES USE_PERLIO USE_PERL_ATOF
                        USE_REENTRANT_API
  Built under linux
  Compiled at Feb  6 2013 08:39:18
  %ENV:
    PERL5LIB="/var/tmp/build/ExtUtils-LibBuilder-0.08-1/blib/arch:/var/tmp/build/ExtUtils-LibBuilder-0.08-1/blib/lib:/var/tmp/build/Config-AutoConf-0.317-1/blib/arch:/var/tmp/build/Config-AutoConf-0.317-1/blib/lib:/var/tmp/build/DateTime-Format-ISO8601-0.08-1/blib/arch:/var/tmp/build/DateTime-Format-ISO8601-0.08-1/blib/lib:/var/tmp/build/DateTime-Format-Builder-0.82-1/blib/arch:/var/tmp/build/DateTime-Format-Builder-0.82-1/blib/lib:/var/tmp/build/Data-Cmp-0.006-6/blib/arch:/var/tmp/build/Data-Cmp-0.006-6/blib/lib:/var/tmp/build/Cwalitee-Common-0.002-6/blib/arch:/var/tmp/build/Cwalitee-Common-0.002-6/blib/lib:/var/tmp/build/PERLANCAR-Module-List-0.004003-6/blib/arch:/var/tmp/build/PERLANCAR-Module-List-0.004003-6/blib/lib:/var/tmp/build/Complete-Module-0.260-8/blib/arch:/var/tmp/build/Complete-Module-0.260-8/blib/lib:/var/tmp/build/Filesys-Cap-0.02-8/blib/arch:/var/tmp/build/Filesys-Cap-0.02-8/blib/lib:/var/tmp/build/UUID-Random-0.04-8/blib/arch:/var/tmp/build/UUID-Random-0.04-8/blib/lib:/var/tmp/build/Complete-Path-0.24-8/blib/arch:/var/tmp/build/Complete-Path-0.24-8/blib/lib:/var/tmp/build/Complete-Util-0.602-14/blib/arch:/var/tmp/build/Complete-Util-0.602-14/blib/lib:/var/tmp/build/Log-ger-0.028-15/blib/arch:/var/tmp/build/Log-ger-0.028-15/blib/lib:/var/tmp/build/Complete-Common-0.22-14/blib/arch:/var/tmp/build/Complete-Common-0.22-14/blib/lib:/var/tmp/build/CPAN-Changes-0.400002-6/blib/arch:/var/tmp/build/CPAN-Changes-0.400002-6/blib/lib:/var/tmp/build/version-0.9924-1/blib/arch:/var/tmp/build/version-0.9924-1/blib/lib"
    PERL5OPT=""
    PERL5_CPANPLUS_IS_RUNNING="18015"
    PERL5_CPAN_IS_RUNNING="18015"
    PERL5_CPAN_IS_RUNNING_IN_RECURSION="17972,18015"
    PERLBREW_HOME="/home/njh/.perlbrew"
    PERLBREW_MANPATH="/home/njh/perl5/perlbrew/perls/perl-5.12.1/man"
    PERLBREW_PATH="/home/njh/perl5/perlbrew/bin:/home/njh/perl5/perlbrew/perls/perl-5.12.1/bin"
    PERLBREW_PERL="perl-5.12.1"
    PERLBREW_ROOT="/home/njh/perl5/perlbrew"
    PERLBREW_SHELLRC_VERSION="0.84"
    PERLBREW_VERSION="0.84"
  @INC:
    /var/tmp/build/ExtUtils-LibBuilder-0.08-1/blib/arch
    /var/tmp/build/ExtUtils-LibBuilder-0.08-1/blib/lib
    /var/tmp/build/Config-AutoConf-0.317-1/blib/arch
    /var/tmp/build/Config-AutoConf-0.317-1/blib/lib
    /var/tmp/build/DateTime-Format-ISO8601-0.08-1/blib/arch
    /var/tmp/build/DateTime-Format-ISO8601-0.08-1/blib/lib
    /var/tmp/build/DateTime-Format-Builder-0.82-1/blib/arch
    /var/tmp/build/DateTime-Format-Builder-0.82-1/blib/lib
    /var/tmp/build/Data-Cmp-0.006-6/blib/arch
    /var/tmp/build/Data-Cmp-0.006-6/blib/lib
    /var/tmp/build/Cwalitee-Common-0.002-6/blib/arch
    /var/tmp/build/Cwalitee-Common-0.002-6/blib/lib
    /var/tmp/build/PERLANCAR-Module-List-0.004003-6/blib/arch
    /var/tmp/build/PERLANCAR-Module-List-0.004003-6/blib/lib
    /var/tmp/build/Complete-Module-0.260-8/blib/arch
    /var/tmp/build/Complete-Module-0.260-8/blib/lib
    /var/tmp/build/Filesys-Cap-0.02-8/blib/arch
    /var/tmp/build/Filesys-Cap-0.02-8/blib/lib
    /var/tmp/build/UUID-Random-0.04-8/blib/arch
    /var/tmp/build/UUID-Random-0.04-8/blib/lib
    /var/tmp/build/Complete-Path-0.24-8/blib/arch
    /var/tmp/build/Complete-Path-0.24-8/blib/lib
    /var/tmp/build/Complete-Util-0.602-14/blib/arch
    /var/tmp/build/Complete-Util-0.602-14/blib/lib
    /var/tmp/build/Log-ger-0.028-15/blib/arch
    /var/tmp/build/Log-ger-0.028-15/blib/lib
    /var/tmp/build/Complete-Common-0.22-14/blib/arch
    /var/tmp/build/Complete-Common-0.22-14/blib/lib
    /var/tmp/build/CPAN-Changes-0.400002-6/blib/arch
    /var/tmp/build/CPAN-Changes-0.400002-6/blib/lib
    /var/tmp/build/version-0.9924-1/blib/arch
    /var/tmp/build/version-0.9924-1/blib/lib
    /home/njh/perl5/perlbrew/perls/perl-5.12.1/lib/site_perl/5.12.1/armv6l-linux-thread-multi
    /home/njh/perl5/perlbrew/perls/perl-5.12.1/lib/site_perl/5.12.1
    /home/njh/perl5/perlbrew/perls/perl-5.12.1/lib/5.12.1/armv6l-linux-thread-multi
    /home/njh/perl5/perlbrew/perls/perl-5.12.1/lib/5.12.1
    .