WebService-IPAPI v0.01 Perl 5 v5.18.4 amd64-freebsd
- Status
- Pass
- From
- Slaven Rezić (SREZIC)
- Dist
-
WebService-IPAPI v0.01
- Platform
- Perl 5 v5.18.4 amd64-freebsd
- Date
- 2019-02-04 14:22:37
- ID
- 526d66f2-2888-11e9-9a6c-e5fb5d9d2d34
This distribution has been tested as part of the CPAN Testers
project, supporting the Perl programming language. See
http://wiki.cpantesters.org/ for more information or email
questions to cpan-testers-discuss@perl.org
--
Dear Kian Meng, Ang,
This is a computer-generated report for WebService-IPAPI-0.01
on perl 5.18.4, created by CPAN-Reporter-1.2018.
Thank you for uploading your work to CPAN. Congratulations!
All tests were successful.
Sections of this report:
* Tester comments
* Program output
* Prerequisites
* Environment and other context
------------------------------
TESTER COMMENTS
------------------------------
Additional comments from tester:
none provided
------------------------------
PROGRAM OUTPUT
------------------------------
Output from './Build test':
t/00-compile.t .............. ok
# Testing with Perl 5.018004, /usr/perl5.18.4p/bin/perl5.18.4
# File::Spec version is 3.74
# IO::Handle version is 1.39
# IPC::Open3 version is 1.13
# JSON version is 2.97001
# Module::Build::Tiny version is 0.039
# Moo version is 2.003004
# MooX::Enumeration version is 0.007
# Pod::Coverage::TrustPod version is 0.100005
# REST::Client version is 273
# Role::REST::Client version is 0.22
# Test::CPAN::Meta version is 0.25
# Test::DistManifest version is 1.014
# Test::Exception version is 0.43
# Test::HasVersion version is 0.014
# Test::More version is 1.302136
# Test::Warn version is 0.36
# Types::Standard version is 1.002002
# namespace::clean version is 0.27
# strictures version is 2.000005
t/000-report-versions.t ..... ok
t/00_compile.t .............. ok
t/01_instantiation.t ........ ok
t/02_lookup.t ............... skipped: $ENV{IPAPI_ACCESS_KEY} not set, skipping live tests
t/03_bulk_lookup.t .......... skipped: $ENV{IPAPI_ACCESS_KEY} not set, skipping live tests
t/04_check.t ................ skipped: $ENV{IPAPI_ACCESS_KEY} not set, skipping live tests
t/author-eol.t .............. skipped: these tests are for testing by the author
t/author-minimum-version.t .. skipped: these tests are for testing by the author
t/author-pod-coverage.t ..... skipped: these tests are for testing by the author
t/author-pod-syntax.t ....... skipped: these tests are for testing by the author
t/release-distmeta.t ........ skipped: these tests are for release candidate testing
t/release-has-version.t ..... skipped: these tests are for release candidate testing
t/release-kwalitee.t ........ skipped: these tests are for release candidate testing
t/release-unused-vars.t ..... skipped: these tests are for release candidate testing
All tests successful.
Files=15, Tests=27, 2 wallclock secs ( 0.07 usr 0.02 sys + 1.38 cusr 0.24 csys = 1.71 CPU)
Result: PASS
------------------------------
PREREQUISITES
------------------------------
Prerequisite modules loaded:
requires:
Module Need Have
----------------------- ----- --------
JSON 0 2.97001
Moo 0 2.003004
MooX::Enumeration 0 0.007
namespace::clean 0 0.27
perl 5.010 5.018004
REST::Client 0 273
Role::REST::Client 0 0.22
strictures 2 2.000005
Types::Standard 0 1.002002
build_requires:
Module Need Have
----------------------- ----- --------
File::Spec 0 3.74
IO::Handle 0 1.39
IPC::Open3 0 1.13
Pod::Coverage::TrustPod 0 0.100005
Test::CPAN::Meta 0 0.25
Test::DistManifest 0 1.014
Test::Exception 0 0.43
Test::HasVersion 0 0.014
Test::Kwalitee 0 1.27
Test::More 0 1.302136
Test::Pod::Coverage 0 1.10
Test::Warn 0 0.36
configure_requires:
Module Need Have
----------------------- ----- --------
Module::Build::Tiny 0.034 0.039
------------------------------
ENVIRONMENT AND OTHER CONTEXT
------------------------------
Environment variables:
PATH = /usr/local/bin:/usr/bin:/bin:/usr/local/sbin:/usr/sbin:/sbin:/home/cpansand/bin/sh:/home/cpansand/bin:/usr/games:/home/cpansand/devel:/home/eserte/src/srezic-misc/scripts
PERL5LIB = /home/cpansand/.cpan/build/2019020422/Test-HasVersion-0.014-1/blib/arch:/home/cpansand/.cpan/build/2019020422/Test-HasVersion-0.014-1/blib/lib:/home/cpansand/.cpan/build/2019020422/Test-DistManifest-1.014-0/blib/arch:/home/cpansand/.cpan/build/2019020422/Test-DistManifest-1.014-0/blib/lib:/home/cpansand/.cpan/build/2019020422/Module-Manifest-1.09-0/blib/arch:/home/cpansand/.cpan/build/2019020422/Module-Manifest-1.09-0/blib/lib:/home/cpansand/.cpan/build/2019020422/MooX-Enumeration-0.007-1/blib/arch:/home/cpansand/.cpan/build/2019020422/MooX-Enumeration-0.007-1/blib/lib
PERL5OPT =
PERL5_CPANPLUS_IS_RUNNING = 53408
PERL5_CPAN_IS_RUNNING = 53408
PERL5_CPAN_IS_RUNNING_IN_RECURSION = 53140,53408
PERL_BATCH = yes
PERL_CANARY_STABILITY_NOPROMPT = 1
PERL_CPAN_REPORTER_CONFIG = /var/tmp/cpansmoker-1023/2019020422/cpanreporter_000_config.ini
PERL_EXTUTILS_AUTOINSTALL = --defaultdeps
SHELL = /bin/sh
TMPDIR = /var/tmp/cpansmoker-1023/2019020422
Perl special variables (and OS-specific diagnostics, for MSWin32):
$^X = /usr/perl5.18.4p/bin/perl5.18.4
$UID/$EUID = 1023 / 1023
$GID = 1023 1023
$EGID = 1023 1023
Perl module toolchain versions installed:
Module Have
------------------- --------
CPAN 2.16
CPAN::Meta 2.150010
Cwd 3.74
ExtUtils::CBuilder 0.280230
ExtUtils::Command 7.34
ExtUtils::Install 2.06
ExtUtils::MakeMaker 7.34
ExtUtils::Manifest 1.70
ExtUtils::ParseXS 3.35
File::Spec 3.74
JSON 2.97001
JSON::PP 2.94
Module::Build 0.4224
Module::Signature 0.81
Parse::CPAN::Meta 2.150010
Test::Harness 3.42
Test::More 1.302136
YAML 1.26
YAML::Syck 1.30
version 0.9924
--
Summary of my perl5 (revision 5 version 18 subversion 4) configuration:
Platform:
osname=freebsd, osvers=11.1-stable, archname=amd64-freebsd
uname='freebsd ali3.bbbike.org 11.1-stable freebsd 11.1-stable #0 b7ba9aef7e5(stable11): wed oct 11 00:23:27 utc 2017 root@ali3.bbbike.org:usrobjhomeprojectsfreebsdsysgeneric amd64 '
config_args='-ds -e -Dprefix=/usr/perl5.18.4p -Dcf_email=srezic@cpan.org -Doptimize=-O2 -pipe'
hint=recommended, useposix=true, d_sigaction=define
useithreads=undef, usemultiplicity=undef
useperlio=define, d_sfio=undef, uselargefiles=define, usesocks=undef
use64bitint=define, use64bitall=define, uselongdouble=undef
usemymalloc=n, bincompat5005=undef
Compiler:
cc='cc', ccflags ='-DHAS_FPSETMASK -DHAS_FLOATINGPOINT_H -fno-strict-aliasing -pipe -fstack-protector -I/usr/local/include',
optimize='-O2 -pipe',
cppflags='-DHAS_FPSETMASK -DHAS_FLOATINGPOINT_H -fno-strict-aliasing -pipe -fstack-protector -I/usr/local/include'
ccversion='', gccversion='4.2.1 Compatible FreeBSD Clang 5.0.0 (tags/RELEASE_500/final 312559)', gccosandvers=''
intsize=4, longsize=8, ptrsize=8, doublesize=8, byteorder=12345678
d_longlong=define, longlongsize=8, d_longdbl=define, longdblsize=16
ivtype='long', ivsize=8, nvtype='double', nvsize=8, Off_t='off_t', lseeksize=8
alignbytes=8, prototype=define
Linker and Libraries:
ld='cc', ldflags ='-pthread -Wl,-E -fstack-protector -L/usr/local/lib'
libpth=/usr/lib /usr/local/lib
libs=-lgdbm -lm -lcrypt -lutil -lc
perllibs=-lm -lcrypt -lutil -lc
libc=, so=so, useshrplib=false, libperl=libperl.a
gnulibc_version=''
Dynamic Linking:
dlsrc=dl_dlopen.xs, dlext=so, d_dlsymun=undef, ccdlflags=' '
cccdlflags='-DPIC -fPIC', lddlflags='-shared -L/usr/local/lib -fstack-protector'
Characteristics of this binary (from libperl):
Compile-time options: HAS_TIMES PERLIO_LAYERS PERL_DONT_CREATE_GVSV
PERL_HASH_FUNC_ONE_AT_A_TIME_HARD PERL_MALLOC_WRAP
PERL_PRESERVE_IVUV PERL_SAWAMPERSAND USE_64_BIT_ALL
USE_64_BIT_INT USE_LARGE_FILES USE_LOCALE
USE_LOCALE_COLLATE USE_LOCALE_CTYPE
USE_LOCALE_NUMERIC USE_PERLIO USE_PERL_ATOF
Built under freebsd
Compiled at Oct 19 2017 14:17:00
%ENV:
PERL5LIB="/home/cpansand/.cpan/build/2019020422/Test-HasVersion-0.014-1/blib/arch:/home/cpansand/.cpan/build/2019020422/Test-HasVersion-0.014-1/blib/lib:/home/cpansand/.cpan/build/2019020422/Test-DistManifest-1.014-0/blib/arch:/home/cpansand/.cpan/build/2019020422/Test-DistManifest-1.014-0/blib/lib:/home/cpansand/.cpan/build/2019020422/Module-Manifest-1.09-0/blib/arch:/home/cpansand/.cpan/build/2019020422/Module-Manifest-1.09-0/blib/lib:/home/cpansand/.cpan/build/2019020422/MooX-Enumeration-0.007-1/blib/arch:/home/cpansand/.cpan/build/2019020422/MooX-Enumeration-0.007-1/blib/lib"
PERL5OPT=""
PERL5_CPANPLUS_IS_RUNNING="53408"
PERL5_CPAN_IS_RUNNING="53408"
PERL5_CPAN_IS_RUNNING_IN_RECURSION="53140,53408"
PERL_BATCH="yes"
PERL_CANARY_STABILITY_NOPROMPT="1"
PERL_CPAN_REPORTER_CONFIG="/var/tmp/cpansmoker-1023/2019020422/cpanreporter_000_config.ini"
PERL_EXTUTILS_AUTOINSTALL="--defaultdeps"
@INC:
/home/cpansand/.cpan/build/2019020422/Test-HasVersion-0.014-1/blib/arch
/home/cpansand/.cpan/build/2019020422/Test-HasVersion-0.014-1/blib/lib
/home/cpansand/.cpan/build/2019020422/Test-DistManifest-1.014-0/blib/arch
/home/cpansand/.cpan/build/2019020422/Test-DistManifest-1.014-0/blib/lib
/home/cpansand/.cpan/build/2019020422/Module-Manifest-1.09-0/blib/arch
/home/cpansand/.cpan/build/2019020422/Module-Manifest-1.09-0/blib/lib
/home/cpansand/.cpan/build/2019020422/MooX-Enumeration-0.007-1/blib/arch
/home/cpansand/.cpan/build/2019020422/MooX-Enumeration-0.007-1/blib/lib
/usr/perl5.18.4p/lib/site_perl/5.18.4/amd64-freebsd
/usr/perl5.18.4p/lib/site_perl/5.18.4
/usr/perl5.18.4p/lib/5.18.4/amd64-freebsd
/usr/perl5.18.4p/lib/5.18.4
.