Report for Soar-Production-0.02

Back
From: metabase:user:30f4dfbe-2aae-11df-837a-5e0a49663a4f
Subject: PASS Soar-Production-0.02 v5.14.3 GNU/Linux
Date: 2013-02-10T22:58:02Z

This distribution has been tested as part of the CPAN Testers
project, supporting the Perl programming language.  See
http://wiki.cpantesters.org/ for more information or email
questions to cpan-testers-discuss@perl.org


--
Dear Nathan Gary Glenn,

This is a computer-generated report for Soar-Production-0.02
on perl 5.14.3, created by CPAN-Reporter-1.2009.

Thank you for uploading your work to CPAN.  Congratulations!
All tests were successful.

Sections of this report:

    * Tester comments
    * Program output
    * Prerequisites
    * Environment and other context

------------------------------
TESTER COMMENTS
------------------------------

Additional comments from tester:

this report is from an automated smoke testing program
and was not reviewed by a human for accuracy

------------------------------
PROGRAM OUTPUT
------------------------------

Output from './Build test':

t/0-use.t ........................ ok
t/00-compile.t ................... ok
# 
# 
# Generated by Dist::Zilla::Plugin::ReportVersions::Tiny v1.08
# perl: 5.014003 (wanted 5.010) on linux from /home/njh/perl5/perlbrew/perls/perl-5.14.3/bin/perl
# 
# Carp                                          => 1.26       (want any version)
# Data::Diver                                   => 1.0101     (want any version)
# Data::Dumper                                  => 2.136      (want any version)
# Exporter                                      => 5.67       (want any version)
# File::Find                                    => 1.19       (want any version)
# File::Spec                                    => 3.33       (want any version)
# File::Spec::Functions                         => 3.33       (want any version)
# File::Temp                                    => 0.22       (want any version)
# FindBin                                       => 1.50       (want any version)
# Module::Build                                 => 0.4003     (want 0.3601) 
# Parse::RecDescent                             => 1.967009   (want any version)
# Pod::Coverage::TrustPod                       => module not found. (want any version)
# Soar::Production::Parser::PRDGrammar          => 1.122860   (want any version)
# Test::Base                                    => 0.60       (want any version)
# Test::Base::Filter                            => <undef>    (want any version)
# Test::CPAN::Meta                              => module not found. (want any version)
# Test::Deep                                    => 0.11       (want any version)
# Test::Exception                               => 0.31       (want any version)
# Test::More                                    => 0.98       (want 0.88)   
# Test::Pod                                     => 1.45       (want 1.41)   
# Test::Pod::Coverage                           => 1.08       (want 1.08)   
# Test::Warn                                    => 0.24       (want any version)
# base                                          => 2.18       (want any version)
# parent                                        => 0.225      (want any version)
# strict                                        => 1.04       (want any version)
# utf8                                          => 1.09       (want any version)
# version                                       => 0.9901     (want 0.9901) 
# warnings                                      => 1.12       (want any version)
# 
# Thanks for using my code.  I hope it works for you.
# If not, please try and include this output in the bug report.
# That will help me reproduce the issue and solve your problem.
# 
t/000-report-versions-tiny.t ..... ok
t/1-basic.t ...................... ok
t/parser/00-use.t ................ ok
t/parser/01-bad_input.t .......... ok
t/parser/01.5-comments.t ......... ok
t/parser/02-split-productions.t .. ok
t/parser/03-production-names.t ... ok
t/parser/04-documentation.t ...... ok
t/parser/05-Flags.t .............. ok
t/parser/06-State.t .............. ok
t/parser/07-variables.t .......... ok
t/parser/08-attributes.t ......... ok
t/parser/09-int.t ................ ok
t/parser/10-float.t .............. ok
t/parser/11-string.t ............. ok
t/parser/12-quoted.t ............. ok
t/parser/13-disjunct.t ........... ok
t/parser/14-conjunct.t ........... ok
t/parser/15-predicate.t .......... ok
t/parser/16-preference.t ......... ok
t/parser/17-function.t ........... ok
t/parser/18-negative.t ........... ok
t/parser/19-conjunctiveCond.t .... ok
t/parser/20-test_data.t .......... ok
t/printer/0-use.t ................ ok
t/printer/1-test_data.t .......... ok
All tests successful.
Files=28, Tests=1815, 57 wallclock secs ( 0.25 usr  0.03 sys + 56.64 cusr  0.49 csys = 57.41 CPU)
Result: PASS

------------------------------
PREREQUISITES
------------------------------

Prerequisite modules loaded:

requires:

    Module                               Need   Have    
    ------------------------------------ ------ --------
    base                                 0      2.18    
    Carp                                 0      1.26    
    Data::Dumper                         0      2.136   
    Exporter                             0      5.67    
    parent                               0      0.225   
    Parse::RecDescent                    0      1.967009
    perl                                 5.010  5.014003
    Soar::Production::Parser::PRDGrammar 0      1.122860
    strict                               0      1.04    
    warnings                             0      1.12    

build_requires:

    Module                               Need   Have    
    ------------------------------------ ------ --------
    Data::Diver                          0      1.0101  
    File::Find                           0      1.19    
    File::Spec                           0      3.33    
    File::Spec::Functions                0      3.33    
    File::Temp                           0      0.22    
    FindBin                              0      1.50    
    Module::Build                        0.3601 0.4003  
    Test::Base                           0      0.60    
    Test::Base::Filter                   0      0       
    Test::Deep                           0      0.110   
    Test::Exception                      0      0.31    
    Test::More                           0.88   0.98    
    Test::Warn                           0      0.24    
    utf8                                 0      1.09    

configure_requires:

    Module                               Need   Have    
    ------------------------------------ ------ --------
    Module::Build                        0.3601 0.4003  


------------------------------
ENVIRONMENT AND OTHER CONTEXT
------------------------------

Environment variables:

    AUTOMATED_TESTING = 1
    LANG = en_GB.UTF-8
    LANGUAGE = en_GB:en
    LD_LIBRARY_PATH = :/usr/local/lib:/usr/lib/qt-3.3/lib:/usr/X11R6/lib
    MANPATH_WITHOUT_PERLBREW = /usr/local/man:/usr/local/share/man:/usr/share/man:/usr/local/man:/home/njh/man:/usr/share/inn/man:/usr/share/perl5/man:/usr/share/tcl-8.0/man:/usr/share/tclX-8.0.4/man:/usr/share/tix-4.1/man:/usr/share/tk-8.0/man:/usr/server/doc:/usr/share/man:/opt/intel/cc/9.1.038/man
    PATH = /home/njh/perl5/perlbrew/bin:/home/njh/perl5/perlbrew/perls/perl-5.14.3/bin:/home/njh/perl5/perlbrew/bin:/usr/local/bin:/usr/bin:/bin:/usr/local/games:/usr/games:/home/njh/bin
    PATH_WITHOUT_PERLBREW = /usr/local/bin:/usr/bin:/bin:/usr/local/games:/usr/games:/home/njh/bin
    PERL5LIB = /home/njh/.cpan/build/Soar-Production-Parser-1.122860-w03dpu/blib/arch:/home/njh/.cpan/build/Soar-Production-Parser-1.122860-w03dpu/blib/lib:/home/njh/.cpan/build/Data-Diver-1.0101-tlyTrB/blib/arch:/home/njh/.cpan/build/Data-Diver-1.0101-tlyTrB/blib/lib:/home/njh/.cpan/build/Test-Base-0.60-qks4Mp/blib/arch:/home/njh/.cpan/build/Test-Base-0.60-qks4Mp/blib/lib:/home/njh/.cpan/build/Spiffy-0.31-7OGDIC/blib/arch:/home/njh/.cpan/build/Spiffy-0.31-7OGDIC/blib/lib
    PERL5OPT = 
    PERL5_CPANPLUS_IS_RUNNING = 26771
    PERL5_CPAN_IS_RUNNING = 26771
    PERL5_MINISMOKEBOX = 0.54
    PERLBREW_BASHRC_VERSION = 0.49
    PERLBREW_HOME = /home/njh/.perlbrew
    PERLBREW_LIB = 
    PERLBREW_MANPATH = /home/njh/perl5/perlbrew/perls/perl-5.14.3/man
    PERLBREW_PATH = /home/njh/perl5/perlbrew/bin:/home/njh/perl5/perlbrew/perls/perl-5.14.3/bin
    PERLBREW_PERL = perl-5.14.3
    PERLBREW_ROOT = /home/njh/perl5/perlbrew
    PERLBREW_VERSION = 0.49
    PERL_EXTUTILS_AUTOINSTALL = --defaultdeps
    PERL_LOCAL_LIB_ROOT = 
    PERL_MB_OPT = 
    PERL_MM_OPT = 
    PERL_MM_USE_DEFAULT = 1
    SHELL = /bin/bash
    TERM = xterm

Perl special variables (and OS-specific diagnostics, for MSWin32):

    $^X = /home/njh/perl5/perlbrew/perls/perl-5.14.3/bin/perl
    $UID/$EUID = 1000 / 1000
    $GID = 1000 24 25 29 30 44 46 108 112 1000
    $EGID = 1000 24 25 29 30 44 46 108 112 1000

Perl module toolchain versions installed:

    Module              Have    
    ------------------- --------
    CPAN                1.9800  
    CPAN::Meta          2.120921
    Cwd                 3.36    
    ExtUtils::CBuilder  0.280205
    ExtUtils::Command   1.17    
    ExtUtils::Install   1.56    
    ExtUtils::MakeMaker 6.62    
    ExtUtils::Manifest  1.61    
    ExtUtils::ParseXS   3.15    
    File::Spec          3.33    
    JSON                2.53    
    JSON::PP            2.27200 
    Module::Build       0.4003  
    Module::Signature   0.68    
    Parse::CPAN::Meta   1.4404  
    Test::Harness       3.25    
    Test::More          0.98    
    YAML                0.84    
    YAML::Syck          1.22    
    version             0.9901  


--

Summary of my perl5 (revision 5 version 14 subversion 3) configuration:
   
  Platform:
    osname=linux, osvers=3.2.0-3-amd64, archname=x86_64-linux-thread-multi
    uname='linux nigelhorne.force9.co.uk 3.2.0-3-amd64 #1 smp mon jul 23 02:45:17 utc 2012 x86_64 gnulinux '
    config_args='-de -Dprefix=/home/njh/perl5/perlbrew/perls/perl-5.14.3 -Duseithreads -Dusemultiplicity -Accflags=-O2 -W -Wformat=2 -Wswitch -Wshadow -Wwrite-strings -Wuninitialized -Wall -pipe -mtune=native -march=native -fomit-frame-pointer -mfpmath=sse -pedantic -D_FORTIFY_SOURCE=2 -Wpointer-arith -Wstrict-prototypes -fstack-protector -Wstack-protector -Wextra -Wbad-function-cast -Wcast-align -Wcast-qual -Wdisabled-optimization -Wendif-labels -Wfloat-equal -Wformat-nonliteral -Winline -Wmissing-declarations -Wmissing-prototypes -Wnested-externs -Wpointer-arith -Wundef -Wformat-security -Aeval:scriptdir=/home/njh/perl5/perlbrew/perls/perl-5.14.3/bin'
    hint=recommended, useposix=true, d_sigaction=define
    useithreads=define, usemultiplicity=define
    useperlio=define, d_sfio=undef, uselargefiles=define, usesocks=undef
    use64bitint=define, use64bitall=define, uselongdouble=undef
    usemymalloc=n, bincompat5005=undef
  Compiler:
    cc='cc', ccflags ='-D_REENTRANT -D_GNU_SOURCE -O2 -W -Wformat=2 -Wswitch -Wshadow -Wwrite-strings -Wuninitialized -Wall -pipe -mtune=native -march=native -fomit-frame-pointer -mfpmath=sse -pedantic -D_FORTIFY_SOURCE=2 -Wpointer-arith -Wstrict-prototypes -fstack-protector -Wstack-protector -Wextra -Wbad-function-cast -Wcast-align -Wcast-qual -Wdisabled-optimization -Wendif-labels -Wfloat-equal -Wformat-nonliteral -Winline -Wmissing-declarations -Wmissing-prototypes -Wnested-externs -Wpointer-arith -Wundef -Wformat-security -fno-strict-aliasing -I/usr/local/include -D_LARGEFILE_SOURCE -D_FILE_OFFSET_BITS=64',
    optimize='-O2',
    cppflags='-D_REENTRANT -D_GNU_SOURCE -O2 -W -Wformat=2 -Wswitch -Wshadow -Wwrite-strings -Wuninitialized -Wall -pipe -mtune=native -march=native -fomit-frame-pointer -mfpmath=sse -pedantic -D_FORTIFY_SOURCE=2 -Wpointer-arith -Wstrict-prototypes -fstack-protector -Wstack-protector -Wextra -Wbad-function-cast -Wcast-align -Wcast-qual -Wdisabled-optimization -Wendif-labels -Wfloat-equal -Wformat-nonliteral -Winline -Wmissing-declarations -Wmissing-prototypes -Wnested-externs -Wpointer-arith -Wundef -Wformat-security -fno-strict-aliasing -I/usr/local/include'
    ccversion='', gccversion='4.7.2', gccosandvers=''
    intsize=4, longsize=8, ptrsize=8, doublesize=8, byteorder=12345678
    d_longlong=define, longlongsize=8, d_longdbl=define, longdblsize=16
    ivtype='long', ivsize=8, nvtype='double', nvsize=8, Off_t='off_t', lseeksize=8
    alignbytes=8, prototype=define
  Linker and Libraries:
    ld='cc', ldflags =' -fstack-protector -L/usr/local/lib'
    libpth=/usr/local/lib /lib/x86_64-linux-gnu /lib/../lib /usr/lib/x86_64-linux-gnu /usr/lib/../lib /lib /usr/lib
    libs=-lnsl -lgdbm -ldb -ldl -lm -lcrypt -lutil -lpthread -lc -lgdbm_compat
    perllibs=-lnsl -ldl -lm -lcrypt -lutil -lpthread -lc
    libc=, so=so, useshrplib=false, libperl=libperl.a
    gnulibc_version='2.13'
  Dynamic Linking:
    dlsrc=dl_dlopen.xs, dlext=so, d_dlsymun=undef, ccdlflags='-Wl,-E'
    cccdlflags='-fPIC', lddlflags='-shared -O2 -L/usr/local/lib -fstack-protector'


Characteristics of this binary (from libperl): 
  Compile-time options: MULTIPLICITY PERL_DONT_CREATE_GVSV
                        PERL_IMPLICIT_CONTEXT PERL_MALLOC_WRAP
                        PERL_PRESERVE_IVUV USE_64_BIT_ALL USE_64_BIT_INT
                        USE_ITHREADS USE_LARGE_FILES USE_PERLIO USE_PERL_ATOF
                        USE_REENTRANT_API
  Built under linux
  Compiled at Oct 13 2012 15:49:42
  %ENV:
    PERL5LIB="/home/njh/.cpan/build/Soar-Production-Parser-1.122860-w03dpu/blib/arch:/home/njh/.cpan/build/Soar-Production-Parser-1.122860-w03dpu/blib/lib:/home/njh/.cpan/build/Data-Diver-1.0101-tlyTrB/blib/arch:/home/njh/.cpan/build/Data-Diver-1.0101-tlyTrB/blib/lib:/home/njh/.cpan/build/Test-Base-0.60-qks4Mp/blib/arch:/home/njh/.cpan/build/Test-Base-0.60-qks4Mp/blib/lib:/home/njh/.cpan/build/Spiffy-0.31-7OGDIC/blib/arch:/home/njh/.cpan/build/Spiffy-0.31-7OGDIC/blib/lib"
    PERL5OPT=""
    PERL5_CPANPLUS_IS_RUNNING="26771"
    PERL5_CPAN_IS_RUNNING="26771"
    PERL5_MINISMOKEBOX="0.54"
    PERLBREW_BASHRC_VERSION="0.49"
    PERLBREW_HOME="/home/njh/.perlbrew"
    PERLBREW_LIB=""
    PERLBREW_MANPATH="/home/njh/perl5/perlbrew/perls/perl-5.14.3/man"
    PERLBREW_PATH="/home/njh/perl5/perlbrew/bin:/home/njh/perl5/perlbrew/perls/perl-5.14.3/bin"
    PERLBREW_PERL="perl-5.14.3"
    PERLBREW_ROOT="/home/njh/perl5/perlbrew"
    PERLBREW_VERSION="0.49"
    PERL_EXTUTILS_AUTOINSTALL="--defaultdeps"
    PERL_LOCAL_LIB_ROOT=""
    PERL_MB_OPT=""
    PERL_MM_OPT=""
    PERL_MM_USE_DEFAULT="1"
  @INC:
    /home/njh/.cpan/build/Soar-Production-Parser-1.122860-w03dpu/blib/arch
    /home/njh/.cpan/build/Soar-Production-Parser-1.122860-w03dpu/blib/lib
    /home/njh/.cpan/build/Data-Diver-1.0101-tlyTrB/blib/arch
    /home/njh/.cpan/build/Data-Diver-1.0101-tlyTrB/blib/lib
    /home/njh/.cpan/build/Test-Base-0.60-qks4Mp/blib/arch
    /home/njh/.cpan/build/Test-Base-0.60-qks4Mp/blib/lib
    /home/njh/.cpan/build/Spiffy-0.31-7OGDIC/blib/arch
    /home/njh/.cpan/build/Spiffy-0.31-7OGDIC/blib/lib
    /home/njh/perl5/perlbrew/perls/perl-5.14.3/lib/site_perl/5.14.3/x86_64-linux-thread-multi
    /home/njh/perl5/perlbrew/perls/perl-5.14.3/lib/site_perl/5.14.3
    /home/njh/perl5/perlbrew/perls/perl-5.14.3/lib/5.14.3/x86_64-linux-thread-multi
    /home/njh/perl5/perlbrew/perls/perl-5.14.3/lib/5.14.3
    .