Math-PlanePath v129 Perl 5 v5.20.1 amd64-freebsd-ld

Status
Pass
From
Slaven Rezić
Dist
Math-PlanePath v129
Platform
Perl 5 v5.20.1 amd64-freebsd-ld
Date
2021-01-19 13:22:04
ID
528d3c20-5a59-11eb-a32f-8c851f24ea8f
This distribution has been tested as part of the CPAN Testers
project, supporting the Perl programming language.  See
http://wiki.cpantesters.org/ for more information or email
questions to cpan-testers-discuss@perl.org


--
Dear Kevin Ryde,

This is a computer-generated report for Math-PlanePath-129
on perl 5.20.1, created by CPAN-Reporter-1.2018.

Thank you for uploading your work to CPAN.  Congratulations!
All tests were successful.

Sections of this report:

    * Tester comments
    * Program output
    * Prerequisites
    * Environment and other context

------------------------------
TESTER COMMENTS
------------------------------

Additional comments from tester:

none provided

------------------------------
PROGRAM OUTPUT
------------------------------

Output from '/usr/bin/make test':

PERL_DL_NONLAZY=1 "/usr/perl5.20.1Dp/bin/perl" "-MExtUtils::Command::MM" "-MTest::Harness" "-e" "undef *Test::Harness::Switches; test_harness(0, 'blib/lib', 'blib/arch')" t/*.t
t/AlternatePaper.t .............. ok
t/AlternatePaperMidpoint.t ...... ok
t/AlternateTerdragon.t .......... ok
t/AnvilSpiral.t ................. ok
t/ArchimedeanChords.t ........... ok
t/AztecDiamondRings.t ........... ok
# modulo operator dodginess ((~0)%2) != ((~0)&1): no (good)
# round_down_pow(3) tests stop for round-off at i=34
# round_up_pow(3) tests stop for round-off at i=33
t/Base-Digits.t ................. ok
# nan is nan
t/Base-Generic.t ................ ok
t/BetaOmeta.t ................... ok
# Math::BigFloat version 1.9991
# Math::BigInt version 1.9993
# +inf is inf
# -inf is -inf
# nan is NaN
t/bigfloat.t .................... ok
# skip due to Math::BigInt::Lite not available -- Can't locate Math/BigInt/Lite.pm in @INC (you may need to install the Math::BigInt::Lite module) (@INC contains: t /home/cpansand/.cpan/build/2021011914/Math-PlanePath-129-4IugGi/blib/lib /home/cpansand/.cpan/build/2021011914/Math-PlanePath-129-4IugGi/blib/arch /home/cpansand/.cpan/build/2021011914/constant-defer-6-xG9E4L/blib/arch /home/cpansand/.cpan/build/2021011914/constant-defer-6-xG9E4L/blib/lib /home/cpansand/.cpan/build/2021011914/Math-Libm-1.00-tdBWqq/blib/arch /home/cpansand/.cpan/build/2021011914/Math-Libm-1.00-tdBWqq/blib/lib /usr/perl5.20.1Dp/lib/site_perl/5.20.1/amd64-freebsd-ld /usr/perl5.20.1Dp/lib/site_perl/5.20.1 /usr/perl5.20.1Dp/lib/5.20.1/amd64-freebsd-ld /usr/perl5.20.1Dp/lib/5.20.1 .) at t/bigint-lite.t line 31.
# 
t/bigint-lite.t ................. ok
# Math::BigInt version 1.9993
# Math::BigInt version 1.9993
t/bigint.t ...................... ok
t/CCurve.t ...................... ok
# bitwise check rule=2
# bitwise check rule=4
# bitwise check rule=6
# bitwise check rule=10
# bitwise check rule=12
# bitwise check rule=14
# bitwise check rule=16
# bitwise check rule=18
# bitwise check rule=20
# bitwise check rule=24
# bitwise check rule=26
# bitwise check rule=34
# bitwise check rule=36
# bitwise check rule=38
# bitwise check rule=42
# bitwise check rule=44
# bitwise check rule=46
# bitwise check rule=48
# bitwise check rule=50
# bitwise check rule=52
# bitwise check rule=54
# bitwise check rule=56
# bitwise check rule=57
# bitwise check rule=58
# bitwise check rule=60
# bitwise check rule=66
# bitwise check rule=68
# bitwise check rule=74
# bitwise check rule=76
# bitwise check rule=80
# bitwise check rule=82
# bitwise check rule=84
# bitwise check rule=88
# bitwise check rule=90
# bitwise check rule=98
# bitwise check rule=99
# bitwise check rule=100
# bitwise check rule=102
# bitwise check rule=106
# bitwise check rule=108
# bitwise check rule=112
# bitwise check rule=114
# bitwise check rule=116
# bitwise check rule=120
# bitwise check rule=122
# bitwise check rule=130
# bitwise check rule=132
# bitwise check rule=134
# bitwise check rule=138
# bitwise check rule=140
# bitwise check rule=142
# bitwise check rule=144
# bitwise check rule=146
# bitwise check rule=148
# bitwise check rule=151
# bitwise check rule=152
# bitwise check rule=154
# bitwise check rule=159
# bitwise check rule=162
# bitwise check rule=164
# bitwise check rule=166
# bitwise check rule=170
# bitwise check rule=172
# bitwise check rule=174
# bitwise check rule=176
# bitwise check rule=178
# bitwise check rule=179
# bitwise check rule=180
# bitwise check rule=183
# bitwise check rule=184
# bitwise check rule=186
# bitwise check rule=190
# bitwise check rule=191
# bitwise check rule=194
# bitwise check rule=196
# bitwise check rule=202
# bitwise check rule=204
# bitwise check rule=206
# bitwise check rule=208
# bitwise check rule=210
# bitwise check rule=212
# bitwise check rule=215
# bitwise check rule=216
# bitwise check rule=218
# bitwise check rule=220
# bitwise check rule=222
# bitwise check rule=223
# bitwise check rule=226
# bitwise check rule=228
# bitwise check rule=234
# bitwise check rule=236
# bitwise check rule=238
# bitwise check rule=240
# bitwise check rule=242
# bitwise check rule=244
# bitwise check rule=246
# bitwise check rule=247
# bitwise check rule=248
# bitwise check rule=250
# bitwise check rule=252
# bitwise check rule=254
# bitwise check rule=255
# bitwise checks 102
t/CellularRule.t ................ ok
t/CellularRule190.t ............. ok
t/CfracDigits.t ................. ok
t/ChanTree.t .................... ok
t/CincoCurve.t .................. ok
t/Columns-load.t ................ ok
t/Columns.t ..................... ok
t/ComplexMinus.t ................ ok
t/ComplexPlus.t ................. ok
t/CoprimeColumns.t .............. ok
t/Corner.t ...................... ok
t/CornerAlternating.t ........... ok
t/CornerReplicate.t ............. ok
t/CubicBase.t ................... ok
t/DekkingCurve.t ................ ok
t/DiagonalRationals.t ........... ok
t/Diagonals.t ................... ok
t/DiamondArms.t ................. ok
t/DiamondSpiral.t ............... ok
t/DigitGroups.t ................. ok
t/DivisibleColumns.t ............ ok
t/DragonCurve.t ................. ok
t/DragonMidpoint.t .............. ok
t/DragonRounded.t ............... ok
t/FactorRationals.t ............. ok
t/FibonacciWordFractal.t ........ ok
t/File.t ........................ ok
t/FilledRings.t ................. ok
t/Flowsnake.t ................... ok
t/FlowsnakeCentres.t ............ ok
t/GcdRationals.t ................ ok
t/GosperIslands.t ............... ok
t/GosperReplicate.t ............. ok
t/GosperSide.t .................. ok
t/GrayCode.t .................... ok
t/GreekKeySpiral.t .............. ok
t/HexArms.t ..................... ok
t/HexSpiral-load.t .............. ok
t/HexSpiral.t ................... ok
t/HexSpiralSkewed-unskew.t ...... ok
t/HexSpiralSkewed.t ............. ok
t/HilbertCurve-load.t ........... ok
t/HilbertCurve.t ................ ok
t/HilbertSpiral.t ............... ok
t/HIndexing.t ................... ok
t/Hypot.t ....................... ok
t/HypotOctant.t ................. ok
t/ImaginaryBase.t ............... ok
t/ImaginaryHalf.t ............... ok
t/KnightSpiral.t ................ ok
t/KochCurve.t ................... ok
t/KochelCurve.t ................. ok
t/KochPeaks.t ................... ok
t/KochSnowflakes.t .............. ok
t/KochSquareflakes.t ............ ok
t/LTiling.t ..................... ok
t/MultipleRings.t ............... ok
# skip due to Number::Fraction 1.14 not available -- Can't locate Number/Fraction.pm in @INC (you may need to install the Number::Fraction module) (@INC contains: t /home/cpansand/.cpan/build/2021011914/Math-PlanePath-129-4IugGi/blib/lib /home/cpansand/.cpan/build/2021011914/Math-PlanePath-129-4IugGi/blib/arch /home/cpansand/.cpan/build/2021011914/constant-defer-6-xG9E4L/blib/arch /home/cpansand/.cpan/build/2021011914/constant-defer-6-xG9E4L/blib/lib /home/cpansand/.cpan/build/2021011914/Math-Libm-1.00-tdBWqq/blib/arch /home/cpansand/.cpan/build/2021011914/Math-Libm-1.00-tdBWqq/blib/lib /usr/perl5.20.1Dp/lib/site_perl/5.20.1/amd64-freebsd-ld /usr/perl5.20.1Dp/lib/site_perl/5.20.1 /usr/perl5.20.1Dp/lib/5.20.1/amd64-freebsd-ld /usr/perl5.20.1Dp/lib/5.20.1 .) at (eval 2) line 1.
# BEGIN failed--compilation aborted at (eval 2) line 1.
# 
t/number-fraction.t ............. ok
# skip due to Math::NumSeq not available -- Can't locate Math/NumSeq.pm in @INC (you may need to install the Math::NumSeq module) (@INC contains: t /home/cpansand/.cpan/build/2021011914/Math-PlanePath-129-4IugGi/blib/lib /home/cpansand/.cpan/build/2021011914/Math-PlanePath-129-4IugGi/blib/arch /home/cpansand/.cpan/build/2021011914/constant-defer-6-xG9E4L/blib/arch /home/cpansand/.cpan/build/2021011914/constant-defer-6-xG9E4L/blib/lib /home/cpansand/.cpan/build/2021011914/Math-Libm-1.00-tdBWqq/blib/arch /home/cpansand/.cpan/build/2021011914/Math-Libm-1.00-tdBWqq/blib/lib /usr/perl5.20.1Dp/lib/site_perl/5.20.1/amd64-freebsd-ld /usr/perl5.20.1Dp/lib/site_perl/5.20.1 /usr/perl5.20.1Dp/lib/5.20.1/amd64-freebsd-ld /usr/perl5.20.1Dp/lib/5.20.1 .) at t/NumSeq-PlanePathCoord.t line 31.
# 
t/NumSeq-PlanePathCoord.t ....... ok
# skip due to Math::NumSeq not available -- Can't locate Math/NumSeq.pm in @INC (you may need to install the Math::NumSeq module) (@INC contains: t /home/cpansand/.cpan/build/2021011914/Math-PlanePath-129-4IugGi/blib/lib /home/cpansand/.cpan/build/2021011914/Math-PlanePath-129-4IugGi/blib/arch /home/cpansand/.cpan/build/2021011914/constant-defer-6-xG9E4L/blib/arch /home/cpansand/.cpan/build/2021011914/constant-defer-6-xG9E4L/blib/lib /home/cpansand/.cpan/build/2021011914/Math-Libm-1.00-tdBWqq/blib/arch /home/cpansand/.cpan/build/2021011914/Math-Libm-1.00-tdBWqq/blib/lib /usr/perl5.20.1Dp/lib/site_perl/5.20.1/amd64-freebsd-ld /usr/perl5.20.1Dp/lib/site_perl/5.20.1 /usr/perl5.20.1Dp/lib/5.20.1/amd64-freebsd-ld /usr/perl5.20.1Dp/lib/5.20.1 .) at t/NumSeq-PlanePathDelta.t line 35.
# 
t/NumSeq-PlanePathDelta.t ....... ok
# skip due to Math::NumSeq not available -- Can't locate Math/NumSeq.pm in @INC (you may need to install the Math::NumSeq module) (@INC contains: t /home/cpansand/.cpan/build/2021011914/Math-PlanePath-129-4IugGi/blib/lib /home/cpansand/.cpan/build/2021011914/Math-PlanePath-129-4IugGi/blib/arch /home/cpansand/.cpan/build/2021011914/constant-defer-6-xG9E4L/blib/arch /home/cpansand/.cpan/build/2021011914/constant-defer-6-xG9E4L/blib/lib /home/cpansand/.cpan/build/2021011914/Math-Libm-1.00-tdBWqq/blib/arch /home/cpansand/.cpan/build/2021011914/Math-Libm-1.00-tdBWqq/blib/lib /usr/perl5.20.1Dp/lib/site_perl/5.20.1/amd64-freebsd-ld /usr/perl5.20.1Dp/lib/site_perl/5.20.1 /usr/perl5.20.1Dp/lib/5.20.1/amd64-freebsd-ld /usr/perl5.20.1Dp/lib/5.20.1 .) at t/NumSeq-PlanePathN.t line 31.
# 
t/NumSeq-PlanePathN.t ........... ok
# skip due to Math::NumSeq not available -- Can't locate Math/NumSeq.pm in @INC (you may need to install the Math::NumSeq module) (@INC contains: t /home/cpansand/.cpan/build/2021011914/Math-PlanePath-129-4IugGi/blib/lib /home/cpansand/.cpan/build/2021011914/Math-PlanePath-129-4IugGi/blib/arch /home/cpansand/.cpan/build/2021011914/constant-defer-6-xG9E4L/blib/arch /home/cpansand/.cpan/build/2021011914/constant-defer-6-xG9E4L/blib/lib /home/cpansand/.cpan/build/2021011914/Math-Libm-1.00-tdBWqq/blib/arch /home/cpansand/.cpan/build/2021011914/Math-Libm-1.00-tdBWqq/blib/lib /usr/perl5.20.1Dp/lib/site_perl/5.20.1/amd64-freebsd-ld /usr/perl5.20.1Dp/lib/site_perl/5.20.1 /usr/perl5.20.1Dp/lib/5.20.1/amd64-freebsd-ld /usr/perl5.20.1Dp/lib/5.20.1 .) at t/NumSeq-PlanePathTurn.t line 35.
# 
t/NumSeq-PlanePathTurn.t ........ ok
t/PeanoCurve-load.t ............. ok
t/PeanoCurve.t .................. ok
t/PeanoDiagonals.t .............. ok
t/PixelRings.t .................. ok
t/PlanePath.t ................... ok
t/PyramidRows.t ................. ok
# have_53bits: 1
t/PythagoreanTree.t ............. ok
t/QuadricCurve.t ................ ok
t/QuadricIslands.t .............. ok
t/QuintetCentres.t .............. ok
t/QuintetCurve.t ................ ok
t/QuintetReplicate.t ............ ok
t/RationalsTree.t ............... ok
t/Rows-load.t ................... ok
t/Rows.t ........................ ok
t/SacksSpiral.t ................. ok
t/SierpinskiArrowhead.t ......... ok
t/SierpinskiArrowheadCentres.t .. ok
t/SierpinskiCurve.t ............. ok
t/SierpinskiCurveStair.t ........ ok
t/SierpinskiTriangle.t .......... ok
t/SquareReplicate.t ............. ok
t/SquareSpiral.t ................ ok
t/Staircase.t ................... ok
t/StaircaseAlternating.t ........ ok
t/TerdragonCurve.t .............. ok
t/TerdragonMidpoint.t ........... ok
t/TheodorusSpiral.t ............. ok
t/TriangularHypot.t ............. ok
t/TrianguleSpiral.t ............. ok
t/UlamWarburton.t ............... ok
t/UlamWarburtonQuarter.t ........ ok
t/VogelFloret.t ................. ok
t/WythoffArray.t ................ ok
t/ZOrderCurve.t ................. ok
All tests successful.
Files=110, Tests=38499, 14 wallclock secs ( 0.53 usr  2.23 sys +  4.84 cusr  5.76 csys = 13.36 CPU)
Result: PASS

------------------------------
PREREQUISITES
------------------------------

Prerequisite modules loaded:

requires:

    Module              Need  Have    
    ------------------- ----- --------
    constant            1.02  1.31    
    constant::defer     5     6       
    List::Util          0     1.38    
    Math::Libm          0     1.00    
    perl                5.004 5.020001

build_requires:

    Module              Need  Have    
    ------------------- ----- --------
    ExtUtils::MakeMaker 0     7.58    
    Test                0     1.26    

configure_requires:

    Module              Need  Have    
    ------------------- ----- --------
    ExtUtils::MakeMaker 0     7.58    


------------------------------
ENVIRONMENT AND OTHER CONTEXT
------------------------------

Environment variables:

    LC_ALL = de_DE.ISO8859-1
    PATH = /usr/local/bin:/usr/bin:/bin:/usr/local/sbin:/usr/sbin:/sbin:/home/cpansand/bin/freebsd10.3:/home/cpansand/bin/sh:/home/cpansand/bin:/usr/games:/home/cpansand/devel:/home/eserte/src/srezic-misc/scripts
    PERL5LIB = /home/cpansand/.cpan/build/2021011914/constant-defer-6-xG9E4L/blib/arch:/home/cpansand/.cpan/build/2021011914/constant-defer-6-xG9E4L/blib/lib:/home/cpansand/.cpan/build/2021011914/Math-Libm-1.00-tdBWqq/blib/arch:/home/cpansand/.cpan/build/2021011914/Math-Libm-1.00-tdBWqq/blib/lib
    PERL5OPT = 
    PERL5_CPANPLUS_IS_RUNNING = 80153
    PERL5_CPAN_IS_RUNNING = 80153
    PERL5_CPAN_IS_RUNNING_IN_RECURSION = 50190,80153
    PERLDOC = -MPod::Perldoc::ToTextOverstrike
    PERL_BATCH = yes
    PERL_CANARY_STABILITY_NOPROMPT = 1
    PERL_CPAN_REPORTER_CONFIG = /var/tmp/cpansmoker-1023/2021011911/cpanreporter_000_config.ini
    PERL_EXTUTILS_AUTOINSTALL = --defaultdeps
    SHELL = /usr/local/bin/zsh
    TERM = screen
    TMPDIR = /var/tmp/cpansmoker-1023/2021011911

Perl special variables (and OS-specific diagnostics, for MSWin32):

    $^X = /usr/perl5.20.1Dp/bin/perl
    $UID/$EUID = 1023 / 1023
    $GID = 1023 1023
    $EGID = 1023 1023

Perl module toolchain versions installed:

    Module              Have    
    ------------------- --------
    CPAN                2.05    
    CPAN::Meta          2.143240
    Cwd                 3.48    
    ExtUtils::CBuilder  0.280217
    ExtUtils::Command   7.58    
    ExtUtils::Install   2.06    
    ExtUtils::MakeMaker 7.58    
    ExtUtils::Manifest  1.70    
    ExtUtils::ParseXS   3.35    
    File::Spec          3.48    
    JSON                2.90    
    JSON::PP            2.27400 
    Module::Build       0.4211  
    Module::Signature   n/a     
    Parse::CPAN::Meta   1.4422  
    Test::Harness       3.30    
    Test::More          1.302183
    YAML                1.14    
    YAML::Syck          1.29    
    version             0.9909  


--

Summary of my perl5 (revision 5 version 20 subversion 1) configuration:
   
  Platform:
    osname=freebsd, osvers=10.1-release, archname=amd64-freebsd-ld
    uname='freebsd cvrsnica-freebsd-101.herceg.de 10.1-release freebsd 10.1-release #0 r274401: tue nov 11 21:02:49 utc 2014 root@releng1.nyi.freebsd.org:usrobjusrsrcsysgeneric amd64 '
    config_args='-ds -e -Dprefix=/usr/perl5.20.1Dp -Duselongdouble'
    hint=recommended, useposix=true, d_sigaction=define
    useithreads=undef, usemultiplicity=undef
    use64bitint=define, use64bitall=define, uselongdouble=define
    usemymalloc=n, bincompat5005=undef
  Compiler:
    cc='cc', ccflags ='-DHAS_FPSETMASK -DHAS_FLOATINGPOINT_H -fno-strict-aliasing -pipe -fstack-protector -I/usr/local/include',
    optimize='-O',
    cppflags='-DHAS_FPSETMASK -DHAS_FLOATINGPOINT_H -fno-strict-aliasing -pipe -fstack-protector -I/usr/local/include'
    ccversion='', gccversion='4.2.1 Compatible FreeBSD Clang 3.4.1 (tags/RELEASE_34/dot1-final 208032)', gccosandvers=''
    intsize=4, longsize=8, ptrsize=8, doublesize=8, byteorder=12345678
    d_longlong=define, longlongsize=8, d_longdbl=define, longdblsize=16
    ivtype='long', ivsize=8, nvtype='long double', nvsize=16, Off_t='off_t', lseeksize=8
    alignbytes=16, prototype=define
  Linker and Libraries:
    ld='cc', ldflags ='-pthread -Wl,-E  -fstack-protector -L/usr/local/lib'
    libpth=/usr/lib /usr/local/lib /usr/include/clang/3.4.1 /usr/lib
    libs=-lgdbm -lm -lcrypt -lutil -lc
    perllibs=-lm -lcrypt -lutil -lc
    libc=, so=so, useshrplib=false, libperl=libperl.a
    gnulibc_version=''
  Dynamic Linking:
    dlsrc=dl_dlopen.xs, dlext=so, d_dlsymun=undef, ccdlflags=' '
    cccdlflags='-DPIC -fPIC', lddlflags='-shared  -L/usr/local/lib -fstack-protector'


Characteristics of this binary (from libperl): 
  Compile-time options: HAS_TIMES PERLIO_LAYERS PERL_DONT_CREATE_GVSV
                        PERL_HASH_FUNC_ONE_AT_A_TIME_HARD PERL_MALLOC_WRAP
                        PERL_NEW_COPY_ON_WRITE PERL_PRESERVE_IVUV
                        USE_64_BIT_ALL USE_64_BIT_INT USE_LARGE_FILES
                        USE_LOCALE USE_LOCALE_COLLATE USE_LOCALE_CTYPE
                        USE_LOCALE_NUMERIC USE_LONG_DOUBLE USE_PERLIO
                        USE_PERL_ATOF
  Built under freebsd
  Compiled at Feb 13 2015 08:17:27
  %ENV:
    PERL5LIB="/home/cpansand/.cpan/build/2021011914/constant-defer-6-xG9E4L/blib/arch:/home/cpansand/.cpan/build/2021011914/constant-defer-6-xG9E4L/blib/lib:/home/cpansand/.cpan/build/2021011914/Math-Libm-1.00-tdBWqq/blib/arch:/home/cpansand/.cpan/build/2021011914/Math-Libm-1.00-tdBWqq/blib/lib"
    PERL5OPT=""
    PERL5_CPANPLUS_IS_RUNNING="80153"
    PERL5_CPAN_IS_RUNNING="80153"
    PERL5_CPAN_IS_RUNNING_IN_RECURSION="50190,80153"
    PERLDOC="-MPod::Perldoc::ToTextOverstrike"
    PERL_BATCH="yes"
    PERL_CANARY_STABILITY_NOPROMPT="1"
    PERL_CPAN_REPORTER_CONFIG="/var/tmp/cpansmoker-1023/2021011911/cpanreporter_000_config.ini"
    PERL_EXTUTILS_AUTOINSTALL="--defaultdeps"
  @INC:
    /home/cpansand/.cpan/build/2021011914/constant-defer-6-xG9E4L/blib/arch
    /home/cpansand/.cpan/build/2021011914/constant-defer-6-xG9E4L/blib/lib
    /home/cpansand/.cpan/build/2021011914/Math-Libm-1.00-tdBWqq/blib/arch
    /home/cpansand/.cpan/build/2021011914/Math-Libm-1.00-tdBWqq/blib/lib
    /usr/perl5.20.1Dp/lib/site_perl/5.20.1/amd64-freebsd-ld
    /usr/perl5.20.1Dp/lib/site_perl/5.20.1
    /usr/perl5.20.1Dp/lib/5.20.1/amd64-freebsd-ld
    /usr/perl5.20.1Dp/lib/5.20.1
    .