Task-Dancer2 v0.07 Perl 5 v5.28.1 amd64-freebsd

Status
Pass
From
Slaven Rezić
Dist
Task-Dancer2 v0.07
Platform
Perl 5 v5.28.1 amd64-freebsd
Date
2023-02-07 21:06:43
ID
52a0e9ca-a72b-11ed-9a65-8a286e8775ea
This distribution has been tested as part of the CPAN Testers
project, supporting the Perl programming language.  See
http://wiki.cpantesters.org/ for more information or email
questions to cpan-testers-discuss@perl.org


--
Dear Jason A. Crome,

This is a computer-generated report for Task-Dancer2-0.07
on perl 5.28.1, created by CPAN-Reporter-1.2018.

Thank you for uploading your work to CPAN.  Congratulations!
All tests were successful.

Sections of this report:

    * Tester comments
    * Program output
    * Prerequisites
    * Environment and other context

------------------------------
TESTER COMMENTS
------------------------------

Additional comments from tester:

none provided

------------------------------
PROGRAM OUTPUT
------------------------------

Output from '/usr/bin/make test':

PERL_DL_NONLAZY=1 "/usr/perl5.28.1p/bin/perl" "-MExtUtils::Command::MM" "-MTest::Harness" "-e" "undef *Test::Harness::Switches; test_harness(0, 'inc', 'blib/lib', 'blib/arch')" t/00-load.t t/manifest.t t/release-pod-coverage.t t/release-pod-syntax.t
# Testing Task::Dancer2 0.07, Perl 5.028001, /usr/perl5.28.1p/bin/perl
t/00-load.t ............... ok
t/manifest.t .............. skipped: Author tests not required for installation
t/release-pod-coverage.t .. skipped: these tests are for release candidate testing
t/release-pod-syntax.t .... skipped: these tests are for release candidate testing
All tests successful.
Files=4, Tests=1,  0 wallclock secs ( 0.02 usr  0.01 sys +  0.15 cusr  0.05 csys =  0.23 CPU)
Result: PASS

------------------------------
PREREQUISITES
------------------------------

Prerequisite modules loaded:

requires:

    Module                                                       Need Have    
    ------------------------------------------------------------ ---- --------
    Dancer2                                                      0    0.400001
    Dancer2::Logger::Console::Colored                            0    0.007   
    Dancer2::Logger::File::RotateLogs                            0    0.01    
    Dancer2::Logger::Fluent                                      0    0.06    
    Dancer2::Logger::Log4perl                                    0    0       
    Dancer2::Logger::LogAny                                      0    0.9912  
    Dancer2::Logger::LogReport                                   0    1.34    
    Dancer2::Logger::Multiplex                                   0    0.02    
    Dancer2::Logger::Radis                                       0    0.002   
    Dancer2::Logger::Syslog                                      0    0.5     
    Dancer2::Plugin::Adapter                                     0    0.007   
    Dancer2::Plugin::Ajax                                        0    0.400000
    Dancer2::Plugin::AppRole::Helper                             0    1.152121
    Dancer2::Plugin::Argon2                                      0    0.01    
    Dancer2::Plugin::Articulate                                  0    0.002   
    Dancer2::Plugin::Auth::ActiveDirectory                       0    0.03    
    Dancer2::Plugin::Auth::CAS                                   0    0       
    Dancer2::Plugin::Auth::Extensible                            0    0.709   
    Dancer2::Plugin::Auth::Extensible::Provider::ActiveDirectory 0    0.04    
    Dancer2::Plugin::Auth::Extensible::Provider::Database        0    0.630   
    Dancer2::Plugin::Auth::Extensible::Provider::DBIC            0    0.624   
  ! Dancer2::Plugin::Auth::Extensible::Provider::DBIx::Class     0    n/a     
    Dancer2::Plugin::Auth::Extensible::Provider::IMAP            0    0.003   
    Dancer2::Plugin::Auth::Extensible::Provider::LDAP            0    0.705   
    Dancer2::Plugin::Auth::Extensible::Provider::Usergroup       0    0.709   
    Dancer2::Plugin::Auth::Extensible::Rights                    0    0.01    
    Dancer2::Plugin::Auth::HTTP::Basic::DWIW                     0    0.0801  
    Dancer2::Plugin::Auth::OAuth                                 0    0.20    
    Dancer2::Plugin::Auth::SAFE                                  0    0.002   
    Dancer2::Plugin::Auth::Tiny                                  0    0.008   
    Dancer2::Plugin::Auth::YARBAC                                0    0.011   
    Dancer2::Plugin::BrowserDetect                               0    1.163590
    Dancer2::Plugin::Cache::CHI                                  0    2.0.0   
    Dancer2::Plugin::Captcha                                     0    0.14    
    Dancer2::Plugin::Cart                                        0    1.0001  
    Dancer2::Plugin::Chain                                       0    0.09    
    Dancer2::Plugin::ConditionalCaching                          0    0.001   
    Dancer2::Plugin::ControllerAutoload                          0    0.01    
    Dancer2::Plugin::CryptPassphrase                             0    0.002   
    Dancer2::Plugin::CSRF                                        0    1.01    
    Dancer2::Plugin::CSRFI                                       0    1.00    
    Dancer2::Plugin::Database                                    0    2.17    
    Dancer2::Plugin::DataTransposeValidator                      0    0.200   
    Dancer2::Plugin::DBIC                                        0    0.0100  
    Dancer2::Plugin::DBIx::Class                                 0    1.02    
    Dancer2::Plugin::DebugDump                                   0    0.41    
    Dancer2::Plugin::Debugger                                    0    0.008   
    Dancer2::Plugin::Deferred                                    0    0.008000
    Dancer2::Plugin::DoFile                                      0    0.11    
    Dancer2::Plugin::EditFile                                    0    0.005   
    Dancer2::Plugin::ElasticSearch                               0    0.004   
    Dancer2::Plugin::Email                                       0    0.0202  
    Dancer2::Plugin::Emailesque                                  0    0.03    
    Dancer2::Plugin::EncryptID                                   0    0.03    
    Dancer2::Plugin::Etcd                                        0    0.011   
    Dancer2::Plugin::Feed                                        0    1.160550
    Dancer2::Plugin::Flash                                       0    0.03    
  ! Dancer2::Plugin::FlashNote                                   0    n/a     
    Dancer2::Plugin::FontSubset                                  0    0.0.1   
    Dancer2::Plugin::FormValidator                               0    1.01    
    Dancer2::Plugin::FormValidator::Extension::DBIC              0    0.82    
    Dancer2::Plugin::FormValidator::Extension::Password          0    0.82    
    Dancer2::Plugin::Github::Webhook                             0    0.01    
  ! Dancer2::Plugin::GoogleAnalytics                             0    n/a     
    Dancer2::Plugin::GraphQL                                     0    0.09    
    Dancer2::Plugin::Growler                                     0    0.03    
  ! Dancer2::Plugin::HTTP::Auth::Extensible                      0    n/a     
    Dancer2::Plugin::HTTP::Bundle                                0    0.02    
    Dancer2::Plugin::HTTP::Caching                               0    0.01    
    Dancer2::Plugin::HTTP::ConditionalRequest                    0    0.05    
    Dancer2::Plugin::HTTP::ContentNegotiation                    0    0.02    
    Dancer2::Plugin::Interchange6                                0    0.204   
    Dancer2::Plugin::JSManager                                   0    0.013   
    Dancer2::Plugin::JWT                                         0    0.018   
  ! Dancer2::Plugin::Locale                                      0    n/a     
    Dancer2::Plugin::Locale::Meta                                0    0.006   
    Dancer2::Plugin::Locale::Wolowitz                            0    0.05    
    Dancer2::Plugin::LogContextual                               0    1.152121
    Dancer2::Plugin::LogReport                                   0    1.34    
    Dancer2::Plugin::Map::Tube                                   0    0.02    
    Dancer2::Plugin::MarkdownFilesToHTML                         0    0.017   
    Dancer2::Plugin::Menu                                        0    0.009   
    Dancer2::Plugin::Minify                                      0    0.002   
    Dancer2::Plugin::Minion                                      0    0.3.3   
    Dancer2::Plugin::MobileDevice                                0    0.000002
    Dancer2::Plugin::Model                                       0    1.152120
    Dancer2::Plugin::Multilang                                   0    1.2.0   
    Dancer2::Plugin::Negotiate                                   0    0.002   
    Dancer2::Plugin::OAuth2::Server                              0    0.10    
    Dancer2::Plugin::OpenAPIRoutes                               0    0.03    
    Dancer2::Plugin::PageHistory                                 0    0.210   
    Dancer2::Plugin::Paginator                                   0    2.09    
    Dancer2::Plugin::ParamTypes                                  0    0.005   
    Dancer2::Plugin::Passphrase                                  0    3.3.4   
  ! Dancer2::Plugin::Path::Class                                 0    n/a     
    Dancer2::Plugin::Pg                                          0    0.07    
    Dancer2::Plugin::ProbabilityRoute                            0    0       
    Dancer2::Plugin::ProgressStatus                              0    0.018   
    Dancer2::Plugin::PrometheusTiny                              0    0.005   
    Dancer2::Plugin::Queue                                       0    0.006   
    Dancer2::Plugin::Queue::IronMQ                               0    0.002   
  ! Dancer2::Plugin::Queue::MongoDB                              0    n/a     
    Dancer2::Plugin::reCAPTCHA                                   0    0.3     
    Dancer2::Plugin::Redis                                       0    0.009   
    Dancer2::Plugin::Res                                         0    0.10    
    Dancer2::Plugin::REST                                        0    1.02    
    Dancer2::Plugin::RootURIFor                                  0    0.03    
    Dancer2::Plugin::RoutePodCoverage                            0    0.071   
    Dancer2::Plugin::Routing                                     0    0.01    
    Dancer2::Plugin::RPC                                         0    2.02    
    Dancer2::Plugin::RPC::RESTISH                                0    2.02    
    Dancer2::Plugin::SessionDatabase                             0    0       
    Dancer2::Plugin::Shutdown                                    0    0.002   
  ! Dancer2::Plugin::Shutdown::Redis                             0    broken  
    Dancer2::Plugin::Sixpack                                     0    0.03    
    Dancer2::Plugin::SPID                                        0    0.11    
    Dancer2::Plugin::Syntax::GetPost                             0    0.002   
    Dancer2::Plugin::Syntax::ParamKeywords                       0    0.2.0   
    Dancer2::Plugin::SyntaxHighlight::Perl                       0    0.0009  
    Dancer2::Plugin::Tail                                        0    0.017   
    Dancer2::Plugin::TemplateFlute                               0    0.202   
    Dancer2::Plugin::UnicodeNormalize                            0    0.04    
    Dancer2::Plugin::ViewCache                                   0    1.0001  
    Dancer2::Plugin::WebService                                  0    4.4.3   
    Dancer2::Plugin::WebSocket                                   0    0.3.1   
    Dancer2::Serializer::CBOR                                    0    0.000002
    Dancer2::Serializer::XML                                     0    0.06    
    Dancer2::Session::CGISession                                 0    0.04    
    Dancer2::Session::CHI                                        0    0       
    Dancer2::Session::Cookie                                     0    0.009   
    Dancer2::Session::DatabasePlugin                             0    1.0014  
    Dancer2::Session::DBIC                                       0    0.120   
    Dancer2::Session::JSON                                       0    0.003   
    Dancer2::Session::Memcached                                  0    0.007   
    Dancer2::Session::MongoDB                                    0    0.004   
    Dancer2::Session::PSGI                                       0    0.010   
    Dancer2::Session::Redis                                      0    0.008   
    Dancer2::Session::Sereal                                     0    0.003   
    Dancer2::Template::Caribou                                   0    1.0.0   
    Dancer2::Template::Haml                                      0    0.04    
    Dancer2::Template::Handlebars                                0    0.4     
    Dancer2::Template::HTCompiled                                0    0.003   
    Dancer2::Template::Mason2                                    0    0.01    
    Dancer2::Template::MojoTemplate                              0    0       
    Dancer2::Template::Mustache                                  0    0.0.1   
    Dancer2::Template::Obj2HTML                                  0    0.11    
    Dancer2::Template::TemplateFlute                             0    0.203   
    Dancer2::Template::TextTemplate                              0    1.003   
    Dancer2::Template::Xslate                                    0    v0.2.0  

build_requires:

    Module                                                       Need Have    
    ------------------------------------------------------------ ---- --------
    ExtUtils::MakeMaker                                          6.36 7.66    


------------------------------
ENVIRONMENT AND OTHER CONTEXT
------------------------------

Environment variables:

    LC_ALL = de_DE.ISO8859-1
    PATH = /usr/local/bin:/usr/bin:/bin:/usr/local/sbin:/usr/sbin:/sbin:/home/cpansand/bin/freebsd10.3:/home/cpansand/bin/sh:/home/cpansand/bin:/usr/games:/home/cpansand/devel:/home/eserte/src/srezic-misc/scripts
    PERL5LIB = 
    PERL5OPT = 
    PERL5_CPANPLUS_IS_RUNNING = 53473
    PERL5_CPAN_IS_RUNNING = 53473
    PERL5_CPAN_IS_RUNNING_IN_RECURSION = 27465,53473
    PERLDOC = -MPod::Perldoc::ToTextOverstrike
    PERL_BATCH = yes
    PERL_CANARY_STABILITY_NOPROMPT = 1
    PERL_CPAN_REPORTER_CONFIG = /var/tmp/cpansmoker-1023/2023020708/cpanreporter_006_config.ini
    PERL_EXTUTILS_AUTOINSTALL = --defaultdeps
    PERL_USE_UNSAFE_INC = 1
    SHELL = /usr/local/bin/zsh
    TERM = screen
    TMPDIR = /var/tmp/cpansmoker-1023/2023020708

Perl special variables (and OS-specific diagnostics, for MSWin32):

    $^X = /usr/perl5.28.1p/bin/perl
    $UID/$EUID = 1023 / 1023
    $GID = 1023 1023
    $EGID = 1023 1023

Perl module toolchain versions installed:

    Module              Have    
    ------------------- --------
    CPAN                2.34    
    CPAN::Meta          2.150010
    Cwd                 3.75    
    ExtUtils::CBuilder  0.280236
    ExtUtils::Command   7.66    
    ExtUtils::Install   2.22    
    ExtUtils::MakeMaker 7.66    
    ExtUtils::Manifest  1.70    
    ExtUtils::ParseXS   3.39    
    File::Spec          3.75    
    JSON                4.10    
    JSON::PP            4.16    
    Module::Build       0.4232  
    Module::Signature   0.87    
    Parse::CPAN::Meta   2.150010
    Test::Harness       3.44    
    Test::More          1.302192
    YAML                1.30    
    YAML::Syck          1.34    
    version             0.9929  


--

Summary of my perl5 (revision 5 version 28 subversion 1) configuration:
   
  Platform:
    osname=freebsd
    osvers=10.3-release-p24
    archname=amd64-freebsd
    uname='freebsd cvrsnica-freebsd-101.herceg.de 10.3-release-p24 freebsd 10.3-release-p24 #0: wed nov 15 04:57:40 utc 2017 root@amd64-builder.daemonology.net:usrobjusrsrcsysgeneric amd64 '
    config_args='-ds -e -Dprefix=/usr/perl5.28.1p -Dcf_email=srezic@cpan.org -Doptimize=-O2 -pipe'
    hint=recommended
    useposix=true
    d_sigaction=define
    useithreads=undef
    usemultiplicity=undef
    use64bitint=define
    use64bitall=define
    uselongdouble=undef
    usemymalloc=n
    default_inc_excludes_dot=define
    bincompat5005=undef
  Compiler:
    cc='cc'
    ccflags ='-DHAS_FPSETMASK -DHAS_FLOATINGPOINT_H -fno-strict-aliasing -pipe -fstack-protector -I/usr/local/include -D_FORTIFY_SOURCE=2'
    optimize='-O2 -pipe'
    cppflags='-DHAS_FPSETMASK -DHAS_FLOATINGPOINT_H -fno-strict-aliasing -pipe -fstack-protector -I/usr/local/include'
    ccversion=''
    gccversion='4.2.1 Compatible FreeBSD Clang 3.4.1 (tags/RELEASE_34/dot1-final 208032)'
    gccosandvers=''
    intsize=4
    longsize=8
    ptrsize=8
    doublesize=8
    byteorder=12345678
    doublekind=3
    d_longlong=define
    longlongsize=8
    d_longdbl=define
    longdblsize=16
    longdblkind=3
    ivtype='long'
    ivsize=8
    nvtype='double'
    nvsize=8
    Off_t='off_t'
    lseeksize=8
    alignbytes=8
    prototype=define
  Linker and Libraries:
    ld='cc'
    ldflags ='-pthread -Wl,-E  -fstack-protector -L/usr/local/lib'
    libpth=/usr/lib /usr/local/lib /usr/include/clang/3.4.1 /usr/lib
    libs=-lpthread -lgdbm -lm -lcrypt -lutil -lc -lelf
    perllibs=-lpthread -lm -lcrypt -lutil -lc -lelf
    libc=
    so=so
    useshrplib=false
    libperl=libperl.a
    gnulibc_version=''
  Dynamic Linking:
    dlsrc=dl_dlopen.xs
    dlext=so
    d_dlsymun=undef
    ccdlflags=' '
    cccdlflags='-DPIC -fPIC'
    lddlflags='-shared  -L/usr/local/lib -fstack-protector'


Characteristics of this binary (from libperl): 
  Compile-time options:
    HAS_TIMES
    PERLIO_LAYERS
    PERL_COPY_ON_WRITE
    PERL_DONT_CREATE_GVSV
    PERL_MALLOC_WRAP
    PERL_OP_PARENT
    PERL_PRESERVE_IVUV
    USE_64_BIT_ALL
    USE_64_BIT_INT
    USE_LARGE_FILES
    USE_LOCALE
    USE_LOCALE_COLLATE
    USE_LOCALE_CTYPE
    USE_LOCALE_NUMERIC
    USE_LOCALE_TIME
    USE_PERLIO
    USE_PERL_ATOF
  Built under freebsd
  Compiled at Dec 12 2018 23:03:41
  %ENV:
    PERL5LIB=""
    PERL5OPT=""
    PERL5_CPANPLUS_IS_RUNNING="53473"
    PERL5_CPAN_IS_RUNNING="53473"
    PERL5_CPAN_IS_RUNNING_IN_RECURSION="27465,53473"
    PERLDOC="-MPod::Perldoc::ToTextOverstrike"
    PERL_BATCH="yes"
    PERL_CANARY_STABILITY_NOPROMPT="1"
    PERL_CPAN_REPORTER_CONFIG="/var/tmp/cpansmoker-1023/2023020708/cpanreporter_006_config.ini"
    PERL_EXTUTILS_AUTOINSTALL="--defaultdeps"
    PERL_USE_UNSAFE_INC="1"
  @INC:
    /usr/perl5.28.1p/lib/site_perl/5.28.1/amd64-freebsd
    /usr/perl5.28.1p/lib/site_perl/5.28.1
    /usr/perl5.28.1p/lib/5.28.1/amd64-freebsd
    /usr/perl5.28.1p/lib/5.28.1
    .