Report for LWP-Protocol-Coro-http-v1.8.0

Back
From: metabase:user:314402c4-2aae-11df-837a-5e0a49663a4f
Subject: PASS LWP-Protocol-Coro-http-v1.8.0 v5.18.4 GNU/Linux
Date: 2016-02-17T11:48:12Z

This distribution has been tested as part of the CPAN Testers
project, supporting the Perl programming language.  See
http://wiki.cpantesters.org/ for more information or email
questions to cpan-testers-discuss@perl.org


--
Dear ikegami,

This is a computer-generated report for LWP-Protocol-Coro-http-v1.8.0
on perl 5.18.4, created by CPAN-Reporter-1.2015.

Thank you for uploading your work to CPAN.  Congratulations!
All tests were successful.

Sections of this report:

    * Tester comments
    * Program output
    * Prerequisites
    * Environment and other context

------------------------------
TESTER COMMENTS
------------------------------

Additional comments from tester:

none provided

------------------------------
PROGRAM OUTPUT
------------------------------

Output from './Build test':

# Testing LWP::Protocol::Coro::http v1.8.0, Perl 5.018004
# AnyEvent 7.11
# AnyEvent::HTTP 2.22
# AnyEvent::Handle 7.11
# AnyEvent::Util 7.11
# AutoLoader 5.74
# Carp 1.36
# Config 5.018004
# Coro 6.43
# Coro::Channel 6.43
# Coro::Semaphore 6.43
# Coro::State 6.43
# DynaLoader 1.18
# Errno 1.18
# Exporter 5.72
# Exporter::Heavy 5.72
# Fcntl 1.11
# Guard 1.022
# HTTP::Headers 6.11
# HTTP::Message 6.11
# HTTP::Response 6.11
# HTTP::Status 6.11
# IO 1.28
# IO::Handle 1.34
# IO::Socket 1.36
# IO::Socket::INET 1.33
# IO::Socket::IP 0.37
# IO::Socket::UNIX 1.24
# LWP::MemberMixin <unknown>
# LWP::Protocol 6.15
# LWP::Protocol::Coro::http v1.8.0
# LWP::Protocol::http <unknown>
# List::Util 1.43
# Log::Agent 1.001
# Log::Agent::Formatting <unknown>
# Log::Agent::Message <unknown>
# Log::Agent::Priorities <unknown>
# Net::HTTP 6.07
# Net::HTTP::Methods 6.07
# POSIX 1.32
# PerlIO 1.07
# Scalar::Util 1.43
# SelectSaver 1.02
# Socket 2.021
# Storable 2.51
# Symbol 1.07
# Test::Builder 1.001014
# Test::Builder::Module 1.001014
# Test::More 1.001014
# Tie::Hash 1.04
# URI 1.71
# URI::Escape 3.31
# XSLoader 0.16
# base 2.18
# common::sense 3.73
# constant 1.33
# overload 1.22
# overloading 0.02
# strict 1.07
# vars 1.03
# version 0.9913
# version::regex 0.9913
# version::vxs 0.9913
# warnings 1.18
# warnings::register 1.02
t/00_load.t .................. ok
# Retrieving URL: http://localhost:58165/
# Waiting for reply
# Waiting for reply
# Waiting for reply
# Waiting for reply
# Shutting down server
# Done
t/01_timer.t ................. ok
# Retrieving URL: http://localhost:55938/chunks
# Waiting for reply
# Got chunk
# Waiting for reply
# Got chunk
# Waiting for reply
# Got chunk
# Waiting for reply
# Got chunk
# Waiting for reply
# Got chunk
# Waiting for reply
# Shutting down server
# Done
t/02_large.t ................. ok
# Retrieving URL: http://localhost:33442/error/after_headers
# Waiting for reply
# Got chunk
# Waiting for reply
# Got chunk
# Waiting for reply
# Shutting down server
# Done
t/03_error_after_headers.t ... ok
# Retrieving URL: http://localhost:42035/error/notfound/foo
# Waiting for reply
# Shutting down server
# Done
t/04_error_404.t ............. ok
# Retrieving URL: http://doesnotexist.example
t/05_error_500_bogus_host.t .. ok
# Retrieving URL: http://localhost:36025/referer
# Waiting for reply
# Shutting down server
# Done
t/06_referer.t ............... ok
# Retrieving URL: http://localhost:39622/
# Shutting down server
# Done
t/07_proxy.t ................. ok
# Retrieving URL: http://localhost:50541/multiline_header
# Waiting for reply
# Shutting down server
# Done
t/08_multiline_header.t ...... ok
All tests successful.
Files=9, Tests=28, 31 wallclock secs ( 0.03 usr  0.06 sys +  1.34 cusr  0.51 csys =  1.94 CPU)
Result: PASS

------------------------------
PREREQUISITES
------------------------------

Prerequisite modules loaded:

requires:

    Module                     Need   Have    
    -------------------------- ------ --------
    AnyEvent::HTTP             2      2.22    
    Coro::Channel              0      6.43    
    HTTP::Response             0      6.11    
    LWP::Protocol              0      6.15    
    LWP::Protocol::http        0      0       
    LWP::Simple                5.827  6.15    
    version                    0      0.9913  

build_requires:

    Module                     Need   Have    
    -------------------------- ------ --------
    AnyEvent                   0      7.11    
    Carp                       0      1.36    
    CGI                        0      4.22    
    File::Spec                 0      3.62    
    File::Temp                 0      0.2304  
    FindBin                    0      1.51    
    Getopt::Long               0      2.46    
    HTTP::Daemon               0      6.01    
    LWP::Simple                0      6.15    
    Test::More                 0      1.001014
    URI                        0      1.71    
    URI::URL                   0      5.04    

configure_requires:

    Module                     Need   Have    
    -------------------------- ------ --------
    Module::Build              0.3614 0.4214  
    Software::License::CC0_1_0 0      0.103010


------------------------------
ENVIRONMENT AND OTHER CONTEXT
------------------------------

Environment variables:

    LANG = C
    PATH = /usr/local/bin:/usr/bin:/bin:/usr/local/sbin:/usr/sbin:/sbin:/home/cpansand/bin/linux-gnu:/home/cpansand/bin/sh:/home/cpansand/bin:/usr/games:/home/cpansand/devel:/home/eserte/src/srezic-misc/scripts
    PERL5LIB = /home/cpansand/.cpan/build/2016021709/Test-More-Behaviour-1.0.1-uuGXqW/blib/arch:/home/cpansand/.cpan/build/2016021709/Test-More-Behaviour-1.0.1-uuGXqW/blib/lib:/home/cpansand/.cpan/build/2016021709/PPIx-Grep-v0.0.6-oxQG8S/blib/arch:/home/cpansand/.cpan/build/2016021709/PPIx-Grep-v0.0.6-oxQG8S/blib/lib:/home/cpansand/.cpan/build/2016021709/Archive-Zip-Parser-v0.0.3-T7LHZ2/blib/arch:/home/cpansand/.cpan/build/2016021709/Archive-Zip-Parser-v0.0.3-T7LHZ2/blib/lib:/home/cpansand/.cpan/build/2016021709/Data-ParseBinary-0.31-Wt9f0r/blib/arch:/home/cpansand/.cpan/build/2016021709/Data-ParseBinary-0.31-Wt9f0r/blib/lib:/home/cpansand/.cpan/build/2016021709/version-0.9913-TcBd6M/blib/arch:/home/cpansand/.cpan/build/2016021709/version-0.9913-TcBd6M/blib/lib
    PERL5OPT = 
    PERL5_CPANPLUS_IS_RUNNING = 2829
    PERL5_CPAN_IS_RUNNING = 2829
    PERL5_CPAN_IS_RUNNING_IN_RECURSION = 19556,2829
    PERLDOC = -MPod::Perldoc::ToTextOverstrike
    PERL_BATCH = yes
    PERL_CANARY_STABILITY_NOPROMPT = 1
    PERL_CPAN_REPORTER_CONFIG = /var/tmp/cpansmoker-1023/2016021706/cpanreporter_002_config.ini
    PERL_EXTUTILS_AUTOINSTALL = --defaultdeps
    SHELL = /bin/zsh
    TERM = screen
    TMPDIR = /var/tmp/cpansmoker-1023/2016021706

Perl special variables (and OS-specific diagnostics, for MSWin32):

    $^X = /bbbike/perl-5.18.4/bin/perl
    $UID/$EUID = 1023 / 1023
    $GID = 1023 1023
    $EGID = 1023 1023

Perl module toolchain versions installed:

    Module              Have    
    ------------------- --------
    CPAN                2.05    
    CPAN::Meta          2.150005
    Cwd                 3.62    
    ExtUtils::CBuilder  0.280220
    ExtUtils::Command   7.10    
    ExtUtils::Install   2.04    
    ExtUtils::MakeMaker 7.10    
    ExtUtils::Manifest  1.68    
    ExtUtils::ParseXS   3.24    
    File::Spec          3.62    
    JSON                2.90    
    JSON::PP            2.27300 
    Module::Build       0.4214  
    Module::Signature   0.73    
    Parse::CPAN::Meta   1.4414  
    Test::Harness       3.36    
    Test::More          1.001014
    YAML                1.15    
    YAML::Syck          1.29    
    version             0.9913  


--

Summary of my perl5 (revision 5 version 18 subversion 4) configuration:
   
  Platform:
    osname=linux, osvers=3.2.0-4-amd64, archname=x86_64-linux
    uname='linux eserte 3.2.0-4-amd64 #1 smp debian 3.2.60-1+deb7u3 x86_64 gnulinux '
    config_args='-ds -e -Dprefix=/opt/perl-5.18.4'
    hint=recommended, useposix=true, d_sigaction=define
    useithreads=undef, usemultiplicity=undef
    useperlio=define, d_sfio=undef, uselargefiles=define, usesocks=undef
    use64bitint=define, use64bitall=define, uselongdouble=undef
    usemymalloc=n, bincompat5005=undef
  Compiler:
    cc='cc', ccflags ='-fno-strict-aliasing -pipe -fstack-protector -I/usr/local/include -D_LARGEFILE_SOURCE -D_FILE_OFFSET_BITS=64',
    optimize='-O2',
    cppflags='-fno-strict-aliasing -pipe -fstack-protector -I/usr/local/include'
    ccversion='', gccversion='4.7.2', gccosandvers=''
    intsize=4, longsize=8, ptrsize=8, doublesize=8, byteorder=12345678
    d_longlong=define, longlongsize=8, d_longdbl=define, longdblsize=16
    ivtype='long', ivsize=8, nvtype='double', nvsize=8, Off_t='off_t', lseeksize=8
    alignbytes=8, prototype=define
  Linker and Libraries:
    ld='cc', ldflags =' -fstack-protector -L/usr/local/lib'
    libpth=/usr/local/lib /lib/x86_64-linux-gnu /lib/../lib /usr/lib/x86_64-linux-gnu /usr/lib/../lib /lib /usr/lib
    libs=-lnsl -ldb -ldl -lm -lcrypt -lutil -lc
    perllibs=-lnsl -ldl -lm -lcrypt -lutil -lc
    libc=, so=so, useshrplib=false, libperl=libperl.a
    gnulibc_version='2.13'
  Dynamic Linking:
    dlsrc=dl_dlopen.xs, dlext=so, d_dlsymun=undef, ccdlflags='-Wl,-E'
    cccdlflags='-fPIC', lddlflags='-shared -O2 -L/usr/local/lib -fstack-protector'


Characteristics of this binary (from libperl): 
  Compile-time options: HAS_TIMES PERLIO_LAYERS PERL_DONT_CREATE_GVSV
                        PERL_HASH_FUNC_ONE_AT_A_TIME_HARD PERL_MALLOC_WRAP
                        PERL_PRESERVE_IVUV PERL_SAWAMPERSAND USE_64_BIT_ALL
                        USE_64_BIT_INT USE_LARGE_FILES USE_LOCALE
                        USE_LOCALE_COLLATE USE_LOCALE_CTYPE
                        USE_LOCALE_NUMERIC USE_PERLIO USE_PERL_ATOF
  Built under linux
  Compiled at Oct  2 2014 05:37:02
  %ENV:
    PERL5LIB="/home/cpansand/.cpan/build/2016021709/Test-More-Behaviour-1.0.1-uuGXqW/blib/arch:/home/cpansand/.cpan/build/2016021709/Test-More-Behaviour-1.0.1-uuGXqW/blib/lib:/home/cpansand/.cpan/build/2016021709/PPIx-Grep-v0.0.6-oxQG8S/blib/arch:/home/cpansand/.cpan/build/2016021709/PPIx-Grep-v0.0.6-oxQG8S/blib/lib:/home/cpansand/.cpan/build/2016021709/Archive-Zip-Parser-v0.0.3-T7LHZ2/blib/arch:/home/cpansand/.cpan/build/2016021709/Archive-Zip-Parser-v0.0.3-T7LHZ2/blib/lib:/home/cpansand/.cpan/build/2016021709/Data-ParseBinary-0.31-Wt9f0r/blib/arch:/home/cpansand/.cpan/build/2016021709/Data-ParseBinary-0.31-Wt9f0r/blib/lib:/home/cpansand/.cpan/build/2016021709/version-0.9913-TcBd6M/blib/arch:/home/cpansand/.cpan/build/2016021709/version-0.9913-TcBd6M/blib/lib"
    PERL5OPT=""
    PERL5_CPANPLUS_IS_RUNNING="2829"
    PERL5_CPAN_IS_RUNNING="2829"
    PERL5_CPAN_IS_RUNNING_IN_RECURSION="19556,2829"
    PERLDOC="-MPod::Perldoc::ToTextOverstrike"
    PERL_BATCH="yes"
    PERL_CANARY_STABILITY_NOPROMPT="1"
    PERL_CPAN_REPORTER_CONFIG="/var/tmp/cpansmoker-1023/2016021706/cpanreporter_002_config.ini"
    PERL_EXTUTILS_AUTOINSTALL="--defaultdeps"
  @INC:
    /home/cpansand/.cpan/build/2016021709/Test-More-Behaviour-1.0.1-uuGXqW/blib/arch
    /home/cpansand/.cpan/build/2016021709/Test-More-Behaviour-1.0.1-uuGXqW/blib/lib
    /home/cpansand/.cpan/build/2016021709/PPIx-Grep-v0.0.6-oxQG8S/blib/arch
    /home/cpansand/.cpan/build/2016021709/PPIx-Grep-v0.0.6-oxQG8S/blib/lib
    /home/cpansand/.cpan/build/2016021709/Archive-Zip-Parser-v0.0.3-T7LHZ2/blib/arch
    /home/cpansand/.cpan/build/2016021709/Archive-Zip-Parser-v0.0.3-T7LHZ2/blib/lib
    /home/cpansand/.cpan/build/2016021709/Data-ParseBinary-0.31-Wt9f0r/blib/arch
    /home/cpansand/.cpan/build/2016021709/Data-ParseBinary-0.31-Wt9f0r/blib/lib
    /home/cpansand/.cpan/build/2016021709/version-0.9913-TcBd6M/blib/arch
    /home/cpansand/.cpan/build/2016021709/version-0.9913-TcBd6M/blib/lib
    /opt/perl-5.18.4/lib/site_perl/5.18.4/x86_64-linux
    /opt/perl-5.18.4/lib/site_perl/5.18.4
    /opt/perl-5.18.4/lib/5.18.4/x86_64-linux
    /opt/perl-5.18.4/lib/5.18.4
    .