Back
From: metabase:user:0b91ce32-3676-11e1-a1bc-bfed0df65b4f
Subject: PASS WebService-Face-0.04 v5.16.0 GNU/Linux
Date: 2012-06-06T22:31:13Z
This distribution has been tested as part of the CPAN Testers
project, supporting the Perl programming language. See
http://wiki.cpantesters.org/ for more information or email
questions to cpan-testers-discuss@perl.org
--
Dear Arnaud 'Arhuman' Assad,
This is a computer-generated report for WebService-Face-0.04
on perl 5.16.0, created by CPAN-Reporter-1.2006.
Thank you for uploading your work to CPAN. Congratulations!
All tests were successful.
Sections of this report:
* Tester comments
* Program output
* Prerequisites
* Environment and other context
------------------------------
TESTER COMMENTS
------------------------------
Additional comments from tester:
this report is from an automated smoke testing program
and was not reviewed by a human for accuracy
------------------------------
PROGRAM OUTPUT
------------------------------
Output from '/usr/bin/make test':
PERL_DL_NONLAZY=1 /opt/perl-5.16.0/bin/perl "-MExtUtils::Command::MM" "-e" "test_harness(0, 'blib/lib', 'blib/arch')" t/*.t
# Testing WebService::Face::Client 0.04, Perl 5.016000, /opt/perl-5.16.0/bin/perl
t/00-load.t ....... ok
Set FACE_API_KEY, FACE_API_SECRET for testing
t/10-client.t ..... skipped: Set environment vars for API access
Set FACE_API_KEY, FACE_API_SECRET for testing
t/20-response.t ... skipped: Set environment vars for API access
Set FACE_API_KEY, FACE_API_SECRET for testing
t/30-photo.t ...... skipped: Set environment vars for API access
Set FACE_API_KEY, FACE_API_SECRET for testing
t/40-tag.t ........ skipped: Set environment vars for API access
Set FACE_API_KEY, FACE_API_SECRET for testing
t/50-client.t ..... skipped: Set environment vars for API access
Set FACE_API_KEY, FACE_API_SECRET for testing
t/60-store.t ...... skipped: Set environment vars for API access
t/boilerplate.t ... ok
t/manifest.t ...... skipped: Author tests not required for installation
t/pod-coverage.t .. ok
t/pod.t ........... ok
All tests successful.
Test Summary Report
-------------------
t/boilerplate.t (Wstat: 0 Tests: 3 Failed: 0)
TODO passed: 1-3
Files=11, Tests=17, 5 wallclock secs ( 0.10 usr 0.02 sys + 2.61 cusr 0.28 csys = 3.01 CPU)
Result: PASS
------------------------------
PREREQUISITES
------------------------------
Prerequisite modules loaded:
requires:
Module Need Have
------------------- ---- ----
JSON 0 2.53
REST::Client 0 245
Storable 0 2.30
Test::More 0 0.98
build_requires:
Module Need Have
------------------- ---- ----
ExtUtils::MakeMaker 0 6.62
configure_requires:
Module Need Have
------------------- ---- ----
Module::Build 0.4 0.40
------------------------------
ENVIRONMENT AND OTHER CONTEXT
------------------------------
Environment variables:
AUTOMATED_TESTING = 1
LANG = en_US.UTF-8
PATH = /usr/kerberos/sbin:/usr/kerberos/bin:/usr/local/sbin:/usr/local/bin:/sbin:/bin:/usr/sbin:/usr/bin:/opt/real/RealPlayer:/root/bin:/opt/real/RealPlayer
PERL5LIB = /root/.cpan/build/REST-Client-245-UNtSrS/blib/arch:/root/.cpan/build/REST-Client-245-UNtSrS/blib/lib:/root/.cpan/build/Crypt-SSLeay-0.58-J5lvOJ/blib/arch:/root/.cpan/build/Crypt-SSLeay-0.58-J5lvOJ/blib/lib
PERL5OPT =
PERL5_CPANPLUS_IS_RUNNING = 9858
PERL5_CPAN_IS_RUNNING = 9858
PERL5_CPAN_IS_RUNNING_IN_RECURSION = 8398,9858
PERL_CR_SMOKER_CURRENT = WebService-Face-0.04
PERL_EXTUTILS_AUTOINSTALL = --defaultdeps
PERL_MM_USE_DEFAULT = 1
SHELL = /bin/bash
TERM = xterm
Perl special variables (and OS-specific diagnostics, for MSWin32):
$^X = /opt/perl-5.16.0/bin/perl
$UID/$EUID = 0 / 0
$GID = 0 0 1 2 3 4 6 10
$EGID = 0 0 1 2 3 4 6 10
Perl module toolchain versions installed:
Module Have
------------------- --------
CPAN 1.9800
CPAN::Meta 2.120921
Cwd 3.33
ExtUtils::CBuilder 0.280205
ExtUtils::Command 1.17
ExtUtils::Install 1.58
ExtUtils::MakeMaker 6.62
ExtUtils::Manifest 1.60
ExtUtils::ParseXS 3.15
File::Spec 3.33
JSON 2.53
JSON::PP 2.27200
Module::Build 0.40
Module::Signature 0.68
Parse::CPAN::Meta 1.4404
Test::Harness 3.23
Test::More 0.98
YAML 0.81
YAML::Syck 1.20
version 0.99
--
Summary of my perl5 (revision 5 version 16 subversion 0) configuration:
Platform:
osname=linux, osvers=2.6.18-1.2798.fc6, archname=i686-linux-thread-multi-64int-ld
uname='linux localhost.localdomain 2.6.18-1.2798.fc6 #1 smp mon oct 16 14:37:32 edt 2006 i686 i686 i386 gnulinux '
config_args='-Dcc=gcc -Dprefix=/opt/perl-5.16.0 -DDEBUGGING'
hint=recommended, useposix=true, d_sigaction=define
useithreads=define, usemultiplicity=define
useperlio=define, d_sfio=undef, uselargefiles=define, usesocks=undef
use64bitint=define, use64bitall=undef, uselongdouble=define
usemymalloc=n, bincompat5005=undef
Compiler:
cc='gcc', ccflags ='-D_REENTRANT -D_GNU_SOURCE -DDEBUGGING -fno-strict-aliasing -pipe -fstack-protector -I/usr/local/include -D_LARGEFILE_SOURCE -D_FILE_OFFSET_BITS=64',
optimize='-O2 -g',
cppflags='-D_REENTRANT -D_GNU_SOURCE -DDEBUGGING -fno-strict-aliasing -pipe -fstack-protector -I/usr/local/include'
ccversion='', gccversion='4.1.1 20061011 (Red Hat 4.1.1-30)', gccosandvers=''
intsize=4, longsize=4, ptrsize=4, doublesize=8, byteorder=12345678
d_longlong=define, longlongsize=8, d_longdbl=define, longdblsize=12
ivtype='long long', ivsize=8, nvtype='long double', nvsize=12, Off_t='off_t', lseeksize=8
alignbytes=4, prototype=define
Linker and Libraries:
ld='gcc', ldflags =' -fstack-protector -L/usr/local/lib'
libpth=/usr/local/lib /lib /usr/lib
libs=-lnsl -lgdbm -ldb -ldl -lm -lcrypt -lutil -lpthread -lc
perllibs=-lnsl -ldl -lm -lcrypt -lutil -lpthread -lc
libc=/lib/libc-2.5.so, so=so, useshrplib=true, libperl=libperl.so
gnulibc_version='2.5'
Dynamic Linking:
dlsrc=dl_dlopen.xs, dlext=so, d_dlsymun=undef, ccdlflags='-Wl,-E -Wl,-rpath,/opt/perl-5.16.0/lib/5.16.0/i686-linux-thread-multi-64int-ld/CORE'
cccdlflags='-fPIC', lddlflags='-shared -O2 -g -L/usr/local/lib -fstack-protector'
Characteristics of this binary (from libperl):
Compile-time options: DEBUGGING HAS_TIMES MULTIPLICITY PERLIO_LAYERS
PERL_DONT_CREATE_GVSV PERL_IMPLICIT_CONTEXT
PERL_MALLOC_WRAP PERL_PRESERVE_IVUV
PERL_TRACK_MEMPOOL USE_64_BIT_INT USE_FAST_STDIO
USE_ITHREADS USE_LARGE_FILES USE_LOCALE
USE_LOCALE_COLLATE USE_LOCALE_CTYPE
USE_LOCALE_NUMERIC USE_LONG_DOUBLE USE_PERLIO
USE_PERL_ATOF USE_REENTRANT_API
Built under linux
Compiled at Jun 1 2012 21:03:52
%ENV:
PERL5LIB="/root/.cpan/build/REST-Client-245-UNtSrS/blib/arch:/root/.cpan/build/REST-Client-245-UNtSrS/blib/lib:/root/.cpan/build/Crypt-SSLeay-0.58-J5lvOJ/blib/arch:/root/.cpan/build/Crypt-SSLeay-0.58-J5lvOJ/blib/lib"
PERL5OPT=""
PERL5_CPANPLUS_IS_RUNNING="9858"
PERL5_CPAN_IS_RUNNING="9858"
PERL5_CPAN_IS_RUNNING_IN_RECURSION="8398,9858"
PERL_CR_SMOKER_CURRENT="WebService-Face-0.04"
PERL_EXTUTILS_AUTOINSTALL="--defaultdeps"
PERL_MM_USE_DEFAULT="1"
@INC:
/root/.cpan/build/REST-Client-245-UNtSrS/blib/arch
/root/.cpan/build/REST-Client-245-UNtSrS/blib/lib
/root/.cpan/build/Crypt-SSLeay-0.58-J5lvOJ/blib/arch
/root/.cpan/build/Crypt-SSLeay-0.58-J5lvOJ/blib/lib
/opt/perl-5.16.0/lib/site_perl/5.16.0/i686-linux-thread-multi-64int-ld
/opt/perl-5.16.0/lib/site_perl/5.16.0
/opt/perl-5.16.0/lib/5.16.0/i686-linux-thread-multi-64int-ld
/opt/perl-5.16.0/lib/5.16.0
.