Alien-libpid v0.033 Perl 5 v5.10.1 amd64-freebsd
- Status
- Pass
- From
- Slaven Rezić (SREZIC)
- Dist
-
Alien-libpid v0.033
- Platform
- Perl 5 v5.10.1 amd64-freebsd
- Date
- 2019-01-19 20:10:53
- ID
- 52ee567c-1c26-11e9-888e-f3b8b6cb56dd
This distribution has been tested as part of the CPAN Testers
project, supporting the Perl programming language. See
http://wiki.cpantesters.org/ for more information or email
questions to cpan-testers-discuss@perl.org
--
Dear Ahmad Fatoum,
This is a computer-generated report for Alien-libpid-0.033
on perl 5.10.1, created by CPAN-Reporter-1.2018.
Thank you for uploading your work to CPAN. Congratulations!
All tests were successful.
Sections of this report:
* Tester comments
* Program output
* Prerequisites
* Environment and other context
------------------------------
TESTER COMMENTS
------------------------------
Additional comments from tester:
none provided
------------------------------
PROGRAM OUTPUT
------------------------------
Output from '/usr/bin/make test':
"/usr/perl5.10.1/bin/perl" -MAlien::Build::MM=cmd -e test
Useless use of string ne in void context at /usr/home/eserte/.cpan/build/2019011919/Alien-libpid-0.033-4/alienfile line 29.
Alien::Build::Plugin::PkgConfig::Negotiate> Using PkgConfig plugin: PkgConfig::LibPkgConf
PERL_DL_NONLAZY=1 "/usr/perl5.10.1/bin/perl" "-MExtUtils::Command::MM" "-MTest::Harness" "-e" "undef *Test::Harness::Switches; test_harness(0, 'blib/lib', 'blib/arch')" t/*.t
t/00-compile.t ......... ok
#
# Versions for all modules listed in MYMETA.json (including optional ones):
#
# === Configure Requires ===
#
# Module Want Have
# ---------------------------------- ---- ----
# Alien::Build 0.32 1.46
# Alien::Build::MM 0.32 1.46
# Alien::Build::Plugin::Build::CMake 0.99 1.46
# ExtUtils::MakeMaker 6.52 7.34
#
# === Build Requires ===
#
# Module Want Have
# -------------------------------------------- ----- -----
# Alien::Build 0.32 1.46
# Alien::Build::MM 0.32 1.46
# Alien::Build::Plugin::Gather::IsolateDynamic 0.48 1.46
# Alien::cmake3 0.02 0.03
# Archive::Tar any 2.30
# Config any undef
# ExtUtils::MakeMaker 6.52 7.34
# HTTP::Tiny 0.044 0.076
# IO::Socket::SSL 1.56 2.060
# IO::Zlib any 1.10
# Net::SSLeay 1.49 1.85
# URI any 1.74
#
# === Test Requires ===
#
# Module Want Have
# ------------------- ---- --------
# ExtUtils::MakeMaker 6.52 7.34
# File::Spec any 3.74
# IO::Handle any 1.39
# IPC::Open3 any 1.04
# Test2::Bundle::More any 0.000118
# Test::Alien 0.05 1.46
# Test::More any 1.302160
#
# === Test Recommends ===
#
# Module Want Have
# ---------- -------- --------
# CPAN::Meta 2.120900 2.150010
#
# === Runtime Requires ===
#
# Module Want Have
# ------------ ----- -----
# Alien::Base 0.038 1.46
# Alien::Build 0.25 1.46
# parent any 0.236
# strict any 1.04
# warnings any 1.06
#
t/00-report-prereqs.t .. ok
t/init.t ............... ok
All tests successful.
Files=3, Tests=5, 2 wallclock secs ( 0.01 usr 0.02 sys + 0.40 cusr 0.11 csys = 0.53 CPU)
Result: PASS
------------------------------
PREREQUISITES
------------------------------
Prerequisite modules loaded:
requires:
Module Need Have
-------------------------------------------- ----- --------
Alien::Base 0.038 1.46
Alien::Build 0.25 1.46
parent 0 0.236
perl 5.008 5.010001
strict 0 1.04
warnings 0 1.06
build_requires:
Module Need Have
-------------------------------------------- ----- --------
Alien::Build 0.32 1.46
Alien::Build::MM 0.32 1.46
Alien::Build::Plugin::Gather::IsolateDynamic 0.48 1.46
Alien::cmake3 0.02 0.03
Archive::Tar 0 2.30
Config 0 0
ExtUtils::MakeMaker 6.52 7.34
File::Spec 0 3.74
HTTP::Tiny 0.044 0.076
IO::Handle 0 1.39
IO::Socket::SSL 1.56 2.060
IO::Zlib 0 1.10
IPC::Open3 0 1.04
Net::SSLeay 1.49 1.85
Test2::Bundle::More 0 0.000118
Test::Alien 0.05 1.46
Test::More 0 1.302160
URI 0 1.74
configure_requires:
Module Need Have
-------------------------------------------- ----- --------
Alien::Build 0.32 1.46
Alien::Build::MM 0.32 1.46
Alien::Build::Plugin::Build::CMake 0.99 1.46
ExtUtils::MakeMaker 6.52 7.34
------------------------------
ENVIRONMENT AND OTHER CONTEXT
------------------------------
Environment variables:
LC_ALL = de_DE.ISO8859-1
PATH = /usr/local/bin:/usr/bin:/bin:/usr/local/sbin:/usr/sbin:/sbin:/home/cpansand/bin/freebsd9.3:/home/cpansand/bin/sh:/home/cpansand/bin:/usr/games:/home/cpansand/devel:/usr/home/eserte/src/srezic-misc/scripts
PERL5LIB =
PERL5OPT =
PERL5_CPANPLUS_IS_RUNNING = 34390
PERL5_CPAN_IS_RUNNING = 34390
PERL5_CPAN_IS_RUNNING_IN_RECURSION = 21178,34390
PERLDOC = -MPod::Perldoc::ToTextOverstrike
PERL_BATCH = yes
PERL_CANARY_STABILITY_NOPROMPT = 1
PERL_CPAN_REPORTER_CONFIG = /var/tmp/cpansmoker-1023/2019011919/cpanreporter_000_config.ini
PERL_EXTUTILS_AUTOINSTALL = --defaultdeps
PERL_USE_UNSAFE_INC = 1
SHELL = /usr/local/bin/zsh
TERM = screen
TMPDIR = /var/tmp/cpansmoker-1023/2019011919
Perl special variables (and OS-specific diagnostics, for MSWin32):
$^X = /usr/perl5.10.1/bin/perl
$UID/$EUID = 1023 / 1023
$GID = 1023 1023
$EGID = 1023 1023
Perl module toolchain versions installed:
Module Have
------------------- --------
CPAN 2.22
CPAN::Meta 2.150010
Cwd 3.74
ExtUtils::CBuilder 0.280230
ExtUtils::Command 7.34
ExtUtils::Install 2.14
ExtUtils::MakeMaker 7.34
ExtUtils::Manifest 1.71
ExtUtils::ParseXS 3.35
File::Spec 3.74
JSON 4.00
JSON::PP 4.00
Module::Build 0.4224
Module::Signature 0.81
Parse::CPAN::Meta 2.150010
Test::Harness 3.41
Test::More 1.302160
YAML 1.27
YAML::Syck 1.31
version 0.9924
--
Summary of my perl5 (revision 5 version 10 subversion 1) configuration:
Platform:
osname=freebsd, osvers=9.2-release-p4, archname=amd64-freebsd
uname='freebsd cvrsnica-freebsd-92 9.2-release-p4 freebsd 9.2-release-p4 #0: tue apr 8 18:08:22 utc 2014 root@amd64-builder.daemonology.net:usrobjusrsrcsysgeneric amd64 '
config_args='-ds -e -Dprefix=/usr/perl5.10.1'
hint=recommended, useposix=true, d_sigaction=define
useithreads=undef, usemultiplicity=undef
useperlio=define, d_sfio=undef, uselargefiles=define, usesocks=undef
use64bitint=define, use64bitall=define, uselongdouble=undef
usemymalloc=n, bincompat5005=undef
Compiler:
cc='cc', ccflags ='-DHAS_FPSETMASK -DHAS_FLOATINGPOINT_H -fno-strict-aliasing -pipe -fstack-protector -I/usr/local/include',
optimize='-O',
cppflags='-DHAS_FPSETMASK -DHAS_FLOATINGPOINT_H -fno-strict-aliasing -pipe -fstack-protector -I/usr/local/include'
ccversion='', gccversion='4.2.1 20070831 patched [FreeBSD]', gccosandvers=''
intsize=4, longsize=8, ptrsize=8, doublesize=8, byteorder=12345678
d_longlong=define, longlongsize=8, d_longdbl=define, longdblsize=16
ivtype='long', ivsize=8, nvtype='double', nvsize=8, Off_t='off_t', lseeksize=8
alignbytes=8, prototype=define
Linker and Libraries:
ld='cc', ldflags ='-Wl,-E -fstack-protector -L/usr/local/lib'
libpth=/usr/lib /usr/local/lib
libs=-lgdbm -lm -lcrypt -lutil -lc
perllibs=-lm -lcrypt -lutil -lc
libc=, so=so, useshrplib=false, libperl=libperl.a
gnulibc_version=''
Dynamic Linking:
dlsrc=dl_dlopen.xs, dlext=so, d_dlsymun=undef, ccdlflags=' '
cccdlflags='-DPIC -fPIC', lddlflags='-shared -L/usr/local/lib -fstack-protector'
Characteristics of this binary (from libperl):
Compile-time options: PERL_DONT_CREATE_GVSV PERL_MALLOC_WRAP USE_64_BIT_ALL
USE_64_BIT_INT USE_LARGE_FILES USE_PERLIO
Built under freebsd
Compiled at May 15 2014 23:30:26
%ENV:
PERL5LIB=""
PERL5OPT=""
PERL5_CPANPLUS_IS_RUNNING="34390"
PERL5_CPAN_IS_RUNNING="34390"
PERL5_CPAN_IS_RUNNING_IN_RECURSION="21178,34390"
PERLDOC="-MPod::Perldoc::ToTextOverstrike"
PERL_BATCH="yes"
PERL_CANARY_STABILITY_NOPROMPT="1"
PERL_CPAN_REPORTER_CONFIG="/var/tmp/cpansmoker-1023/2019011919/cpanreporter_000_config.ini"
PERL_EXTUTILS_AUTOINSTALL="--defaultdeps"
PERL_USE_UNSAFE_INC="1"
@INC:
/usr/perl5.10.1/lib/5.10.1/amd64-freebsd
/usr/perl5.10.1/lib/5.10.1
/usr/perl5.10.1/lib/site_perl/5.10.1/amd64-freebsd
/usr/perl5.10.1/lib/site_perl/5.10.1
.