HTML-Rebase v0.05 Perl 5 v5.8.8 x86_64-linux
- Status
- Pass
- From
- Andreas J. König (ANDK)
- Dist
-
HTML-Rebase v0.05
- Platform
- Perl 5 v5.8.8 x86_64-linux
- Date
- 2018-11-30 18:47:01
- ID
- 52f8460a-f4d0-11e8-a76c-cdfe99c12625
This distribution has been tested as part of the CPAN Testers
project, supporting the Perl programming language. See
http://wiki.cpantesters.org/ for more information or email
questions to cpan-testers-discuss@perl.org
--
Dear Max Maischein,
This is a computer-generated report for HTML-Rebase-0.05
on perl 5.8.8, created by CPAN-Reporter-1.2018.
Thank you for uploading your work to CPAN. Congratulations!
All tests were successful.
Sections of this report:
* Tester comments
* Program output
* Prerequisites
* Environment and other context
------------------------------
TESTER COMMENTS
------------------------------
Additional comments from tester:
this report is from an automated smoke testing program
and was not reviewed by a human for accuracy
------------------------------
PROGRAM OUTPUT
------------------------------
Output from '/usr/bin/make test':
PERL_DL_NONLAZY=1 "/home/sand/src/perl/repoperls/installed-perls/host/k93stretch/perl-5.8.8/21a6/bin/perl" "-MExtUtils::Command::MM" "-MTest::Harness" "-e" "undef *Test::Harness::Switches; test_harness(0, 'blib/lib', 'blib/arch')" t/00-load.t t/01-synopsis.t t/02-quotes.t t/03-base.t t/04-case.t t/05-rebase-css.t t/06-relative-url.t
# Testing HTML::Rebase 0.05, Perl 5.008008
# AutoLoader 5.60
# Carp 1.50
# Config <unknown>
# Cwd 3.75
# DynaLoader 1.05
# Encode 2.12
# Encode::Alias 2.04
# Encode::Config 2.01
# Encode::Encoding 2.02
# Exporter 5.58
# Exporter::Heavy 5.58
# ExtUtils::Liblist 7.34
# ExtUtils::Liblist::Kid 7.34
# ExtUtils::MM 7.34
# ExtUtils::MM_Any 7.34
# ExtUtils::MM_Unix 7.34
# ExtUtils::MY 7.34
# ExtUtils::MakeMaker 7.34
# ExtUtils::MakeMaker::Config 7.34
# ExtUtils::MakeMaker::Locale 7.34
# ExtUtils::MakeMaker::version 7.34
# File::Basename 2.74
# File::Glob 1.05
# File::Path 2.16
# File::Spec 3.75
# File::Spec::Unix 3.75
# HTML::Rebase 0.05
# I18N::Langinfo 0.02
# List::Util 1.5
# POSIX 1.09
# PerlIO 1.04
# Scalar::Util 1.5
# Test::Builder 1.302140
# Test::Builder::Formatter 1.302140
# Test::Builder::Module 1.302140
# Test::Builder::TodoDiag 1.302140
# Test::More 1.302140
# Test2::API 1.302140
# Test2::API::Context 1.302140
# Test2::API::Instance 1.302140
# Test2::API::Stack 1.302140
# Test2::Event 1.302140
# Test2::Event::Bail 1.302140
# Test2::Event::Diag 1.302140
# Test2::Event::Exception 1.302140
# Test2::Event::Fail 1.302140
# Test2::Event::Note 1.302140
# Test2::Event::Ok 1.302140
# Test2::Event::Pass 1.302140
# Test2::Event::Plan 1.302140
# Test2::Event::Skip 1.302140
# Test2::Event::Subtest 1.302140
# Test2::Event::V2 1.302140
# Test2::Event::Waiting 1.302140
# Test2::EventFacet 1.302140
# Test2::EventFacet::About 1.302140
# Test2::EventFacet::Amnesty 1.302140
# Test2::EventFacet::Assert 1.302140
# Test2::EventFacet::Control 1.302140
# Test2::EventFacet::Error 1.302140
# Test2::EventFacet::Hub 1.302140
# Test2::EventFacet::Info 1.302140
# Test2::EventFacet::Meta 1.302140
# Test2::EventFacet::Parent 1.302140
# Test2::EventFacet::Plan 1.302140
# Test2::EventFacet::Trace 1.302140
# Test2::Formatter 1.302140
# Test2::Formatter::TAP 1.302140
# Test2::Hub 1.302140
# Test2::Hub::Interceptor 1.302140
# Test2::Hub::Interceptor::Terminator 1.302140
# Test2::Hub::Subtest 1.302140
# Test2::Util 1.302140
# Test2::Util::ExternalMeta 1.302140
# Test2::Util::Facets2Legacy 1.302140
# Test2::Util::HashBase 1.302140
# Test2::Util::Trace 1.302140
# URI 1.74
# URI::Escape 3.31
# URI::URL 5.04
# URI::WithBase 2.20
# XSLoader 0.06
# base 2.07
# bytes 1.02
# constant 1.05
# if 0.05
# locale 1.00
# overload 1.04
# parent 0.237
# re 0.05
# strict 1.03
# vars 1.01
# version 0.9924
# version::regex 0.9924
# version::vpp 0.9924
# warnings 1.05
# warnings::register 1.01
t/00-load.t .......... ok
t/01-synopsis.t ...... ok
t/02-quotes.t ........ ok
t/03-base.t .......... ok
t/04-case.t .......... ok
t/05-rebase-css.t .... ok
t/06-relative-url.t .. ok
All tests successful.
Files=7, Tests=12, 4 wallclock secs ( 0.06 usr 0.02 sys + 0.58 cusr 0.12 csys = 0.78 CPU)
Result: PASS
------------------------------
PREREQUISITES
------------------------------
Prerequisite modules loaded:
requires:
Module Need Have
------------------- ----- --------
Carp 0 1.50
Exporter 5 5.58
perl 5.006 5.008008
URI::URL 0 5.04
URI::WithBase 0 2.20
build_requires:
Module Need Have
------------------- ----- --------
ExtUtils::MakeMaker 0 7.34
Test::More 0 1.302140
configure_requires:
Module Need Have
------------------- ----- --------
ExtUtils::MakeMaker 0 7.34
------------------------------
ENVIRONMENT AND OTHER CONTEXT
------------------------------
Environment variables:
AUTOMATED_TESTING = 1
LANG = C
PATH = /home/sand/bin:/usr/local/bin:/usr/bin:/bin:/usr/games:/usr/local/perl/bin:/usr/X11/bin:/sbin:/usr/sbin
PERL5LIB = /tmp/loop_over_bdir-7982-k1m4hl/URI-1.74-0/blib/arch:/tmp/loop_over_bdir-7982-k1m4hl/URI-1.74-0/blib/lib:/tmp/loop_over_bdir-7982-k1m4hl/Test-Needs-0.002005-0/blib/arch:/tmp/loop_over_bdir-7982-k1m4hl/Test-Needs-0.002005-0/blib/lib
PERL5OPT =
PERL5_CPANPLUS_IS_RUNNING = 7983
PERL5_CPAN_IS_RUNNING = 7983
PERL_CANARY_STABILITY_NOPROMPT = 1
PERL_MM_USE_DEFAULT = 1
PERL_USE_UNSAFE_INC = 1
SHELL = /usr/bin/zsh
TERM = screen
Perl special variables (and OS-specific diagnostics, for MSWin32):
$^X = /home/sand/src/perl/repoperls/installed-perls/host/k93stretch/perl-5.8.8/21a6/bin/perl
$UID/$EUID = 1005 / 1005
$GID = 1005 1005
$EGID = 1005 1005
Perl module toolchain versions installed:
Module Have
------------------- --------
CPAN 2.21
CPAN::Meta 2.150010
Cwd 3.75
ExtUtils::CBuilder 0.280230
ExtUtils::Command 7.34
ExtUtils::Install 2.06
ExtUtils::MakeMaker 7.34
ExtUtils::Manifest 1.70
ExtUtils::ParseXS 3.35
File::Spec 3.75
JSON n/a
JSON::PP 2.97001
Module::Build 0.4224
Module::Signature 0.83
Parse::CPAN::Meta 2.150010
Test::Harness 3.42
Test::More 1.302140
YAML 1.27
YAML::Syck 1.31
version 0.9924
--
Summary of my perl5 (revision 5 version 8 subversion 8) configuration:
Platform:
osname=linux, osvers=4.9.0-8-amd64, archname=x86_64-linux
uname='linux k93stretch 4.9.0-8-amd64 #1 smp debian 4.9.130-2 (2018-10-27) x86_64 gnulinux '
config_args='-Dprefix=/home/sand/src/perl/repoperls/installed-perls/host/k93stretch/perl-5.8.8/21a6 -Dmyhostname=k93stretch -Dinstallusrbinperl=n -Uversiononly -Dusedevel -des -Ui_db -Dlibswanted=cl pthread socket inet nsl gdbm dbm malloc dl ld sun m crypt sec util c cposix posix ucb BSD gdbm_compat -Uuseithreads -Uuselongdouble -Doptimize=-g'
hint=recommended, useposix=true, d_sigaction=define
usethreads=undef use5005threads=undef useithreads=undef usemultiplicity=undef
useperlio=define d_sfio=undef uselargefiles=define usesocks=undef
use64bitint=define use64bitall=define uselongdouble=undef
usemymalloc=n, bincompat5005=undef
Compiler:
cc='cc', ccflags ='-DDEBUGGING -fno-strict-aliasing -pipe -Wdeclaration-after-statement -I/usr/local/include -D_LARGEFILE_SOURCE -D_FILE_OFFSET_BITS=64',
optimize='-g',
cppflags='-DDEBUGGING -fno-strict-aliasing -pipe -Wdeclaration-after-statement -I/usr/local/include'
ccversion='', gccversion='6.3.0 20170516', gccosandvers=''
intsize=4, longsize=8, ptrsize=8, doublesize=8, byteorder=12345678
d_longlong=define, longlongsize=8, d_longdbl=define, longdblsize=16
ivtype='long', ivsize=8, nvtype='double', nvsize=8, Off_t='off_t', lseeksize=8
alignbytes=8, prototype=define
Linker and Libraries:
ld='cc', ldflags =' -L/usr/local/lib'
libpth=/usr/local/lib /lib/x86_64-linux-gnu /lib/../lib /usr/lib/x86_64-linux-gnu /usr/lib/../lib /lib /usr/lib
libs=-lpthread -lnsl -ldl -lm -lcrypt -lutil -lc
perllibs=-lpthread -lnsl -ldl -lm -lcrypt -lutil -lc
libc=libc-2.24.so, so=so, useshrplib=false, libperl=libperl.a
gnulibc_version='2.24'
Dynamic Linking:
dlsrc=dl_dlopen.xs, dlext=so, d_dlsymun=undef, ccdlflags='-Wl,-E'
cccdlflags='-fpic', lddlflags='-shared -L/usr/local/lib'
Characteristics of this binary (from libperl):
Compile-time options: DEBUGGING PERL_MALLOC_WRAP USE_64_BIT_ALL
USE_64_BIT_INT USE_LARGE_FILES USE_PERLIO
Built under linux
Compiled at Nov 14 2018 03:14:46
%ENV:
PERL5LIB="/tmp/loop_over_bdir-7982-k1m4hl/URI-1.74-0/blib/arch:/tmp/loop_over_bdir-7982-k1m4hl/URI-1.74-0/blib/lib:/tmp/loop_over_bdir-7982-k1m4hl/Test-Needs-0.002005-0/blib/arch:/tmp/loop_over_bdir-7982-k1m4hl/Test-Needs-0.002005-0/blib/lib"
PERL5OPT=""
PERL5_CPANPLUS_IS_RUNNING="7983"
PERL5_CPAN_IS_RUNNING="7983"
PERL_CANARY_STABILITY_NOPROMPT="1"
PERL_MM_USE_DEFAULT="1"
PERL_USE_UNSAFE_INC="1"
@INC:
/tmp/loop_over_bdir-7982-k1m4hl/URI-1.74-0/blib/arch
/tmp/loop_over_bdir-7982-k1m4hl/URI-1.74-0/blib/lib
/tmp/loop_over_bdir-7982-k1m4hl/Test-Needs-0.002005-0/blib/arch
/tmp/loop_over_bdir-7982-k1m4hl/Test-Needs-0.002005-0/blib/lib
/home/sand/src/perl/repoperls/installed-perls/host/k93stretch/perl-5.8.8/21a6/lib/5.8.8/x86_64-linux
/home/sand/src/perl/repoperls/installed-perls/host/k93stretch/perl-5.8.8/21a6/lib/5.8.8
/home/sand/src/perl/repoperls/installed-perls/host/k93stretch/perl-5.8.8/21a6/lib/site_perl/5.8.8/x86_64-linux
/home/sand/src/perl/repoperls/installed-perls/host/k93stretch/perl-5.8.8/21a6/lib/site_perl/5.8.8
/home/sand/src/perl/repoperls/installed-perls/host/k93stretch/perl-5.8.8/21a6/lib/site_perl
.