Report for Soar-Production-0.03

Back
From: metabase:user:314402c4-2aae-11df-837a-5e0a49663a4f
Subject: PASS Soar-Production-0.03 v5.18.4 GNU/Linux
Date: 2016-02-16T10:44:58Z

This distribution has been tested as part of the CPAN Testers
project, supporting the Perl programming language.  See
http://wiki.cpantesters.org/ for more information or email
questions to cpan-testers-discuss@perl.org


--
Dear Nathan Gary Glenn,

This is a computer-generated report for Soar-Production-0.03
on perl 5.18.4, created by CPAN-Reporter-1.2015.

Thank you for uploading your work to CPAN.  Congratulations!
All tests were successful.

Sections of this report:

    * Tester comments
    * Program output
    * Prerequisites
    * Environment and other context

------------------------------
TESTER COMMENTS
------------------------------

Additional comments from tester:

none provided

------------------------------
PROGRAM OUTPUT
------------------------------

Output from './Build test':

t/0-use.t ........................ ok
t/00-compile.t ................... ok
# 
# 
# Generated by Dist::Zilla::Plugin::ReportVersions::Tiny v1.08
# perl: 5.018004 (wanted 5.010) on linux from /bbbike/perl-5.18.4/bin/perl
# 
# Carp                                          => 1.36       (want any version)
# Data::Diver                                   => 1.0101     (want any version)
# Data::Dumper                                  => 2.154      (want any version)
# Exporter::Easy                                => 0.17       (want any version)
# File::Find                                    => 1.23       (want any version)
# File::Spec                                    => 3.62       (want any version)
# File::Spec::Functions                         => 3.62       (want any version)
# File::Temp                                    => 0.2304     (want any version)
# FindBin                                       => 1.51       (want any version)
# Module::Build                                 => 0.4214     (want 0.3601) 
# Parse::RecDescent                             => 1.967013   (want any version)
# Path::Tiny                                    => 0.079      (want any version)
# Pod::Coverage::TrustPod                       => 0.100003   (want any version)
# Test::Base                                    => 0.88       (want any version)
# Test::Base::Filter                            => <undef>    (want any version)
# Test::CPAN::Meta                              => 0.23       (want any version)
# Test::Deep                                    => 0.119      (want any version)
# Test::Exception                               => 0.41       (want any version)
# Test::LongString                              => 0.17       (want any version)
# Test::More                                    => 1.001014   (want 0.88)   
# Test::Pod                                     => 1.51       (want 1.41)   
# Test::Pod::Coverage                           => 1.10       (want 1.08)   
# Test::Warn                                    => 0.30       (want any version)
# strict                                        => 1.07       (want any version)
# utf8                                          => 1.10       (want any version)
# version                                       => 0.9912     (want 0.9901) 
# warnings                                      => 1.18       (want any version)
# 
# Thanks for using my code.  I hope it works for you.
# If not, please try and include this output in the bug report.
# That will help me reproduce the issue and solve your problem.
# 
t/000-report-versions-tiny.t ..... ok
t/1-basic.t ...................... ok
t/parser/00-use.t ................ ok
t/parser/01-bad_input.t .......... ok
t/parser/01_5-comments.t ......... ok
t/parser/02-split-productions.t .. ok
t/parser/03-production-names.t ... ok
t/parser/04-documentation.t ...... ok
t/parser/05-Flags.t .............. ok
t/parser/06-State.t .............. ok
t/parser/07-variables.t .......... ok
t/parser/08-attributes.t ......... ok
t/parser/09-int.t ................ ok
t/parser/10-float.t .............. ok
t/parser/11-string.t ............. ok
t/parser/12-quoted.t ............. ok
t/parser/13-disjunct.t ........... ok
t/parser/14-conjunct.t ........... ok
t/parser/15-predicate.t .......... ok
t/parser/16-preference.t ......... ok
t/parser/17-function.t ........... ok
t/parser/18-negative.t ........... ok
t/parser/19-conjunctiveCond.t .... ok
t/parser/20-test_data.t .......... ok
t/printer/0-use.t ................ ok
t/printer/1-test_data.t .......... ok
All tests successful.
Files=28, Tests=1816, 63 wallclock secs ( 0.22 usr  0.23 sys + 60.99 cusr  1.49 csys = 62.93 CPU)
Result: PASS

------------------------------
PREREQUISITES
------------------------------

Prerequisite modules loaded:

requires:

    Module                Need   Have    
    --------------------- ------ --------
    Carp                  0      1.36    
    Data::Dumper          0      2.154   
    Exporter::Easy        0      0.17    
    Parse::RecDescent     0      1.967013
    perl                  5.010  5.018004
    strict                0      1.07    
    warnings              0      1.18    

build_requires:

    Module                Need   Have    
    --------------------- ------ --------
    Data::Diver           0      1.0101  
    File::Find            0      1.23    
    File::Spec            0      3.62    
    File::Spec::Functions 0      3.62    
    File::Temp            0      0.2304  
    FindBin               0      1.51    
    Module::Build         0.3601 0.4214  
    Path::Tiny            0      0.079   
    Test::Base            0      0.88    
    Test::Base::Filter    0      0       
    Test::Deep            0      0.119   
    Test::Exception       0      0.41    
    Test::LongString      0      0.17    
    Test::More            0.88   1.001014
    Test::Warn            0      0.30    
    utf8                  0      1.10    

configure_requires:

    Module                Need   Have    
    --------------------- ------ --------
    Module::Build         0.3601 0.4214  


------------------------------
ENVIRONMENT AND OTHER CONTEXT
------------------------------

Environment variables:

    LANG = C
    PATH = /usr/local/bin:/usr/bin:/bin:/usr/local/sbin:/usr/sbin:/sbin:/home/cpansand/bin/linux-gnu:/home/cpansand/bin/sh:/home/cpansand/bin:/usr/games:/home/cpansand/devel:/home/eserte/src/srezic-misc/scripts
    PERL5LIB = /home/cpansand/.cpan/build/2016021606/Pod-Eventual-Reconstruct-1.000001-wy1qKJ/blib/arch:/home/cpansand/.cpan/build/2016021606/Pod-Eventual-Reconstruct-1.000001-wy1qKJ/blib/lib:/home/cpansand/.cpan/build/2016021606/Rose-Planter-0.37-WQtg9G/blib/arch:/home/cpansand/.cpan/build/2016021606/Rose-Planter-0.37-WQtg9G/blib/lib:/home/cpansand/.cpan/build/2016021606/Rose-0.10-q96RuZ/blib/arch:/home/cpansand/.cpan/build/2016021606/Rose-0.10-q96RuZ/blib/lib:/home/cpansand/.cpan/build/2016021606/Dist-Zilla-Plugin-MapMetro-MakeLinePod-0.1202-TVLH6A/blib/arch:/home/cpansand/.cpan/build/2016021606/Dist-Zilla-Plugin-MapMetro-MakeLinePod-0.1202-TVLH6A/blib/lib:/home/cpansand/.cpan/build/2016021606/Config-FromHash-0.0800-Y6We7y/blib/arch:/home/cpansand/.cpan/build/2016021606/Config-FromHash-0.0800-Y6We7y/blib/lib:/home/cpansand/.cpan/build/2016021606/Group-Git-v0.5.7-zascSF/blib/arch:/home/cpansand/.cpan/build/2016021606/Group-Git-v0.5.7-zascSF/blib/lib:/home/cpansand/.cpan/build/2016021606/Dist-Zilla-PluginBundle-Author-HAYOBAAN-0.009-9FhQcX/blib/arch:/home/cpansand/.cpan/build/2016021606/Dist-Zilla-PluginBundle-Author-HAYOBAAN-0.009-9FhQcX/blib/lib:/home/cpansand/.cpan/build/2016021606/Path-Tiny-0.079-m5PUIn/blib/arch:/home/cpansand/.cpan/build/2016021606/Path-Tiny-0.079-m5PUIn/blib/lib
    PERL5OPT = 
    PERL5_CPANPLUS_IS_RUNNING = 27050
    PERL5_CPAN_IS_RUNNING = 27050
    PERL5_CPAN_IS_RUNNING_IN_RECURSION = 19306,27050
    PERLDOC = -MPod::Perldoc::ToTextOverstrike
    PERL_BATCH = yes
    PERL_CANARY_STABILITY_NOPROMPT = 1
    PERL_CPAN_REPORTER_CONFIG = /var/tmp/cpansmoker-1023/2016021606/cpanreporter_001_config.ini
    PERL_EXTUTILS_AUTOINSTALL = --defaultdeps
    SHELL = /bin/zsh
    TERM = screen
    TMPDIR = /var/tmp/cpansmoker-1023/2016021606

Perl special variables (and OS-specific diagnostics, for MSWin32):

    $^X = /bbbike/perl-5.18.4/bin/perl
    $UID/$EUID = 1023 / 1023
    $GID = 1023 1023
    $EGID = 1023 1023

Perl module toolchain versions installed:

    Module              Have    
    ------------------- --------
    CPAN                2.05    
    CPAN::Meta          2.150005
    Cwd                 3.62    
    ExtUtils::CBuilder  0.280220
    ExtUtils::Command   7.10    
    ExtUtils::Install   2.04    
    ExtUtils::MakeMaker 7.10    
    ExtUtils::Manifest  1.68    
    ExtUtils::ParseXS   3.24    
    File::Spec          3.62    
    JSON                2.90    
    JSON::PP            2.27300 
    Module::Build       0.4214  
    Module::Signature   0.73    
    Parse::CPAN::Meta   1.4414  
    Test::Harness       3.36    
    Test::More          1.001014
    YAML                1.15    
    YAML::Syck          1.29    
    version             0.9912  


--

Summary of my perl5 (revision 5 version 18 subversion 4) configuration:
   
  Platform:
    osname=linux, osvers=3.2.0-4-amd64, archname=x86_64-linux
    uname='linux eserte 3.2.0-4-amd64 #1 smp debian 3.2.60-1+deb7u3 x86_64 gnulinux '
    config_args='-ds -e -Dprefix=/opt/perl-5.18.4'
    hint=recommended, useposix=true, d_sigaction=define
    useithreads=undef, usemultiplicity=undef
    useperlio=define, d_sfio=undef, uselargefiles=define, usesocks=undef
    use64bitint=define, use64bitall=define, uselongdouble=undef
    usemymalloc=n, bincompat5005=undef
  Compiler:
    cc='cc', ccflags ='-fno-strict-aliasing -pipe -fstack-protector -I/usr/local/include -D_LARGEFILE_SOURCE -D_FILE_OFFSET_BITS=64',
    optimize='-O2',
    cppflags='-fno-strict-aliasing -pipe -fstack-protector -I/usr/local/include'
    ccversion='', gccversion='4.7.2', gccosandvers=''
    intsize=4, longsize=8, ptrsize=8, doublesize=8, byteorder=12345678
    d_longlong=define, longlongsize=8, d_longdbl=define, longdblsize=16
    ivtype='long', ivsize=8, nvtype='double', nvsize=8, Off_t='off_t', lseeksize=8
    alignbytes=8, prototype=define
  Linker and Libraries:
    ld='cc', ldflags =' -fstack-protector -L/usr/local/lib'
    libpth=/usr/local/lib /lib/x86_64-linux-gnu /lib/../lib /usr/lib/x86_64-linux-gnu /usr/lib/../lib /lib /usr/lib
    libs=-lnsl -ldb -ldl -lm -lcrypt -lutil -lc
    perllibs=-lnsl -ldl -lm -lcrypt -lutil -lc
    libc=, so=so, useshrplib=false, libperl=libperl.a
    gnulibc_version='2.13'
  Dynamic Linking:
    dlsrc=dl_dlopen.xs, dlext=so, d_dlsymun=undef, ccdlflags='-Wl,-E'
    cccdlflags='-fPIC', lddlflags='-shared -O2 -L/usr/local/lib -fstack-protector'


Characteristics of this binary (from libperl): 
  Compile-time options: HAS_TIMES PERLIO_LAYERS PERL_DONT_CREATE_GVSV
                        PERL_HASH_FUNC_ONE_AT_A_TIME_HARD PERL_MALLOC_WRAP
                        PERL_PRESERVE_IVUV PERL_SAWAMPERSAND USE_64_BIT_ALL
                        USE_64_BIT_INT USE_LARGE_FILES USE_LOCALE
                        USE_LOCALE_COLLATE USE_LOCALE_CTYPE
                        USE_LOCALE_NUMERIC USE_PERLIO USE_PERL_ATOF
  Built under linux
  Compiled at Oct  2 2014 05:37:02
  %ENV:
    PERL5LIB="/home/cpansand/.cpan/build/2016021606/Pod-Eventual-Reconstruct-1.000001-wy1qKJ/blib/arch:/home/cpansand/.cpan/build/2016021606/Pod-Eventual-Reconstruct-1.000001-wy1qKJ/blib/lib:/home/cpansand/.cpan/build/2016021606/Rose-Planter-0.37-WQtg9G/blib/arch:/home/cpansand/.cpan/build/2016021606/Rose-Planter-0.37-WQtg9G/blib/lib:/home/cpansand/.cpan/build/2016021606/Rose-0.10-q96RuZ/blib/arch:/home/cpansand/.cpan/build/2016021606/Rose-0.10-q96RuZ/blib/lib:/home/cpansand/.cpan/build/2016021606/Dist-Zilla-Plugin-MapMetro-MakeLinePod-0.1202-TVLH6A/blib/arch:/home/cpansand/.cpan/build/2016021606/Dist-Zilla-Plugin-MapMetro-MakeLinePod-0.1202-TVLH6A/blib/lib:/home/cpansand/.cpan/build/2016021606/Config-FromHash-0.0800-Y6We7y/blib/arch:/home/cpansand/.cpan/build/2016021606/Config-FromHash-0.0800-Y6We7y/blib/lib:/home/cpansand/.cpan/build/2016021606/Group-Git-v0.5.7-zascSF/blib/arch:/home/cpansand/.cpan/build/2016021606/Group-Git-v0.5.7-zascSF/blib/lib:/home/cpansand/.cpan/build/2016021606/Dist-Zilla-PluginBundle-Author-HAYOBAAN-0.009-9FhQcX/blib/arch:/home/cpansand/.cpan/build/2016021606/Dist-Zilla-PluginBundle-Author-HAYOBAAN-0.009-9FhQcX/blib/lib:/home/cpansand/.cpan/build/2016021606/Path-Tiny-0.079-m5PUIn/blib/arch:/home/cpansand/.cpan/build/2016021606/Path-Tiny-0.079-m5PUIn/blib/lib"
    PERL5OPT=""
    PERL5_CPANPLUS_IS_RUNNING="27050"
    PERL5_CPAN_IS_RUNNING="27050"
    PERL5_CPAN_IS_RUNNING_IN_RECURSION="19306,27050"
    PERLDOC="-MPod::Perldoc::ToTextOverstrike"
    PERL_BATCH="yes"
    PERL_CANARY_STABILITY_NOPROMPT="1"
    PERL_CPAN_REPORTER_CONFIG="/var/tmp/cpansmoker-1023/2016021606/cpanreporter_001_config.ini"
    PERL_EXTUTILS_AUTOINSTALL="--defaultdeps"
  @INC:
    /home/cpansand/.cpan/build/2016021606/Pod-Eventual-Reconstruct-1.000001-wy1qKJ/blib/arch
    /home/cpansand/.cpan/build/2016021606/Pod-Eventual-Reconstruct-1.000001-wy1qKJ/blib/lib
    /home/cpansand/.cpan/build/2016021606/Rose-Planter-0.37-WQtg9G/blib/arch
    /home/cpansand/.cpan/build/2016021606/Rose-Planter-0.37-WQtg9G/blib/lib
    /home/cpansand/.cpan/build/2016021606/Rose-0.10-q96RuZ/blib/arch
    /home/cpansand/.cpan/build/2016021606/Rose-0.10-q96RuZ/blib/lib
    /home/cpansand/.cpan/build/2016021606/Dist-Zilla-Plugin-MapMetro-MakeLinePod-0.1202-TVLH6A/blib/arch
    /home/cpansand/.cpan/build/2016021606/Dist-Zilla-Plugin-MapMetro-MakeLinePod-0.1202-TVLH6A/blib/lib
    /home/cpansand/.cpan/build/2016021606/Config-FromHash-0.0800-Y6We7y/blib/arch
    /home/cpansand/.cpan/build/2016021606/Config-FromHash-0.0800-Y6We7y/blib/lib
    /home/cpansand/.cpan/build/2016021606/Group-Git-v0.5.7-zascSF/blib/arch
    /home/cpansand/.cpan/build/2016021606/Group-Git-v0.5.7-zascSF/blib/lib
    /home/cpansand/.cpan/build/2016021606/Dist-Zilla-PluginBundle-Author-HAYOBAAN-0.009-9FhQcX/blib/arch
    /home/cpansand/.cpan/build/2016021606/Dist-Zilla-PluginBundle-Author-HAYOBAAN-0.009-9FhQcX/blib/lib
    /home/cpansand/.cpan/build/2016021606/Path-Tiny-0.079-m5PUIn/blib/arch
    /home/cpansand/.cpan/build/2016021606/Path-Tiny-0.079-m5PUIn/blib/lib
    /opt/perl-5.18.4/lib/site_perl/5.18.4/x86_64-linux
    /opt/perl-5.18.4/lib/site_perl/5.18.4
    /opt/perl-5.18.4/lib/5.18.4/x86_64-linux
    /opt/perl-5.18.4/lib/5.18.4
    .