Report for Dist-Zilla-PluginBundle-BioPerl-0.02

Back
From: metabase:user:314402c4-2aae-11df-837a-5e0a49663a4f
Subject: PASS Dist-Zilla-PluginBundle-BioPerl-0.02 v5.14.2 FreeBSD
Date: 2012-04-11T00:28:56Z

This distribution has been tested as part of the CPAN Testers
project, supporting the Perl programming language.  See
http://wiki.cpantesters.org/ for more information or email
questions to cpan-testers-discuss@perl.org


--
Dear Christopher Fields,

This is a computer-generated report for Dist-Zilla-PluginBundle-BioPerl-0.02
on perl 5.14.2, created by CPAN-Reporter-1.2005.

Thank you for uploading your work to CPAN.  Congratulations!
All tests were successful.

Sections of this report:

    * Tester comments
    * Program output
    * Prerequisites
    * Environment and other context

------------------------------
TESTER COMMENTS
------------------------------

Additional comments from tester:

none provided

------------------------------
PROGRAM OUTPUT
------------------------------

Output from '/usr/bin/make test':

PERL_DL_NONLAZY=1 /usr/home/cpansand/var/ctps/5159/install/perl-v5.14.2/bin/perl "-MExtUtils::Command::MM" "-e" "test_harness(0, 'blib/lib', 'blib/arch')" t/*.t
t/00-compile.t ............ ok
t/release-eol.t ........... skipped: these tests are for release candidate testing
t/release-no-tabs.t ....... skipped: these tests are for release candidate testing
t/release-pod-coverage.t .. skipped: these tests are for release candidate testing
t/release-pod-syntax.t .... skipped: these tests are for release candidate testing
All tests successful.
Files=5, Tests=1,  4 wallclock secs ( 0.04 usr  0.02 sys +  1.30 cusr  0.09 csys =  1.45 CPU)
Result: PASS

------------------------------
PREREQUISITES
------------------------------

Prerequisite modules loaded:

requires:

    Module                                Need Have    
    ------------------------------------- ---- --------
  ! Dist::Zilla::Plugin::Authority        0    broken  
    Dist::Zilla::Plugin::AutoPrereqs      0    4.300014
    Dist::Zilla::Plugin::EOLTests         0.02 0.02    
  ! Dist::Zilla::Plugin::Git::Tag         0    broken  
  ! Dist::Zilla::Plugin::MetaConfig       0    broken  
  ! Dist::Zilla::Plugin::MetaJSON         0    broken  
  ! Dist::Zilla::Plugin::MetaResources    3    broken  
  ! Dist::Zilla::Plugin::NextRelease      0    broken  
  ! Dist::Zilla::Plugin::NoTabsTests      0    broken  
    Dist::Zilla::Plugin::PodWeaver        0    3.101641
  ! Dist::Zilla::Plugin::TaskWeaver       0    broken  
  ! Dist::Zilla::Plugin::Test::Compile    0    broken  
  ! Dist::Zilla::PluginBundle::Classic    0    broken  
  ! Dist::Zilla::PluginBundle::Filter     0    broken  
  ! Dist::Zilla::PluginBundle::FLORA      0    broken  
  ! Dist::Zilla::Role::PluginBundle::Easy 0    broken  
    Method::Signatures::Simple            0    1.02    
    Moose                                 1.00 2.0403  
  ! Moose::Util::TypeConstraints          0    broken  
  ! MooseX::Types::Email                  0    broken  
    MooseX::Types::Moose                  0    0.31    
    MooseX::Types::Structured             0.20 0.28    
  ! MooseX::Types::URI                    0    broken  
    namespace::autoclean                  0    0.13    
    Pod::Weaver::PluginBundle::FLORA      0.03 0.03    

build_requires:

    Module                                Need Have    
    ------------------------------------- ---- --------
    File::Find                            0    1.19    
    File::Temp                            0    0.22    
    strict                                0    1.04    
    Test::More                            0    0.98    
    warnings                              0    1.12    

configure_requires:

    Module                                Need Have    
    ------------------------------------- ---- --------
    ExtUtils::MakeMaker                   6.30 6.62    


------------------------------
ENVIRONMENT AND OTHER CONTEXT
------------------------------

Environment variables:

    DBIC_NO_WARN_BAD_PERL = 1
    PATH = /usr/local/bin:/usr/X11R6/bin:/usr/X11/bin:/usr/perl5.8.0/bin:/usr/bin:/bin:/usr/local/sbin:/usr/sbin:/sbin:/usr/local/pilot/bin:/home/cpansand/bin/freebsd8.0:/home/cpansand/bin/sh:/home/cpansand/bin:/usr/X386/bin:/usr/games:/home/cpansand/devel:/usr/home/e/eserte/src/perl/CPAN-Testers-ParallelSmoker/utils
    PERL5LIB = 
    PERL5OPT = 
    PERL5_CPANPLUS_IS_RUNNING = 81867
    PERL5_CPAN_IS_RUNNING = 81867
    PERL5_CPAN_IS_RUNNING_IN_RECURSION = 40948,81867
    PERL_BATCH = yes
    PERL_CPAN_REPORTER_DIR = /home/cpansand/var/ctps/5159/config/perl-v5.14.2/cpanreporter
    PERL_EXTUTILS_AUTOINSTALL = --defaultdeps
    PERL_HTML_DISPLAY_CLASS = HTML::Display::Mozilla
    PERL_PARALLEL_SMOKER = yes
    PERL_TEST_UNPATCHED = 1
    SHELL = /usr/local/bin/zsh
    TERM = xterm
    TMPDIR = /var/tmp/cpansmoker-1023

Perl special variables (and OS-specific diagnostics, for MSWin32):

    $^X = /usr/home/cpansand/var/ctps/5159/install/perl-v5.14.2/bin/perl
    $UID/$EUID = 1023 / 1023
    $GID = 1023 1023
    $EGID = 1023 1023

Perl module toolchain versions installed:

    Module              Have     
    ------------------- ---------
    CPAN                1.9600_01
    CPAN::Meta          2.120921 
    Cwd                 3.36     
    ExtUtils::CBuilder  0.280203 
    ExtUtils::Command   1.17     
    ExtUtils::Install   1.56     
    ExtUtils::MakeMaker 6.62     
    ExtUtils::Manifest  1.60     
    ExtUtils::ParseXS   3.15     
    File::Spec          3.33     
    JSON                2.53     
    JSON::PP            2.27200  
    Module::Build       0.40     
    Module::Signature   0.68     
    Parse::CPAN::Meta   1.4404   
    Test::Harness       3.23     
    Test::More          0.98     
    YAML                0.80     
    YAML::Syck          1.20     
    version             0.97     


--

Summary of my perl5 (revision 5 version 14 subversion 2) configuration:
  Commit id: dc281e6088d189558b79a5121119b7196c8b3db0
  Platform:
    osname=freebsd, osvers=8.0-release-p4, archname=i386-freebsd
    uname='freebsd biokovo.herceg.de 8.0-release-p4 freebsd 8.0-release-p4 #0: mon jul 12 20:22:27 utc 2010 root@i386-builder.daemonology.net:usrobjusrsrcsysgeneric i386 '
    config_args='-ds -e -Uversiononly -Dinstallusrbinperl=n -Dusedevel -Dprefix=/home/e/eserte/var/ctps/5159/install/perl-v5.14.2'
    hint=recommended, useposix=true, d_sigaction=define
    useithreads=undef, usemultiplicity=undef
    useperlio=define, d_sfio=undef, uselargefiles=define, usesocks=undef
    use64bitint=undef, use64bitall=undef, uselongdouble=undef
    usemymalloc=n, bincompat5005=undef
  Compiler:
    cc='cc', ccflags ='-DHAS_FPSETMASK -DHAS_FLOATINGPOINT_H -fno-strict-aliasing -pipe -fstack-protector -I/usr/local/include',
    optimize='-O',
    cppflags='-DHAS_FPSETMASK -DHAS_FLOATINGPOINT_H -fno-strict-aliasing -pipe -fstack-protector -I/usr/local/include'
    ccversion='', gccversion='4.2.1 20070719  [FreeBSD]', gccosandvers=''
    intsize=4, longsize=4, ptrsize=4, doublesize=8, byteorder=1234
    d_longlong=define, longlongsize=8, d_longdbl=define, longdblsize=12
    ivtype='long', ivsize=4, nvtype='double', nvsize=8, Off_t='off_t', lseeksize=8
    alignbytes=4, prototype=define
  Linker and Libraries:
    ld='cc', ldflags ='-Wl,-E  -fstack-protector -L/usr/local/lib'
    libpth=/usr/lib /usr/local/lib
    libs=-lgdbm -lm -lcrypt -lutil -lc
    perllibs=-lm -lcrypt -lutil -lc
    libc=, so=so, useshrplib=false, libperl=libperl.a
    gnulibc_version=''
  Dynamic Linking:
    dlsrc=dl_dlopen.xs, dlext=so, d_dlsymun=undef, ccdlflags=' '
    cccdlflags='-DPIC -fPIC', lddlflags='-shared  -L/usr/local/lib -fstack-protector'


Characteristics of this binary (from libperl): 
  Compile-time options: PERL_DONT_CREATE_GVSV PERL_MALLOC_WRAP
                        PERL_PRESERVE_IVUV PERL_USE_DEVEL USE_LARGE_FILES
                        USE_PERLIO USE_PERL_ATOF
  Built under freebsd
  Compiled at Apr  6 2012 12:45:40
  %ENV:
    PERL5LIB=""
    PERL5OPT=""
    PERL5_CPANPLUS_IS_RUNNING="81867"
    PERL5_CPAN_IS_RUNNING="81867"
    PERL5_CPAN_IS_RUNNING_IN_RECURSION="40948,81867"
    PERL_BATCH="yes"
    PERL_CPAN_REPORTER_DIR="/home/cpansand/var/ctps/5159/config/perl-v5.14.2/cpanreporter"
    PERL_EXTUTILS_AUTOINSTALL="--defaultdeps"
    PERL_HTML_DISPLAY_CLASS="HTML::Display::Mozilla"
    PERL_PARALLEL_SMOKER="yes"
    PERL_TEST_UNPATCHED="1"
  @INC:
    /home/e/eserte/var/ctps/5159/install/perl-v5.14.2/lib/site_perl/5.14.2/i386-freebsd
    /home/e/eserte/var/ctps/5159/install/perl-v5.14.2/lib/site_perl/5.14.2
    /home/e/eserte/var/ctps/5159/install/perl-v5.14.2/lib/5.14.2/i386-freebsd
    /home/e/eserte/var/ctps/5159/install/perl-v5.14.2/lib/5.14.2
    .